BEGIN:VCALENDAR
VERSION:2.0
PRODID:-//Eesti doktorikool - ECPv6.15.20//NONSGML v1.0//EN
CALSCALE:GREGORIAN
METHOD:PUBLISH
X-WR-CALNAME:Eesti doktorikool
X-ORIGINAL-URL:https://www.doktorikool.ee/en
X-WR-CALDESC:Events for Eesti doktorikool
REFRESH-INTERVAL;VALUE=DURATION:PT1H
X-Robots-Tag:noindex
X-PUBLISHED-TTL:PT1H
BEGIN:VTIMEZONE
TZID:Europe/Tallinn
BEGIN:DAYLIGHT
TZOFFSETFROM:+0200
TZOFFSETTO:+0300
TZNAME:EEST
DTSTART:20230326T010000
END:DAYLIGHT
BEGIN:STANDARD
TZOFFSETFROM:+0300
TZOFFSETTO:+0200
TZNAME:EET
DTSTART:20231029T010000
END:STANDARD
BEGIN:DAYLIGHT
TZOFFSETFROM:+0200
TZOFFSETTO:+0300
TZNAME:EEST
DTSTART:20240331T010000
END:DAYLIGHT
BEGIN:STANDARD
TZOFFSETFROM:+0300
TZOFFSETTO:+0200
TZNAME:EET
DTSTART:20241027T010000
END:STANDARD
BEGIN:DAYLIGHT
TZOFFSETFROM:+0200
TZOFFSETTO:+0300
TZNAME:EEST
DTSTART:20250330T010000
END:DAYLIGHT
BEGIN:STANDARD
TZOFFSETFROM:+0300
TZOFFSETTO:+0200
TZNAME:EET
DTSTART:20251026T010000
END:STANDARD
END:VTIMEZONE
BEGIN:VEVENT
DTSTART;VALUE=DATE:20240506
DTEND;VALUE=DATE:20240511
DTSTAMP:20260419T205927
CREATED:20240429T130548Z
LAST-MODIFIED:20250106T123934Z
UID:440-1714953600-1715385599@www.doktorikool.ee
SUMMARY:Kirjutamislaager // Writing Camp
DESCRIPTION:Kirjutamislaager toimub 06 – 10. maini Võru-Kubijal. \nEesmärgiks on viia doktorandid igapäeva keskkonnast välja\, et nad saaksid nädala jooksul keskenduda ainult kirjutamisele. Iga päeva pealelõunasse on planeeritud üks ettekanne\, andmaks mõtteid\, nippe ja inspiratsiooni kirjutamiseks. Hommiku- ja lõunasöögi vahele jääv aeg on mõeldud kirjutamiseks. Osalejad on paigutatud üheinimese tubadesse\, kus nad rahulikult kirjutada saavad. Peale lõunat on inspireeriv ettekanne ja seejärel taas aeg kirjutamiseks. Peale õhtusööki on võimalus spaas lõõgastuda ja teiste kirjutajatega mõtteid ning kogemusi vahetada. Ettekanded annavad mõtteid sellest kuidas kirjutada ning millised on võimalused kasutada kirjutamisel tehisintellekti abi. \nRegistreerida saab kirjutades Aune Tammele\, aune.tamm.1@ut.ee \nEesti doktorikooli tehnika ja tehnoloogia haru \n\nThe writing camp will take place from May 6 to 10 in Võru-Kubija. \nThe goal is to take PhD students out of their everyday environment so that they can focus only on writing during the week. A presentation is planned for the afternoon each day\, to give thoughts\, tricks and inspiration for writing. The time between breakfast and lunch is for writing. Participants are placed in single rooms where they can write in peace. After lunch there is an inspiring presentation and then it’s time to write again. After dinner\, there is an opportunity to relax in the spa and exchange thoughts and experiences with other writers. The presentations give ideas about how to write and what are the possibilities of using the help of artificial intelligence in writing. \nTo register\, please write to Aune Tamm\, aune.tamm.1@ut.ee \nEstonian Doctoral School for Engineering and Technology
URL:https://www.doktorikool.ee/en/uritused/kirjutamislaager-writing-camp/
END:VEVENT
BEGIN:VEVENT
DTSTART;VALUE=DATE:20240509
DTEND;VALUE=DATE:20240511
DTSTAMP:20260419T205927
CREATED:20240430T122713Z
LAST-MODIFIED:20240524T084909Z
UID:445-1715212800-1715385599@www.doktorikool.ee
SUMMARY:Eesti Biokeemia Seltsi Kevadseminar 2024 „Biokeemiline suhtlus“ // Estonian Society of Biochemistry Spring Seminar 2024 "Biochemical Communication"
DESCRIPTION:9.-10. mai 2024 Hindreku talu\, Valgma küla\, Järvamaa\, algusega kl. 11.30 \nTegemist on Eesti Biokeemia Seltsi Kevadseminariga\, eriti oodatud on doktorandid. Palun registreeri siin 2. maiks \nKüsimuste korral: ago.rinken@ut.ee \nEesti doktorikooli loodusteaduste ja põllumajandusteaduste haru \n\n9.-10. May 2024 Hindreku farm\, Valgma village\, Järva County\, starting at 11.30 a.m \n  \nThe event is estonian Society of Biochemistry Sring Seminar and specially all doctoral students are welcome. \nPlease register here by May 2nd 2024 \nIn case of questions: ago.rinken@ut.ee \nEstonian Doctoral School for Natural and Agricultural Sciences
URL:https://www.doktorikool.ee/en/uritused/eesti-biokeemia-seltsi-kevaseminar-2024-biokeemiline-suhtlus-estonian-society-of-biochemistry-spring-seminar-2024-biochemical-communication/
END:VEVENT
END:VCALENDAR