BEGIN:VCALENDAR
VERSION:2.0
PRODID:-//Eesti doktorikool - ECPv6.15.20//NONSGML v1.0//EN
CALSCALE:GREGORIAN
METHOD:PUBLISH
X-WR-CALNAME:Eesti doktorikool
X-ORIGINAL-URL:https://www.doktorikool.ee/en
X-WR-CALDESC:Events for Eesti doktorikool
REFRESH-INTERVAL;VALUE=DURATION:PT1H
X-Robots-Tag:noindex
X-PUBLISHED-TTL:PT1H
BEGIN:VTIMEZONE
TZID:Europe/Tallinn
BEGIN:DAYLIGHT
TZOFFSETFROM:+0200
TZOFFSETTO:+0300
TZNAME:EEST
DTSTART:20230326T010000
END:DAYLIGHT
BEGIN:STANDARD
TZOFFSETFROM:+0300
TZOFFSETTO:+0200
TZNAME:EET
DTSTART:20231029T010000
END:STANDARD
BEGIN:DAYLIGHT
TZOFFSETFROM:+0200
TZOFFSETTO:+0300
TZNAME:EEST
DTSTART:20240331T010000
END:DAYLIGHT
BEGIN:STANDARD
TZOFFSETFROM:+0300
TZOFFSETTO:+0200
TZNAME:EET
DTSTART:20241027T010000
END:STANDARD
BEGIN:DAYLIGHT
TZOFFSETFROM:+0200
TZOFFSETTO:+0300
TZNAME:EEST
DTSTART:20250330T010000
END:DAYLIGHT
BEGIN:STANDARD
TZOFFSETFROM:+0300
TZOFFSETTO:+0200
TZNAME:EET
DTSTART:20251026T010000
END:STANDARD
END:VTIMEZONE
BEGIN:VEVENT
DTSTART;VALUE=DATE:20240510
DTEND;VALUE=DATE:20240512
DTSTAMP:20260419T205921
CREATED:20240419T123203Z
LAST-MODIFIED:20240419T123203Z
UID:352-1715299200-1715471999@www.doktorikool.ee
SUMMARY:Reaalteaduste doktorantide konverents 2024/Training Camp 2024: The Art of Giving a Popular Science Talk
DESCRIPTION:Voore Puhkekeskus\, 10.-11. mai\, 2024 \nKoolituse eesmärk on arendada teaduskommunikatsiooni oskusi\, treenida doktorante esitama oma tööd ja eriala reaalteaduste haridusega tavakuulajale lühidalt\, köitvalt\, arusaadavalt ja atraktiivselt. \nRegistreerimislink \nÜrituse veebileht \nKontakt:  Kalle Olli / +3725056239 \nEesti doktorikooli Loodusteaduste ja põllumajandusteaduste haru \n\nVoore guesthouse\, 10-11 May 2024 \nThe aim of the training is to develop scientific communication skills\, to train doctoral students to present their work and expertise to the general public with a science education in a concise\, engaging\, understandable and attractive way. \nRegistration link \nLink to event’s website \nContact: Kalle Olli / +3725056239 \nEstonian Doctoral School for Natural and agricultural sciences
URL:https://www.doktorikool.ee/en/uritused/reaalteaduste-doktorantide-konverents-2024-training-camp-2024-the-art-of-giving-a-popular-science-talk/
END:VEVENT
END:VCALENDAR