BEGIN:VCALENDAR
VERSION:2.0
PRODID:-//Eesti doktorikool - ECPv6.15.20//NONSGML v1.0//EN
CALSCALE:GREGORIAN
METHOD:PUBLISH
X-ORIGINAL-URL:https://www.doktorikool.ee/en
X-WR-CALDESC:Events for Eesti doktorikool
REFRESH-INTERVAL;VALUE=DURATION:PT1H
X-Robots-Tag:noindex
X-PUBLISHED-TTL:PT1H
BEGIN:VTIMEZONE
TZID:Europe/Tallinn
BEGIN:DAYLIGHT
TZOFFSETFROM:+0200
TZOFFSETTO:+0300
TZNAME:EEST
DTSTART:20230326T010000
END:DAYLIGHT
BEGIN:STANDARD
TZOFFSETFROM:+0300
TZOFFSETTO:+0200
TZNAME:EET
DTSTART:20231029T010000
END:STANDARD
BEGIN:DAYLIGHT
TZOFFSETFROM:+0200
TZOFFSETTO:+0300
TZNAME:EEST
DTSTART:20240331T010000
END:DAYLIGHT
BEGIN:STANDARD
TZOFFSETFROM:+0300
TZOFFSETTO:+0200
TZNAME:EET
DTSTART:20241027T010000
END:STANDARD
BEGIN:DAYLIGHT
TZOFFSETFROM:+0200
TZOFFSETTO:+0300
TZNAME:EEST
DTSTART:20250330T010000
END:DAYLIGHT
BEGIN:STANDARD
TZOFFSETFROM:+0300
TZOFFSETTO:+0200
TZNAME:EET
DTSTART:20251026T010000
END:STANDARD
END:VTIMEZONE
BEGIN:VEVENT
DTSTART;VALUE=DATE:20240513
DTEND;VALUE=DATE:20240518
DTSTAMP:20260419T204901
CREATED:20240502T114220Z
LAST-MODIFIED:20240502T114220Z
UID:465-1715558400-1715990399@www.doktorikool.ee
SUMMARY:Kirjutamislaager // Writing Camp
DESCRIPTION:Estonian Doctoral School for Medical and health sciences\, veterinary medicine invite you to participate in the writing camp\, taking place 13-17.05. \nWriting Camp: We organize writing camps where you can focus on crafting your articles or PhD theses. These camps last for 5 working days\, providing an ideal environment away from everyday routine and distractions. Professor David Arney will be your supervisor during this intensive writing week. \nWriting Camp Details: \n\nDuration: 5 working days\nPurpose: Concentrate on writing without interruptions\nSupervisor: Professor David Arney\nPlace: Up to 60 km from Tartu\n\nAmenities: Enjoy a serene environment with full pension (single-room housing\, 3-4 meals per day\, and Wi-Fi)\nRegistration: julia.jeremejeva@emu.ee \nSeize this opportunity to write your article or PhD theses in a peaceful setting. The number of participants is limited! \nWe look forward to your active involvement! \n\nContact: Julia Jeremejeva\, julia.jeremejeva@emu.ee
URL:https://www.doktorikool.ee/en/uritused/kirjutamislaager-writing-camp-2/
END:VEVENT
END:VCALENDAR