BEGIN:VCALENDAR
VERSION:2.0
PRODID:-//Eesti doktorikool - ECPv6.15.20//NONSGML v1.0//EN
CALSCALE:GREGORIAN
METHOD:PUBLISH
X-ORIGINAL-URL:https://www.doktorikool.ee/en
X-WR-CALDESC:Events for Eesti doktorikool
REFRESH-INTERVAL;VALUE=DURATION:PT1H
X-Robots-Tag:noindex
X-PUBLISHED-TTL:PT1H
BEGIN:VTIMEZONE
TZID:Europe/Tallinn
BEGIN:DAYLIGHT
TZOFFSETFROM:+0200
TZOFFSETTO:+0300
TZNAME:EEST
DTSTART:20230326T010000
END:DAYLIGHT
BEGIN:STANDARD
TZOFFSETFROM:+0300
TZOFFSETTO:+0200
TZNAME:EET
DTSTART:20231029T010000
END:STANDARD
BEGIN:DAYLIGHT
TZOFFSETFROM:+0200
TZOFFSETTO:+0300
TZNAME:EEST
DTSTART:20240331T010000
END:DAYLIGHT
BEGIN:STANDARD
TZOFFSETFROM:+0300
TZOFFSETTO:+0200
TZNAME:EET
DTSTART:20241027T010000
END:STANDARD
BEGIN:DAYLIGHT
TZOFFSETFROM:+0200
TZOFFSETTO:+0300
TZNAME:EEST
DTSTART:20250330T010000
END:DAYLIGHT
BEGIN:STANDARD
TZOFFSETFROM:+0300
TZOFFSETTO:+0200
TZNAME:EET
DTSTART:20251026T010000
END:STANDARD
END:VTIMEZONE
BEGIN:VEVENT
DTSTART;TZID=Europe/Tallinn:20240923T000000
DTEND;TZID=Europe/Tallinn:20240926T235959
DTSTAMP:20260421T213416
CREATED:20240816T072320Z
LAST-MODIFIED:20240910T125631Z
UID:647-1727049600-1727395199@www.doktorikool.ee
SUMMARY:Kirjutamislaager // Writing Retreat
DESCRIPTION:/English below/ \nKirjutamislaager sotsiaalteaduste haru doktorantidele\nRoosta Puhkekeskus\, 23.-26.09.2024 \nKirjutamislaagris on võimalus paari päeva jooksul keskenduda oma doktoritöö või teadusartikli kirjutamisele\, saada ja jagada tagasisidet ning juhendamist. Kirjutamislaagri juhendajad on Eve Kikas\, Kaja Mädamürk ja Kristjan Kask Tallinna Ülikooli Loodusteaduste instituudist. \nOsalemiseks palun täitke sooviavaldus siin ning saatke motivatsioonikiri koos juhendajaga kooskõlastatud kirjutamislaagri tööplaaniga aadressile eva.valdna@tlu.ee hiljemalt 15. septembriks. \nMotivatsioonikirja ja tööplaani juures hinnatakse \n\nplaani läbimõeldust ja teostatavust (40%)\neeldatavat mõju doktoritöö valmimisele (40%)\nmotiveeritust just selles kirjutamislaagris osaleda (20%).\n\nOsalejate valikul on eelistatud doktorandid\, kes pole veel 2024 aasta jooksul Eesti doktorikooli kirjutamislaagrites osalenud. \nLaagrisse võetakse osalema kuni 12 doktoranti. \nOsalejatele on doktorikooli poolt majutus ühekohalistes tubades ja toitlustus. Transpordi kirjutamislaagrisse ja tagasi peab osaleja ise tagama. \nOsalemiseks esita sooviavaldus siin. \nKirjutamislaagrit korraldab Eesti doktorikooli sotsiaalteaduste haru partner Tallinna Ülikool. \n\nWriting Retreat for Doctoral Candidates in Social Sciences\nRoosta Holiday Village\, 23.-26.09.2024 \nThe writing retreat offers an opportunity to focus on writing your doctoral thesis or scientific article for a few days\, receive and provide feedback\, and receive supervision. The retreat supervisors are Eve Kikas\, Kaja Mädamürk\, and Kristjan Kask from the Tallinn University School of Natural Sciences and Health. \nPlease fill out the application form here and send a motivation letter along with a work plan for the writing retreat coordinated with your supervisor to eva.valdna@tlu.ee by September 15th at the latest. \nThe evaluation of the motivation letter and work plan will consider: \n\nThe thoroughness and feasibility of the plan (40%)\nThe expected impact on the completion of the doctoral thesis (40%)\nMotivation to participate in this particular writing camp (20%).\n\nPreference in participant selection will be given to doctoral students who have not yet participated in the writing retreats of the Estonian Doctoral School in 2024. \nUp to 12 doctoral students will be accepted for participation in the camp. \nAccommodation in single rooms and meals will be provided by the Doctoral School. Participants must arrange their own transportation to and from the writing camp. \nTo participate\, submit your application here. \nThe writing retreat is organised by the Estonian Doctoral School for Social Sciences.
URL:https://www.doktorikool.ee/en/uritused/kirjutamislaager-writing-retreat-3/
END:VEVENT
BEGIN:VEVENT
DTSTART;TZID=Europe/Tallinn:20240924T093000
DTEND;TZID=Europe/Tallinn:20240924T120000
DTSTAMP:20260421T213416
CREATED:20240415T100851Z
LAST-MODIFIED:20250106T114816Z
UID:343-1727170200-1727179200@www.doktorikool.ee
SUMMARY:Rühmakoolitus doktorantidele heaolu ja vastupanuvõime teaduses // Group Coaching for PhD Students on Wellbeing & Resilience in Science\, session 1
DESCRIPTION:/In English below/ \nTreeningsessioonid viiakse läbi veebis inglise keeles Zoom´i keskkonnas. \nKoolitus koosneb kolmest treeningsessioonist reaalajas (veebis)\, 1-2 eakaaslaste grupikohtumisest ja lühikestest isiklikest eksperimentidest sessioonide vahel. Soovitav on osaleda kõigil kolmel sessioonil. \nReaalajas treeningsessioonid (veebis) \n\n24. september\, 9.30 – 12.00\n8. oktoober\, 9.30 – 12.00\n29. oktoober\, 9.30 – 12.00\n\nRühmakoolituse protsess keskendub teie kui doktorandi heaolule ja suurendab vastupidavust teie akadeemilise teekonna jooksul. See loob tõhusaid toimetulekustrateegiaid\, et tulla toime intensiivse töökoormuse\, ebakindluse\, jõu dünaamika ja eraldatuse tunnetega. Tõstate oma võimet toimetulekuks puudustega ja suurendate oma võimet raskustest taastuda. Rühmakoolituse tulemusel saate paremini hakkama oma töö väljakutsetega. \nMis on rühmakoolitus? Rühmakoolitus on koostööprotsess\, mille käigus koolitaja töötab väikese grupi doktorantidega\, et aidata neil eesmärke seada ja saavutada\, tundma õppida oma väljakutseid ja arendada koos uusi oskusi. Seansside vahel kasutavad osalejad teadmisi ja õpitut\, kohtuvad oma eakaaslaste rühmaga ja kajastavad edusamme. \nKoolitajad: \n\nMariann Nagatsu\, MSc psühholoogias\, sertifitseeritud Solution Focused Coach\, EMCC Senior Practitioner Accreditation. Koolitaja juhtidele ja meeskondadele\, doktorantidele ja üksikettevõtjatele.\nDr Manuela Tischler\, sertifitseeritud Solution Focused Organisational Coach\, EMCC EMCC Senior Practitioner Accreditation. Koolitaja Müncheni Ülikooli rakendusteaduste doktorantidele\, järeldoktoritele ja professoritele.\n\nLisateave:  https://mariannnagatsu1.wixsite.com/phds \nRegistreerumine aadressil: https://forms.office.com/e/dhRhChEjtKRegistreerimise tähtaeg: teisipäev\, 17. september. \nMaksimaalne osalejate arv: 12Minimaalne osalejate arv: 6 \nKontaktandmed: \n\nkoolituse info – Mariann Nagatsu\, mariann.nagatsu@gmail.com\nadministratiivküsimused – Tiina Hagen\, tiina.hagen@taltech.ee\n\nEesti doktorikooli sotsiaalteaduste haru \n\n\nThe coaching sessions will be conducted online via Zoom in English. \nThe process consists of 3 live group coaching sessions (online)\, 1-2 peer group meetings and short personal experiments between the sessions. It is highly recommended to participate in all 3 sessions. \nLive group coaching sessions (online\, preliminary dates): \n\nSept 24th\, 9.30 – 12.00\nOct 8th\, 9.30 – 12.00\nOct 29th\, 9.30 – 12.00\n\nThe group coaching process focuses on your wellbeing as a PhD-student and enhances resilience throughout your academic journey. It builds effective coping strategies to deal with intense workloads\, navigating uncertainties\, power dynamics and feelings of isolation. You will enhance your abilities to handle drawbacks and increase your capacity to recover from difficulties. As a result of the group coaching\, you will be better equipped to deal with the challenging periods of your work. \nWhat is Group Coaching? Group coaching is a collaborative process in which a coach works with a small group of PhD students to help them to set and achieve goals\, explore their challenges\, and develop new skills together. Between sessions\, participants apply insights and learnings\, meet with their peer group and reflect on their progress. \nCoaches: \n\nMariann Nagatsu\, MSc in Psychology\, Certified Solution Focused Coach\, EMCC Senior Practitioner Accreditation. Coach for leaders and teams\, PhD candidates and solopreneurs.\nDr. Manuela Tischler\, Certified Solution Focused Organisational Coach\, EMCC Senior Practitioner Accreditation. Coach for PhD candidates\, Postdocs and Professors at the University of Applied Sciences\, Munich.\n\nMore information: https://mariannnagatsu1.wixsite.com/phds \nRegister at: https://forms.office.com/e/dhRhChEjtKRegistration deadline: Tuesday\, September 17th.  \nMaximum number of participants: 12Minimum number of participants: 6 \nContact info: \n\nabout the coaching – Mariann Nagatsu\, mariann.nagatsu@gmail.com\nadministrative questions – Tiina Hagen\, tiina.hagen@taltech.ee\n\nEstonian Doctoral School for Social Sciences
URL:https://www.doktorikool.ee/en/uritused/group-coaching-for-phd-students-on-wellbeing-resilience-in-science/
END:VEVENT
END:VCALENDAR