BEGIN:VCALENDAR
VERSION:2.0
PRODID:-//Eesti doktorikool - ECPv6.15.20//NONSGML v1.0//EN
CALSCALE:GREGORIAN
METHOD:PUBLISH
X-WR-CALNAME:Eesti doktorikool
X-ORIGINAL-URL:https://www.doktorikool.ee/en
X-WR-CALDESC:Events for Eesti doktorikool
REFRESH-INTERVAL;VALUE=DURATION:PT1H
X-Robots-Tag:noindex
X-PUBLISHED-TTL:PT1H
BEGIN:VTIMEZONE
TZID:Europe/Tallinn
BEGIN:DAYLIGHT
TZOFFSETFROM:+0200
TZOFFSETTO:+0300
TZNAME:EEST
DTSTART:20230326T010000
END:DAYLIGHT
BEGIN:STANDARD
TZOFFSETFROM:+0300
TZOFFSETTO:+0200
TZNAME:EET
DTSTART:20231029T010000
END:STANDARD
BEGIN:DAYLIGHT
TZOFFSETFROM:+0200
TZOFFSETTO:+0300
TZNAME:EEST
DTSTART:20240331T010000
END:DAYLIGHT
BEGIN:STANDARD
TZOFFSETFROM:+0300
TZOFFSETTO:+0200
TZNAME:EET
DTSTART:20241027T010000
END:STANDARD
BEGIN:DAYLIGHT
TZOFFSETFROM:+0200
TZOFFSETTO:+0300
TZNAME:EEST
DTSTART:20250330T010000
END:DAYLIGHT
BEGIN:STANDARD
TZOFFSETFROM:+0300
TZOFFSETTO:+0200
TZNAME:EET
DTSTART:20251026T010000
END:STANDARD
END:VTIMEZONE
BEGIN:VEVENT
DTSTART;TZID=Europe/Tallinn:20240927T000000
DTEND;TZID=Europe/Tallinn:20240927T235959
DTSTAMP:20260421T213326
CREATED:20240912T080453Z
LAST-MODIFIED:20240918T063241Z
UID:870-1727395200-1727481599@www.doktorikool.ee
SUMMARY:Seminar „Kestlik areng läbi kultuuripärandi prisma“ / Seminar „Sustainable Development Seen through the Lens of Cultural Heritage“
DESCRIPTION:27. september 2024\nTartu (Jakobi 2-114) \nÜritus toimub inglise keeles \nEesti doktorikooli humanitaarteaduste ja kunstide haru kutsub koostöös Tartu Ülikooli vaimse kultuuripärandi rakendusuuringute UNESCO õppetooliga osalema interdistsiplinaarsel seminaril kestliku arengu teemadel. Seminar keskendub kultuuri(pärandi) rollile jätkusuutlikus arengus ja sellega seotud ühiskondlikele väljakutsetele. \nRohkem infot leiat siit. \n\nSeptember 27\, 2024\nTartu (Jakobi 2-114)\n \nThis event is held in English. \nThe Estonian Doctoral School for Humanities and Arts invites\, together with the UNESCO Chair on Applied Studies of Intangible Cultural Heritage of the University of Tartu\, to an interdisciplinary seminar about sustainable development. The seminar focuses on the role that culture and cultural heritage have in sustainable development – as well as on the challenges that the societies are facing in this regard. \nYou can find more information here.
URL:https://www.doktorikool.ee/en/uritused/seminar-kestlik-areng-labi-kultuuriparandi-prisma-seminar-sustainable-development-seen-through-the-lens-of-cultural-heritage/
END:VEVENT
END:VCALENDAR