BEGIN:VCALENDAR
VERSION:2.0
PRODID:-//Eesti doktorikool - ECPv6.15.20//NONSGML v1.0//EN
CALSCALE:GREGORIAN
METHOD:PUBLISH
X-ORIGINAL-URL:https://www.doktorikool.ee/en
X-WR-CALDESC:Events for Eesti doktorikool
REFRESH-INTERVAL;VALUE=DURATION:PT1H
X-Robots-Tag:noindex
X-PUBLISHED-TTL:PT1H
BEGIN:VTIMEZONE
TZID:Europe/Tallinn
BEGIN:DAYLIGHT
TZOFFSETFROM:+0200
TZOFFSETTO:+0300
TZNAME:EEST
DTSTART:20230326T010000
END:DAYLIGHT
BEGIN:STANDARD
TZOFFSETFROM:+0300
TZOFFSETTO:+0200
TZNAME:EET
DTSTART:20231029T010000
END:STANDARD
BEGIN:DAYLIGHT
TZOFFSETFROM:+0200
TZOFFSETTO:+0300
TZNAME:EEST
DTSTART:20240331T010000
END:DAYLIGHT
BEGIN:STANDARD
TZOFFSETFROM:+0300
TZOFFSETTO:+0200
TZNAME:EET
DTSTART:20241027T010000
END:STANDARD
BEGIN:DAYLIGHT
TZOFFSETFROM:+0200
TZOFFSETTO:+0300
TZNAME:EEST
DTSTART:20250330T010000
END:DAYLIGHT
BEGIN:STANDARD
TZOFFSETFROM:+0300
TZOFFSETTO:+0200
TZNAME:EET
DTSTART:20251026T010000
END:STANDARD
END:VTIMEZONE
BEGIN:VEVENT
DTSTART;TZID=Europe/Tallinn:20241107T000000
DTEND;TZID=Europe/Tallinn:20241108T235959
DTSTAMP:20260422T030828
CREATED:20241015T133258Z
LAST-MODIFIED:20241016T064620Z
UID:1476-1730937600-1731110399@www.doktorikool.ee
SUMMARY:Teaduskommunikatsiooni koolitus
DESCRIPTION:The training below is held only in Estonian.\nKell 10:00-18:00\nTallinn\, Addicere koolitussaal\, Narva mnt 63/2 \nTeadlasele vajalike oskuste seas tuuakse aina sagedamini välja suutlikkust selgitada oma tööd ja selle mõjusid laiemale avalikkusele\, poliitikutele või ettevõtetele. Teaduse selgitamine avalikkusele on ka oluline viis\, kuidas suurendada teaduse mõju ühiskonnas. Kursus annab ülevaate teaduskommunikatsiooni ning avaliku suhtluse põhitõdedest ja võimaldab praktiliselt harjutada suulist ning kirjalikku kommunikatsiooni. \nEdukat suulist kommunikatsiooni määravad suuresti veenvus ja spontaansus. Et neid omadusi tõhusalt hallata\, tuleb oma sõnumit osata eelnevalt analüüsida ja kujundada. Koolitusel harjutatakse nn. tuummõtte sõnastamist ja testimist. Seejärel valmistatakse ette lühike sõnavõtt\, mis esitatakse kaamera ees. Salvestust analüüsitakse põhjalikult\, eeskätt esituse retoorikat (keelelist loogikat)\, esinemisoskust ja eri suulise kõne markereid. \nKoolitajad: Arko Olesk\, Indrek Treufeldt \nMaht: 2 EAP \nOsalejaid: max 15 \nKoolitusel osalemiseks registreeru siin hiljemalt 3.11.2024. \nKoolitust korraldab Eesti doktorikooli sotsiaalteaduste haru partner Tallinna Ülikool. \nLisainfo: eva.valdna@tlu.ee
URL:https://www.doktorikool.ee/en/uritused/teaduskommunikatsiooni-koolitus/
END:VEVENT
BEGIN:VEVENT
DTSTART;TZID=Europe/Tallinn:20241107T000000
DTEND;TZID=Europe/Tallinn:20241110T235959
DTSTAMP:20260422T030828
CREATED:20241023T074956Z
LAST-MODIFIED:20241023T074956Z
UID:1523-1730937600-1731283199@www.doktorikool.ee
SUMMARY:Kirjutamislaager
DESCRIPTION:Kirjutamislaager humanitaarteaduste ja kunstide haru doktorantidele\n7.-10. november 2024\nPastoraat\, Tartu (Riia 22a-2) \nKirjutamislaagris on võimalik keskenduda oma doktoritöö või teadusartikli kirjutamisele. Selle eesmärgil on osalejate kasutada seminariruumid. Lisavõimalusena erinevad kirjutamist toetavad töötoad ja (individuaal)konsultatsioonid. \nVastuvõetud osavõtjate majutus kahekohalises toas (ennekõike Tallinnast tulijatele)\, toitlustus ja tellitud ühistransport Tallinn-Tartu-Tallinn hüvitatakse doktorikooli poolt. \nLaagrisse võetakse vastu kuni 23 osalejat. \nRegistreerumisel palume kindlasti esitada lühikese tööplaani\, kus on märgitud millise tekstiga või teksti osa/etapiga soovite laagris töötada. \nRegistreerimine on avatud kuni 29. oktoober 2024 \nOsalejate valikul on eelistatud: \n\nhumanitaarteaduste ja kunstide valdkonna doktorandid;\ndoktorandid kes saavad osaleda laagris kogu ürituse perioodi ning ei ole viimase aasta jooksul kirjutamislaagris osalenud;\ndoktorandid\, kellel on selge ja läbimõeldud tööplaan.\n\nRegistreeru SIIN \nLisainfo: Kirjutamislaagrit korraldab Tartu Ülikool. Kontaktisik: Lii Lang\, lii.lang@ut.ee \nJärgmise kirjutamislaagri korraldab Tallinna Ülikool juba detsembris. Täpsem info peagi.
URL:https://www.doktorikool.ee/en/uritused/kirjutamislaager-2/
END:VEVENT
BEGIN:VEVENT
DTSTART;TZID=Europe/Tallinn:20241108T093000
DTEND;TZID=Europe/Tallinn:20241108T174500
DTSTAMP:20260422T030828
CREATED:20240930T064705Z
LAST-MODIFIED:20240930T064705Z
UID:901-1731058200-1731087900@www.doktorikool.ee
SUMMARY:Pildianalüüs bioteadustes // Image analysis in Biosciences
DESCRIPTION:Biomeedikum\, Ravila 19 \nRuum 1006 \nEesti doktorikooli arsti- ja terviseteaduste\, veterinaaria haru kutsub sissejuhatavale kursusele automatiseeritud ja poolautomatiseeritud pildianalüüsi kohta bioteadustes. Üliõpilastele tutvustatakse tarkvara\, sealhulgas ImageJ\, CellProfiler\, QuPath\, tehisarul põhinevat analüüsi NumPy ja Tensorflow/PyTorch ning looma publitseerimisvalmis pildid\, kasutades InkScape. \nRohkem informatsiooni kursuse kohta ning registreerimislingi leiad siit. Registreerimise tähtaeg on 31.oktoober 2024. \nKontakt: Dr Miriam A. Hickey\, miriam.ann.hickey@ut.ee \n\nBiomeedikum\, Ravila 19\nRoom 1006 \nEstonian Doctoral School for Medical and Health Sciences\, Veterinary Medicine invites doctoral students to a introduction course to automated and semi-automated image analysis for biosciences. Students will be introduced to software including ImageJ\, CellProfiler\, QuPath\, artificial-intelligence based analysis in NumPy and Tensorflow/PyTorch\, and the creation of publication-ready images using Inkscape. \nMore information about the course and the registration form can be found here. The registration deadline is 31th October 2024. \nContact Dr Miriam A. Hickey\, miriam.ann.hickey@ut.ee
URL:https://www.doktorikool.ee/en/uritused/pildianaluus-bioteadustes-image-analysis-in-biosciences/
END:VEVENT
END:VCALENDAR