BEGIN:VCALENDAR
VERSION:2.0
PRODID:-//Eesti doktorikool - ECPv6.15.20//NONSGML v1.0//EN
CALSCALE:GREGORIAN
METHOD:PUBLISH
X-WR-CALNAME:Eesti doktorikool
X-ORIGINAL-URL:https://www.doktorikool.ee/en
X-WR-CALDESC:Events for Eesti doktorikool
REFRESH-INTERVAL;VALUE=DURATION:PT1H
X-Robots-Tag:noindex
X-PUBLISHED-TTL:PT1H
BEGIN:VTIMEZONE
TZID:Europe/Tallinn
BEGIN:DAYLIGHT
TZOFFSETFROM:+0200
TZOFFSETTO:+0300
TZNAME:EEST
DTSTART:20230326T010000
END:DAYLIGHT
BEGIN:STANDARD
TZOFFSETFROM:+0300
TZOFFSETTO:+0200
TZNAME:EET
DTSTART:20231029T010000
END:STANDARD
BEGIN:DAYLIGHT
TZOFFSETFROM:+0200
TZOFFSETTO:+0300
TZNAME:EEST
DTSTART:20240331T010000
END:DAYLIGHT
BEGIN:STANDARD
TZOFFSETFROM:+0300
TZOFFSETTO:+0200
TZNAME:EET
DTSTART:20241027T010000
END:STANDARD
BEGIN:DAYLIGHT
TZOFFSETFROM:+0200
TZOFFSETTO:+0300
TZNAME:EEST
DTSTART:20250330T010000
END:DAYLIGHT
BEGIN:STANDARD
TZOFFSETFROM:+0300
TZOFFSETTO:+0200
TZNAME:EET
DTSTART:20251026T010000
END:STANDARD
END:VTIMEZONE
BEGIN:VEVENT
DTSTART;TZID=Europe/Tallinn:20241206T000000
DTEND;TZID=Europe/Tallinn:20241208T235959
DTSTAMP:20260422T030807
CREATED:20241101T100057Z
LAST-MODIFIED:20241205T124234Z
UID:1557-1733443200-1733702399@www.doktorikool.ee
SUMMARY:Kirjutamislaager
DESCRIPTION:Kirjutamislaager farmaatsia (ravimiteadused\, ravimiarendus\, materjaliteadus) ja terviseteaduste doktorantideleKubija hotell-loodusspaas\, 06.-08. detsember 2024 \nKutsume arsti- ja terviseteadused\, veterinaaria haru doktorante ja nende juhendajaid osalema kirjutamislaagris Kubijal 06.-08. detsembrini. \nKirjutamislaagri eesmärk on anda doktorantidele võimalus keskenduda segamatult oma teadusartikli või doktoritöö kirjutamisele ning saada tagasisidet ning individuaalset juhendamist oma juhendaja(te)lt (nii individuaalsed vestlused\, kui grupivestlused).Enne laagrit koostatakse koos juhendajaga täpne kirjutamislaagri plaan ning laagri lõppedes antakse ülevaade\, kas plaan sai täidetud ja tehakse edasisteks sammudeks uued plaanid. Lisaks korraldatakse huvitaval teemal seminar (külalislektor)\, mis võimaldab edasi arendada teadlaste ülekantavaid oskusi toetamaks nende edasist karjääri ja tegemisi. Kõik osalejad saavad omavahel jagada kogemusi ja teadmisi ning üksteiselt õppida õdusas keskkonnas\, mis neid toetab. \nLaagrisse võetakse vastu kuni 40 osalejat. Osalejatele pakutakse doktorikooli poolt majutust\, toitlustust ning transporti Tartust Kubijale ja tagasi. Transport toimub tellitud bussiga\, ühistranspordipileteid või autosõitu isikliku autoga ei kompenseerita. \nRegistreerumine: shandi.johanson@ut.ee hiljemalt 15. november 2024. \nKüsimuste korral kirjutage shandi.johanson@ut.ee \nKirjutamislaagrit korraldab Eesti doktorikooli arsti- ja terviseteadused\, veterinaaria haru\, Tartu Ülikool\, Farmaatsia instituut.
URL:https://www.doktorikool.ee/en/uritused/kirjutamislaager-4/
END:VEVENT
BEGIN:VEVENT
DTSTART;TZID=Europe/Tallinn:20241206T100000
DTEND;TZID=Europe/Tallinn:20241206T113000
DTSTAMP:20260422T030807
CREATED:20240829T065534Z
LAST-MODIFIED:20250113T081649Z
UID:717-1733479200-1733484600@www.doktorikool.ee
SUMMARY:Juhendajate kohvihommik
DESCRIPTION:“Juhendaja vaimne heaolu: ise- ja koostoimimise mõistlik tasakaal”\n6. dets 10-11.30\nVeebis (Teams)\n\nThis event is held in Estonian. \n\nDoktorandi juhendamisprotsess võib juhendajale pakkuda palju rõõmu ja rahuldust\, aga sellel päris pikal ühisel teekonnal võib ette tulla ka omajagu raskusi ja probleeme. Kuigi formaalselt defineeritud eesmärk on selge – jõuda nominaalajal doktorikraadi kaitsmiseni – ei ole vähem tähtis selles protsessis mõlema osapoole vaimset heaolu hoida ja toetada. Juhendajate kohvihommikul arutame\, millised on doktorantide ja juhendajate vastastikused õigused ja kohustused ning milline on doktorantide juhendamisprotsessis ise- ja koostoimimise mõistlik tasakaal. Kellega üldse peab juhendaja koos toimima? Aga doktorant? Milliste probleemide ja küsimustega doktorandid juhendaja poole pöörduvad? Toome näiteid igapäevaelust ja arutame võimalikke lahendusi nendele.\n\n Arutelu juhib Prof Merike Sisask\, Tallinna Ülikooli ühiskonnateaduste instituudi sotsiaaltervishoiu professor ning Eesti inimarengu aruande 2023 „Vaimne tervis ja heaolu“ peatoimetaja (www.inimareng.ee).  \n\nRegistreerimine: SIIN\nPalume juhendajate kohvihommikule registreeruda hiljemalt 04.detsembriks. 
URL:https://www.doktorikool.ee/en/uritused/juhendajate-kohvihommik-juhendaja-vaimne-heaolu-ise-ja-koostoimimise-moistlik-tasakaal/
END:VEVENT
END:VCALENDAR