BEGIN:VCALENDAR
VERSION:2.0
PRODID:-//Eesti doktorikool - ECPv6.15.20//NONSGML v1.0//EN
CALSCALE:GREGORIAN
METHOD:PUBLISH
X-WR-CALNAME:Eesti doktorikool
X-ORIGINAL-URL:https://www.doktorikool.ee/en
X-WR-CALDESC:Events for Eesti doktorikool
REFRESH-INTERVAL;VALUE=DURATION:PT1H
X-Robots-Tag:noindex
X-PUBLISHED-TTL:PT1H
BEGIN:VTIMEZONE
TZID:Europe/Tallinn
BEGIN:DAYLIGHT
TZOFFSETFROM:+0200
TZOFFSETTO:+0300
TZNAME:EEST
DTSTART:20240331T010000
END:DAYLIGHT
BEGIN:STANDARD
TZOFFSETFROM:+0300
TZOFFSETTO:+0200
TZNAME:EET
DTSTART:20241027T010000
END:STANDARD
BEGIN:DAYLIGHT
TZOFFSETFROM:+0200
TZOFFSETTO:+0300
TZNAME:EEST
DTSTART:20250330T010000
END:DAYLIGHT
BEGIN:STANDARD
TZOFFSETFROM:+0300
TZOFFSETTO:+0200
TZNAME:EET
DTSTART:20251026T010000
END:STANDARD
BEGIN:DAYLIGHT
TZOFFSETFROM:+0200
TZOFFSETTO:+0300
TZNAME:EEST
DTSTART:20260329T010000
END:DAYLIGHT
BEGIN:STANDARD
TZOFFSETFROM:+0300
TZOFFSETTO:+0200
TZNAME:EET
DTSTART:20261025T010000
END:STANDARD
END:VTIMEZONE
BEGIN:VEVENT
DTSTART;TZID=Europe/Tallinn:20250122T103000
DTEND;TZID=Europe/Tallinn:20250122T163000
DTSTAMP:20260422T044847
CREATED:20241211T142953Z
LAST-MODIFIED:20241212T115058Z
UID:1931-1737541800-1737563400@www.doktorikool.ee
SUMMARY:Kuidas tõhusamalt oma teadustöö tulemusi kommunikeerida
DESCRIPTION:This training is held only in Estonian. \n\n\n\n\n\nKoolitus toimub Eesti Teadusagentuuri 8 korruse suures saalis; Soola 8\, Tartu 51004 \n\n\n\nKoolitus on suunatud kõikide valdkondade doktorantidele ja toimub eesti keeles. \n\n\n\nKoolitusel antakse ülevaade teaduskommunikatsiooni olulisusest ja tähtsusest\, kuidas arendada selleks vajalikke oskusi ning milliseid tööriistu rakendada edukaks kommunikatsiooniks. Rõhutatakse\, miks on oluline teadust laiemale avalikkusele tutvustada ning milline on selle mõju ühiskonnas. Koolitusel viiakse läbi ka praktiline töötuba\, mis illustreerib kommunikatsiooni mõju ühiskonnas oluliste ja keerukate probleemide lahendamisel. \n\n\n\nLäbiviijad: \n\n\n\n\nElin Org (TÜ mikrobioomika professor)\n\n\n\nAnnely Allik (ETAG teaduskommunikatsiooni osakonnajuhataja)\n\n\n\nSiret Varblane (ETAG kommunikatsioonijuht)\n\n\n\nSiim Lepik (ETAG välisturunduse valdkonna juht)\n\n\n\n\nOodatud on osalema kõik aktiivses õppes olevad doktorandid.Registreerimine toimub siin\, kuni kohtade täitumiseni (20 kohta).Kui registreerujaid on piirarvust enam\, hindavad korraldajad ülikoolide esindatust. \n\n\n\nÜritust korraldab Eesti doktorikooli loodusteaduste ja põllumajandusteaduste haru.
URL:https://www.doktorikool.ee/en/uritused/kuidas-tohusamalt-oma-teadustoo-tulemusi-kommunikeerida/
END:VEVENT
END:VCALENDAR