BEGIN:VCALENDAR
VERSION:2.0
PRODID:-//Eesti doktorikool - ECPv6.15.20//NONSGML v1.0//EN
CALSCALE:GREGORIAN
METHOD:PUBLISH
X-WR-CALNAME:Eesti doktorikool
X-ORIGINAL-URL:https://www.doktorikool.ee/en
X-WR-CALDESC:Events for Eesti doktorikool
REFRESH-INTERVAL;VALUE=DURATION:PT1H
X-Robots-Tag:noindex
X-PUBLISHED-TTL:PT1H
BEGIN:VTIMEZONE
TZID:Europe/Tallinn
BEGIN:DAYLIGHT
TZOFFSETFROM:+0200
TZOFFSETTO:+0300
TZNAME:EEST
DTSTART:20240331T010000
END:DAYLIGHT
BEGIN:STANDARD
TZOFFSETFROM:+0300
TZOFFSETTO:+0200
TZNAME:EET
DTSTART:20241027T010000
END:STANDARD
BEGIN:DAYLIGHT
TZOFFSETFROM:+0200
TZOFFSETTO:+0300
TZNAME:EEST
DTSTART:20250330T010000
END:DAYLIGHT
BEGIN:STANDARD
TZOFFSETFROM:+0300
TZOFFSETTO:+0200
TZNAME:EET
DTSTART:20251026T010000
END:STANDARD
BEGIN:DAYLIGHT
TZOFFSETFROM:+0200
TZOFFSETTO:+0300
TZNAME:EEST
DTSTART:20260329T010000
END:DAYLIGHT
BEGIN:STANDARD
TZOFFSETFROM:+0300
TZOFFSETTO:+0200
TZNAME:EET
DTSTART:20261025T010000
END:STANDARD
END:VTIMEZONE
BEGIN:VEVENT
DTSTART;TZID=Europe/Tallinn:20250123T093000
DTEND;TZID=Europe/Tallinn:20250123T120000
DTSTAMP:20260422T044847
CREATED:20241202T084430Z
LAST-MODIFIED:20241202T084430Z
UID:1839-1737624600-1737633600@www.doktorikool.ee
SUMMARY:Grupitreening doktorantidele teadustöös soorituse ja heaolu arendamiseks
DESCRIPTION:Treeningsessioonid toimuvad veebis Zoomi kaudu ingliskeelsena. \n\n\n\nEesti doktorikooli Sotsiaalteaduste haru korraldab doktorantidele grupitreeningud soorituse ja heaolu arendamiseks teadustööd. \n\n\n\nProtsess sisaldab 3 live grupitreeningut\, 1-2 rühmatreeningut ja lühikesi isiklikke katseid sessioonide vahel. Soovitame tungivalt osaleda kõigis 3 sessioonis. \n\n\n\nLive grupitreeningud (veebis\, esialgsed kuupäevad): \n\n\n\n\n23. jaanuar\, 9:30 – 12:00\n\n\n\n13. veebruar\, 9:30 – 12:00\n\n\n\n27. veebruar\, 9:30 – 12:00\n\n\n\n\nOsalejate maksimaalne arv: 12Osalejate minimaalne arv: 6 \n\n\n\nGrupitreeningu protsess keskendub teie sooritusele ja heaolule doktorantidena ning tugevdab teie vastupidavust teadustöös. See aitab välja töötada tõhusaid toimetulekustrateegiaid intensiivsete töökoormuste\, ebakindluse\, võimusuhete ja isoleerituse tunnetega toimetulekuks. Parandate oma võimet tulla toime tagasilöökidega ja suurendada oma taastumisvõimet raskustest. Grupitreeningu tulemusena olete paremini ette valmistatud oma töö keerukate perioodide käsitlemiseks. \n\n\n\nMis on grupitreening? \n\n\n\nGrupitreening on koostööpõhine protsess\, kus coach töötab väikese doktorantide rühmaga\, et aidata neil seada ja saavutada eesmärke\, uurida nende väljakutseid ja arendada uusi oskusi. Sessioonide vahel rakendavad osalejad õpikogemusi\, kohtuvad oma rühmaga ja peegeldavad oma edusamme. \n\n\n\nRohkem informatsiooni link: https://mariannnagatsu1.wixsite.com/phds \n\n\n\nRegistreeri siin\, registreerimise tähtaeg on 13. jaanuar. \n\n\n\nKontakt küsimuste korral: Mariann Nagatsu\, mariann.nagatsu@gmail.com \n\n\n\nCoaches (treenerid): \n\n\n\nMariann Nagatsu\, psühholoogia magistrikraad\, sertifitseeritud lahenduspõhise coaching’u treener\, EMCC Senior Practitioner akrediteering. Treener juhtidele\, meeskondadele\, doktorantidele ja eraettevõtjatele. \n\n\n\nDr. Manuela Tischler\, sertifitseeritud lahenduspõhise organisatsioonilise coaching’u treener\, EMCC Senior Practitioner akrediteering. Treener doktorantidele\, postdoktorantidele ja professoritele Müncheni Rakendusteaduste Ülikoolis. \n\n\n\nAdministratiivküsimuste korral pöörduge: Tiina Hagen\, tiina.hagen@taltech.ee \n\n\n\nEesti doktorikooli Sotsiaalteaduste haru
URL:https://www.doktorikool.ee/en/uritused/grupitreening-doktorantidele-teadustoos-soorituse-ja-heaolu-arendamiseks-3/
END:VEVENT
END:VCALENDAR