BEGIN:VCALENDAR
VERSION:2.0
PRODID:-//Eesti doktorikool - ECPv6.15.20//NONSGML v1.0//EN
CALSCALE:GREGORIAN
METHOD:PUBLISH
X-ORIGINAL-URL:https://www.doktorikool.ee/en
X-WR-CALDESC:Events for Eesti doktorikool
REFRESH-INTERVAL;VALUE=DURATION:PT1H
X-Robots-Tag:noindex
X-PUBLISHED-TTL:PT1H
BEGIN:VTIMEZONE
TZID:Europe/Tallinn
BEGIN:DAYLIGHT
TZOFFSETFROM:+0200
TZOFFSETTO:+0300
TZNAME:EEST
DTSTART:20240331T010000
END:DAYLIGHT
BEGIN:STANDARD
TZOFFSETFROM:+0300
TZOFFSETTO:+0200
TZNAME:EET
DTSTART:20241027T010000
END:STANDARD
BEGIN:DAYLIGHT
TZOFFSETFROM:+0200
TZOFFSETTO:+0300
TZNAME:EEST
DTSTART:20250330T010000
END:DAYLIGHT
BEGIN:STANDARD
TZOFFSETFROM:+0300
TZOFFSETTO:+0200
TZNAME:EET
DTSTART:20251026T010000
END:STANDARD
BEGIN:DAYLIGHT
TZOFFSETFROM:+0200
TZOFFSETTO:+0300
TZNAME:EEST
DTSTART:20260329T010000
END:DAYLIGHT
BEGIN:STANDARD
TZOFFSETFROM:+0300
TZOFFSETTO:+0200
TZNAME:EET
DTSTART:20261025T010000
END:STANDARD
END:VTIMEZONE
BEGIN:VEVENT
DTSTART;TZID=Europe/Tallinn:20250130T000000
DTEND;TZID=Europe/Tallinn:20250131T235959
DTSTAMP:20260422T044921
CREATED:20241204T115823Z
LAST-MODIFIED:20250116T085021Z
UID:1884-1738195200-1738367999@www.doktorikool.ee
SUMMARY:Geenitehnoloogia Talveseminar
DESCRIPTION:Jäneda mõis \n\n\n\nEesti doktorikooli loodusteaduste ja põllumajandusteaduste haru korraldab doktorikooli raames Geenitehnoloogia Talveseminari. Seminar toob kokku Tallinnas ja Tartus geenitehnoloogiaga seotud erialadel tegutsevad kraadiõppurid ning teadlased. \n\n\n\nSeminar on mõeldud magistrantidele\, doktorantidele ja juhendajatele. \n\n\n\nSeminar: \n\n\n\n\nannab sulle esinemise kogemuse – võimalus on tutvustada oma teadusprojekti ja tulemusi sõbralikus õhkkonnas.\n\n\n\nannab sulle uusi teadmisi – kuulates teiste ettekandeid saad ka uusi ideid kuidas laboris tekkinud probleeme lahendad.\n\n\n\nvõimaldab luua uusi kontakte – saad tuttavaks teistes ülikoolides sarnasel erialal tegutsevate kraadiõppuritega ja nende juhendajatega ja seda kõike stressivabas atmosfääris.\n\n\n\n\nProgramm \n\n\n\nWinter seminar schedule 2025Laadi alla\n\n\n\nSeminaril osalemiseks registreeru hiljemalt 3.01.2025 SIIN \n\n\n\nDoktorantidel on võimalik oma uurimistööd esitada kahte tüüpi ettekande vormis: \n\n\n\n1. 10 min ettekanne + 5 min küsimusteks2. Välkettekanne 3 min loengu formaadis \n\n\n\nSelleks\, et korraldusmeeskond saaks paika panna lõpliku ajakava\, palume kõikidel osaleda soovivatel doktorantidel saata lühikokkuvõte oma uurimistööst. \n\n\n\n\nteeside maksimaalne pikkus on 1 A4 lehekülg\n\n\n\nteesid palume salvestada PDF failina: SAATJA_NIMI_TALV_2025.PDF\n\n\n\nteesid palume saata Hedvig Tamman’ile (meiliaadress: hedvig.tamman@ut.ee).\n\n\n\nteeside esitamise tähtaeg on 3. jaanuar 2025.\n\n\n\n\nSeminari töökeeleks on inglise keel. \n\n\n\nLisainfo: \n\n\n\nTiina Tamm (tiina.tamm.001@ut.ee)\, Tartu Ülikool \n\n\n\nIndrek Koppel (indrek.koppel@taltech.ee)\, TalTech
URL:https://www.doktorikool.ee/en/uritused/geenitehnoloogia-talveseminar/
END:VEVENT
BEGIN:VEVENT
DTSTART;TZID=Europe/Tallinn:20250130T000000
DTEND;TZID=Europe/Tallinn:20250131T235959
DTSTAMP:20260422T044921
CREATED:20241218T124712Z
LAST-MODIFIED:20241218T131102Z
UID:1953-1738195200-1738367999@www.doktorikool.ee
SUMMARY:Karid ja ohud teadustöös. Alustava teadlase praktiline teejuht teaduseetikas
DESCRIPTION:Jakobi 2\, Tartu \n\n\n\nTöötuba toimub inglise keeles ja on mõeldud kõikide valdkondade doktorantidele. \n\n\n\nTöötoas osalemise eest on võimalik saada 1 EAP. \n\n\n\nTeaduseetika nõuded on muutunud nii keeruliseks\, et on oht libastuda ka siis\, kui teadlane peab eetikat oluliseks. Intensiivseminari eesmärgiks on viia kokku doktorandid ja teaduseetika eksperdid\, pakkudes esiteks doktorantidele võimalust teravdada oma pilku eetiliste küsimuste tuvastamisel ning arendada oskusi nende käsitlemisel\, teiseks aga anda eetika ekspertidele võimalust kogeda\, kuidas noori alustavaid teadlasi eetiliste küsimuste käsitlemisel toetada. \n\n\n\nSeminaril käime interaktiivselt läbi teadustöö erinevad etapid (planeerimine\, läbiviimine\, tulemuste levitamine) ja arutame läbi võimalikud karid. Pakume doktorantidele unikaalset võimalust tuvastada oma teadustöös tekkida võivad eetilised küsimused ja küsida ekspertidelt nõu\, kuidas neid lahendada. Välisekspert professor Kate Millar juhib arutelu diskussioonikaartide abil. \n\n\n\nProfessor Kate Millar (Rakendusliku bioeetika keskuse direktor ning rakendusliku bioeetika ja tehnoloogia hindamise professor\, Nottinghami Ülikool). Kate Millari peamised uurimisteemad on biotehnoloogia hindamine; bioeetika analüüs; looma-\, põllumajanduse- ja toidueetika; avalikkuse kaasamine. Tal on ekspertteadmised järgmistes teemades: biotehnoloogia hindamine\, sidusrühmade ja avalikkuse kaasamine\, eetiliste raamistikute väljatöötamine\, eetiline analüüs\, tekkiva teaduse ja tehnoloogia eetika\, vastutustundliku teaduse ja innovatsiooni poliitikad\, bioteaduste eetika\, teaduseetika ja teadustöö eetika koolitus ja õpetamine. \n\n\n\nTartu Ülikooli eetikakeskuse eksperdid: professor Margit Sutrop\, Mari-Liisa Parder\, Kristi Lõuk\, Anu Tammeleht.Tartu Ülikooli hea teadustava valdkondlikud nõustajad: Kadri Simm\, Kairi Kreegipuu\, Raul Kangro\, Andres Soosaar.Eesti Teadusagentuuri teaduseetika valdkonna juht: Marten Juurik. \n\n\n\nRegistreerimine toimub SIIN. Tähtaeg 8. jaanuar 2025.Osalejate piirarv on 40 ja valimine toimub registreerimisvormi täitmise põhjal. \n\n\n\nKontakt: Kertu Rajando\, kertu.rajando@ut.ee \n\n\n\nEesti doktorikooli ühisüritus.
URL:https://www.doktorikool.ee/en/uritused/karid-ja-ohud-teadustoos-alustava-teadlase-praktiline-teejuht-teaduseetikas/
END:VEVENT
BEGIN:VEVENT
DTSTART;TZID=Europe/Tallinn:20250130T000000
DTEND;TZID=Europe/Tallinn:20250131T235959
DTSTAMP:20260422T044921
CREATED:20241220T144514Z
LAST-MODIFIED:20250106T084419Z
UID:1964-1738195200-1738367999@www.doktorikool.ee
SUMMARY:Bio- ja siirdemeditsiini instituudi teaduspäevad
DESCRIPTION:Ravila 19-1006\, Tartu \n\n\n\nOsalema on oodatud arsti- ja terviseteadusega tegelevad teadlased\, õppejõud\, doktorandid\, üliõpilased ja tugitöötajad. \n\n\n\nKülalisesinejad ja instituudi teadusgrupid annavad ülevaate kõige uuematest uuringutest. Toimub paneeldiskussioon „Teadus ja ettevõtlus“ ning e-õpiku „Immunoloogia“ esitus. Töökeel on inglise keel. \n\n\n\nÜritusel osalemiseks registreeru siin. Tähtaeg on 15. jaanuar 2025. \n\n\n\nÜrituse programmi leiab siit. \n\n\n\nKoordinaator Eva Mõtte\, eva.motte@ut.ee\, 737 4210 \n\n\n\nÜritust viib läbi Tartu Ülikool\, meditsiiniteaduste valdkond\, bio- ja siirdemeditsiini instituut \n\n\n\nEesti doktorikooli arsti- ja terviseteaduste\, veterinaaria haru
URL:https://www.doktorikool.ee/en/uritused/bio-ja-siirdemeditsiini-instituudi-teaduspaevad/
END:VEVENT
END:VCALENDAR