BEGIN:VCALENDAR
VERSION:2.0
PRODID:-//Eesti doktorikool - ECPv6.15.20//NONSGML v1.0//EN
CALSCALE:GREGORIAN
METHOD:PUBLISH
X-WR-CALNAME:Eesti doktorikool
X-ORIGINAL-URL:https://www.doktorikool.ee/en
X-WR-CALDESC:Events for Eesti doktorikool
REFRESH-INTERVAL;VALUE=DURATION:PT1H
X-Robots-Tag:noindex
X-PUBLISHED-TTL:PT1H
BEGIN:VTIMEZONE
TZID:Europe/Tallinn
BEGIN:DAYLIGHT
TZOFFSETFROM:+0200
TZOFFSETTO:+0300
TZNAME:EEST
DTSTART:20240331T010000
END:DAYLIGHT
BEGIN:STANDARD
TZOFFSETFROM:+0300
TZOFFSETTO:+0200
TZNAME:EET
DTSTART:20241027T010000
END:STANDARD
BEGIN:DAYLIGHT
TZOFFSETFROM:+0200
TZOFFSETTO:+0300
TZNAME:EEST
DTSTART:20250330T010000
END:DAYLIGHT
BEGIN:STANDARD
TZOFFSETFROM:+0300
TZOFFSETTO:+0200
TZNAME:EET
DTSTART:20251026T010000
END:STANDARD
BEGIN:DAYLIGHT
TZOFFSETFROM:+0200
TZOFFSETTO:+0300
TZNAME:EEST
DTSTART:20260329T010000
END:DAYLIGHT
BEGIN:STANDARD
TZOFFSETFROM:+0300
TZOFFSETTO:+0200
TZNAME:EET
DTSTART:20261025T010000
END:STANDARD
END:VTIMEZONE
BEGIN:VEVENT
DTSTART;TZID=Europe/Tallinn:20250303T120000
DTEND;TZID=Europe/Tallinn:20250303T130000
DTSTAMP:20260422T112422
CREATED:20250217T085641Z
LAST-MODIFIED:20250217T085641Z
UID:2144-1741003200-1741006800@www.doktorikool.ee
SUMMARY:Teeme ära: Igakuine refleksioonigrupp doktorantuuri eesmärkide toetamiseks
DESCRIPTION:Refleksioonigrupp koguneb iga kuu esimesel esmaspäeval kell 12.00–13.00\, alates 3. märtsist kuni detsembrini\, kokku 10 kohtumist. \n\n\n\nKohtumised toimuvad virtuaalselt Zoomi vahendusel. Osalejad võivad liituda regulaarselt või vastavalt vajadusele. Kohtumised on inglise keeles. \n\n\n\nMiks igakuine refleksioonigrupp doktorantidele? \n\n\n\nDoktorantuuri elu võib olla isoleeriv ja intensiivne. On lihtne takerduda igapäevasesse teadustöösse\, kirjutamisse ja tähtaegadesse\, kaotades sageli silmist laiemad akadeemilised ja isiklikud eesmärgid. Vahel võivad tudengid tunda end ummikus või seista silmitsi muude raskustega ning õigele rajale naasmine võib osutuda keeruliseks. Tänapäeva akadeemilises keskkonnas ei pruugi juhendajatel olla piisavalt aega ega ressursse\, et pakkuda doktorantidele vajalikku regulaarset ja suunatud tuge. Sageli on vaja just stabiilset\, toetavat ja juhendatud keskkonda – sellist\, kus doktorandid saavad tuge\, leiavad vastutuse jagamise partnerid ning taastavad oma energia ja motivatsiooni. \n\n\n\nIgakuine refleksioonigrupp aitab seda lünka täita\, pakkudes usaldusväärset\, toetavat ja järjepidevat programmi doktorantidele\, et: \n\n\n\n\nmõtiskleda oma edusammude üle\,\n\n\n\narutada väljakutseid ja leida motivatsiooni\,\n\n\n\ntähistada saavutusi\,\n\n\n\nkorrigeerida oma fookust\,\n\n\n\nastuda järgmised sammud oma akadeemilisel teekonnal.\n\n\n\n\nLisaks aitab grupp luua kogukonnatunnet\, ühendades doktorante erinevatest ülikoolidest nii oma kodumaal kui ka rahvusvaheliselt. \n\n\n\nProtsessi juhivad sertifitseeritud coach’id: \n\n\n\n\nDr. Manuela Tischler\, Certified Solution Focused Organisational Coach\, EMCC Senior Practitioner Accreditation. Coach for PhD candidates\, Postdocs and Professors at the University of Applied Sciences\, Munich.\n\n\n\nMariann Nagatsu\, MSc in Psychology\, Certified Solution Focused Coach\, EMCC Senior Practitioner Accreditation. Coach for leaders and teams\, PhD candidates and solopreneurs. https://mariannnagatsu1.wixsite.com/phds\n\n\n\n\nRegistreerimine toimub SIIN. Tähtaeg on 24. veebruar\, kell 12:00. \n\n\n\nKontakt\, kellega ühendust võtta\, kui on küsimusi. \n\n\n\nSisulised küsimused: Mariann Nagatsu\, mariann.nagatsu@gmail.comTehnilised küsimused: Tiina Hagen\, tiina.hagen@taltech.ee \n\n\n\nEesti doktorikooli Sotsiaalteaduste haru\, TalTech Majandusteaduskond
URL:https://www.doktorikool.ee/en/uritused/teeme-ara-igakuine-refleksioonigrupp-doktorantuuri-eesmarkide-toetamiseks/
END:VEVENT
BEGIN:VEVENT
DTSTART;TZID=Europe/Tallinn:20250303T140000
DTEND;TZID=Europe/Tallinn:20250303T170000
DTSTAMP:20260422T112422
CREATED:20250217T124113Z
LAST-MODIFIED:20250217T124113Z
UID:2171-1741010400-1741021200@www.doktorikool.ee
SUMMARY:Professor Peter Oestmanni külalisloeng “Practical Guidance for Methodology: A Case Study”
DESCRIPTION:Kaarli pst 3-101\, Tallinn \n\n\n\nEesti doktorikooli sotsiaalteaduste haru kutsub doktorante\, magistrante ja juhendajaid kuulama Professor Peter Oestmanni (Münsteri Ülikool) külalisloengut “Practical Guidance for Methodology: A Case Study”. \n\n\n\nLoeng toimub 3. märtsil kl 14–17 õigusteaduse õppehoones\, Kaarli pst 3-101\, Tallinnas. \n\n\n\nLoeng käsitleb õigusteadusliku teadustöö kirjutamise peamisi etappe\, alates uurimisteema määratlemisest kuni õigusallikate analüüsimise ja doktoritöö struktureerimiseni. Arutletakse teadustöö uurimisküsimuste sõnastamist ja sobiva metoodika valikut\, doktoritööle selge ülesehituse loomist ning kuidas struktureerida sissejuhatust\, põhiosa ja järeldusi. Erilist tähelepanu pööratakse õigusnormide ja -tekstidega töötamisele\, asjakohase kirjanduse hindamisele ning kohtupraktika analüüsile. \n\n\n\nLoengus tuuakse praktilisi näiteid hiljuti kaitstud doktoritöödest\, et siduda teoreetilised käsitlused reaalsete väljakutsetega teadustöö koostamisel. Doktorante julgustatakse aktiivselt osalema ja esitama küsimusi teemade kohta\, mis neile doktoritöö kirjutamisel keerukust valmistavad. \n\n\n\nPeter Oestmann on Münsteri Ülikooli tsiviilõiguse ja õiguse ajaloo professor. Tema peamised uurimisteemad käsitlevad keskaegse ja varauusaegse Saksa õiguse ajalugu\, eriti kohtumenetluse arengut ja õigusallikate väljaandeid. https://www.jura.uni-muenster.de/de/apps/personenliste/prof-dr-peter-oestmann/ \n\n\n\nRegistreeri üritusele SIIN. Registreerimise tähtaeg on 25. veebruar 2025. \n\n\n\nKontakt: Katri Holst\, katri.holst@ut.ee \n\n\n\nEesti doktorikooli sotsiaalteaduste haru.
URL:https://www.doktorikool.ee/en/uritused/professor-peter-oestmanni-kulalisloeng-practical-guidance-for-methodology-a-case-study/
END:VEVENT
END:VCALENDAR