BEGIN:VCALENDAR
VERSION:2.0
PRODID:-//Eesti doktorikool - ECPv6.15.20//NONSGML v1.0//EN
CALSCALE:GREGORIAN
METHOD:PUBLISH
X-ORIGINAL-URL:https://www.doktorikool.ee/en
X-WR-CALDESC:Events for Eesti doktorikool
REFRESH-INTERVAL;VALUE=DURATION:PT1H
X-Robots-Tag:noindex
X-PUBLISHED-TTL:PT1H
BEGIN:VTIMEZONE
TZID:Europe/Tallinn
BEGIN:DAYLIGHT
TZOFFSETFROM:+0200
TZOFFSETTO:+0300
TZNAME:EEST
DTSTART:20240331T010000
END:DAYLIGHT
BEGIN:STANDARD
TZOFFSETFROM:+0300
TZOFFSETTO:+0200
TZNAME:EET
DTSTART:20241027T010000
END:STANDARD
BEGIN:DAYLIGHT
TZOFFSETFROM:+0200
TZOFFSETTO:+0300
TZNAME:EEST
DTSTART:20250330T010000
END:DAYLIGHT
BEGIN:STANDARD
TZOFFSETFROM:+0300
TZOFFSETTO:+0200
TZNAME:EET
DTSTART:20251026T010000
END:STANDARD
BEGIN:DAYLIGHT
TZOFFSETFROM:+0200
TZOFFSETTO:+0300
TZNAME:EEST
DTSTART:20260329T010000
END:DAYLIGHT
BEGIN:STANDARD
TZOFFSETFROM:+0300
TZOFFSETTO:+0200
TZNAME:EET
DTSTART:20261025T010000
END:STANDARD
END:VTIMEZONE
BEGIN:VEVENT
DTSTART;TZID=Europe/Tallinn:20250306T153000
DTEND;TZID=Europe/Tallinn:20250306T160000
DTSTAMP:20260422T115010
CREATED:20250225T093929Z
LAST-MODIFIED:20250225T093930Z
UID:2168-1741275000-1741276800@www.doktorikool.ee
SUMMARY:Kroonilise obstruktiivse kopsuhaiguse (KOK) kaasuvad haigused
DESCRIPTION:L. Puusepa 8\, A. Linkbergi auditoorium \n\n\n\nTartu Ülikooli kliinilise meditsiini instituudi akadeemilised töötajad\, doktorandid\, arst-residendid\, meditsiinivaldkonna üliõpilased\, SA TÜ Kliinikumi arstid. \n\n\n\nAkadeemilisel tasemel käsitletakse kroonilise obstruktiivse kopsuhaigusega (KOK-iga) patsientidel tüüpiliselt esinevad kaasuvaid haigusi\, mida esineb KOK-i haigestunutel sagedamini kui vastavast soost ning samas vanuses ülejäänud populatsioonis. Nimetatud haiguste sagedasema koosesinemise põhjuseks on eeldatavalt ajafaktor (patsientide vanus) ning suur ühisosa KOK-i ning teiste haiguste etioloogias ja patobioloogias. \n\n\n\nFormaat on akadeemiline plenaarettekanne (loeng koos küsimuste vastuste vooruga); \n\n\n\nÕpiväljundid: osalenud tunnevad ja orienteeruvad KOK-iga sagedamini kaasnevate haiguste epidemioloogias\, tekkemehhanismides ja kaasaegses patsiendikäsitluses. \n\n\n\nLäbiviija on Terttu Harju\, Oulu Ülikooli kaasprofessor ja Oulu Ülikooli Haigla Sisehaiguste Keskuse Hingamisteede Haiguste Uurimisüksuse vanemkonsultant Soome Vabariigist. \n\n\n\nKontakt: alan.altraja@ut.ee; imbi.varris@ut.ee \n\n\n\nEesti doktorikooli arsti- ja terviseteaduste\, veterinaaria haru.
URL:https://www.doktorikool.ee/en/uritused/kroonilise-obstruktiivse-kopsuhaiguse-kok-kaasuvad-haigused/
END:VEVENT
END:VCALENDAR