BEGIN:VCALENDAR
VERSION:2.0
PRODID:-//Eesti doktorikool - ECPv6.15.20//NONSGML v1.0//EN
CALSCALE:GREGORIAN
METHOD:PUBLISH
X-WR-CALNAME:Eesti doktorikool
X-ORIGINAL-URL:https://www.doktorikool.ee/en
X-WR-CALDESC:Events for Eesti doktorikool
REFRESH-INTERVAL;VALUE=DURATION:PT1H
X-Robots-Tag:noindex
X-PUBLISHED-TTL:PT1H
BEGIN:VTIMEZONE
TZID:Europe/Tallinn
BEGIN:DAYLIGHT
TZOFFSETFROM:+0200
TZOFFSETTO:+0300
TZNAME:EEST
DTSTART:20240331T010000
END:DAYLIGHT
BEGIN:STANDARD
TZOFFSETFROM:+0300
TZOFFSETTO:+0200
TZNAME:EET
DTSTART:20241027T010000
END:STANDARD
BEGIN:DAYLIGHT
TZOFFSETFROM:+0200
TZOFFSETTO:+0300
TZNAME:EEST
DTSTART:20250330T010000
END:DAYLIGHT
BEGIN:STANDARD
TZOFFSETFROM:+0300
TZOFFSETTO:+0200
TZNAME:EET
DTSTART:20251026T010000
END:STANDARD
BEGIN:DAYLIGHT
TZOFFSETFROM:+0200
TZOFFSETTO:+0300
TZNAME:EEST
DTSTART:20260329T010000
END:DAYLIGHT
BEGIN:STANDARD
TZOFFSETFROM:+0300
TZOFFSETTO:+0200
TZNAME:EET
DTSTART:20261025T010000
END:STANDARD
END:VTIMEZONE
BEGIN:VEVENT
DTSTART;TZID=Europe/Tallinn:20250403T140000
DTEND;TZID=Europe/Tallinn:20250403T150000
DTSTAMP:20260422T114916
CREATED:20250324T071652Z
LAST-MODIFIED:20250324T071653Z
UID:2711-1743688800-1743692400@www.doktorikool.ee
SUMMARY:Endometrioosi biomarkerite otsingud - metaboolsed ja transkriptoomilised lähenemisviisid
DESCRIPTION:Biomeedikum\, ruum 1024 \n\n\n\nLoengu teema: Endometrioosi biomarkerite otsingud – metaboolsed ja transkriptoomilised lähenemisviisid. \n\n\n\nLoeng on inglise keeles. \n\n\n\nLäbiviijaks on Professor Tea Lanišnik Rižner (PhD)\, biokeemia ja molekulaarbioloogia osakond\, arstiteaduskond\, Ljubljana ülikool\, Sloveenia. \n\n\n\nKontakt: Maire Peters\, maire.peters@ut.ee \n\n\n\nEesti doktorikooli arsti- ja terviseteadused\, veterinaaria haru.
URL:https://www.doktorikool.ee/en/uritused/endometrioosi-biomarkerite-otsingud-metaboolsed-ja-transkriptoomilised-lahenemisviisid/
END:VEVENT
END:VCALENDAR