BEGIN:VCALENDAR
VERSION:2.0
PRODID:-//Eesti doktorikool - ECPv6.15.20//NONSGML v1.0//EN
CALSCALE:GREGORIAN
METHOD:PUBLISH
X-ORIGINAL-URL:https://www.doktorikool.ee/en
X-WR-CALDESC:Events for Eesti doktorikool
REFRESH-INTERVAL;VALUE=DURATION:PT1H
X-Robots-Tag:noindex
X-PUBLISHED-TTL:PT1H
BEGIN:VTIMEZONE
TZID:Europe/Tallinn
BEGIN:DAYLIGHT
TZOFFSETFROM:+0200
TZOFFSETTO:+0300
TZNAME:EEST
DTSTART:20240331T010000
END:DAYLIGHT
BEGIN:STANDARD
TZOFFSETFROM:+0300
TZOFFSETTO:+0200
TZNAME:EET
DTSTART:20241027T010000
END:STANDARD
BEGIN:DAYLIGHT
TZOFFSETFROM:+0200
TZOFFSETTO:+0300
TZNAME:EEST
DTSTART:20250330T010000
END:DAYLIGHT
BEGIN:STANDARD
TZOFFSETFROM:+0300
TZOFFSETTO:+0200
TZNAME:EET
DTSTART:20251026T010000
END:STANDARD
BEGIN:DAYLIGHT
TZOFFSETFROM:+0200
TZOFFSETTO:+0300
TZNAME:EEST
DTSTART:20260329T010000
END:DAYLIGHT
BEGIN:STANDARD
TZOFFSETFROM:+0300
TZOFFSETTO:+0200
TZNAME:EET
DTSTART:20261025T010000
END:STANDARD
END:VTIMEZONE
BEGIN:VEVENT
DTSTART;TZID=Europe/Tallinn:20250407T000000
DTEND;TZID=Europe/Tallinn:20250409T235959
DTSTAMP:20260422T145659
CREATED:20250306T122248Z
LAST-MODIFIED:20250306T122249Z
UID:2477-1743984000-1744243199@www.doktorikool.ee
SUMMARY:Kirjutamislaager
DESCRIPTION:Pühajärve Spa ja Puhkekeskus \n\n\n\nKirjutamislaagri eesmärgiks on artikli käsikirja või doktoritöö osa kirjutamine. Oodatud on loodusteaduste ja põllumajandusteaduste haru doktorandid. \n\n\n\nRegistreerimine SIIN. Registreerimise tähtaeg on 20. märts 2025.Osalejate piirarv on 20.  \n\n\n\nRegistreerumine toimub “kes ees\, see mees” põhimõttel\, kuid osalejate valimisel võtame arvesse: \n\n\n\n\nerinevate valdkondade ja ülikoolide esindatust;\n\n\n\ndoktorante\, kes saavad osaleda laagris kogu ürituse perioodi;\n\n\n\nkes pole jooksva õppeaasta (2024/2025) jooksul kirjutamislaagris osalenud;\n\n\n\ndoktorandid\, kellel on selge ja läbimõeldud tööplaan.\n\n\n\n\nKontakt: Moonika Teppo\, moonika.teppo@ut.ee (ÖMI visiooni ja integratsioonikomisjon) \n\n\n\nEesti doktorikooli loodusteaduste ja põllumajandusteaduste haru.
URL:https://www.doktorikool.ee/en/uritused/kirjutamislaager-9/
END:VEVENT
BEGIN:VEVENT
DTSTART;TZID=Europe/Tallinn:20250407T100000
DTEND;TZID=Europe/Tallinn:20250412T170000
DTSTAMP:20260422T145659
CREATED:20250219T124121Z
LAST-MODIFIED:20250219T184812Z
UID:2184-1744020000-1744477200@www.doktorikool.ee
SUMMARY:Kriitilised pärandiuuringud ja dekoloniaalne mõtlemine
DESCRIPTION:Eesti Kunstiakadeemias \n\n\n\nKursusele on oodatud humanitaarteaduste ja kunstide haru doktorandid ja magistrandid. \n\n\n\nKursuse eest on võimalik saada 3EAP-d. \n\n\n\nNädalane intensiivkursus tutvustab kriitiliste pärandiuuringute uusi lähenemisi\, keskendudes dekoloniaalsetele meetoditele ja praktikatele. Käsitletakse võimu ja positsionaalsust\, dissonantse ja keerulise pärandi kriitilist hoolt\, reageerimist mahavaikimisele ja mälu kustutamisele avardades kursusel osalejate arusaama kolonialismi\, (de)koloniaalsuse\, pärandi ja identiteedipoliitika omavahelistest seostest.Hommikustes seminarides käsitletud teemasid laiendatakse pärastlõunal külastades kohalikke pärandipaiku. Hindamiseks tuleb esitada suuline ettekanne\, mille käigus tudengid analüüsivad oma tööd dialoogis seminarides käsitletud autoritega. Ettekanded toimuvad iga hommikuse sessiooni lõpus\, välja arvatud esimesel päeval. \n\n\n\nProgramm (ja lugemismaterjalid): https://drive.google.com/file/d/1RXacbiiruFKyxm61LS3-NhhLup_IAqw8/view?usp=sharing \n\n\n\nLäbiviijaks on Prof Victoria Donovan\, Ukraina ja Ida-Euroopa uuringud\, St. Andrews’i Ülikool (UK). \n\n\n\nRegistreeri SIIN. Registreerimine kuni 24.03.2025.Osalejad valitakse lühikese motivatsioonikirja alusel. Eelistatud on doktorandid\, järgmisena MA tudengid\, kelle teema seostub pärandiuuringutega. \n\n\n\nKontakt: Irene Hütsi\, irene.hutsi@artun.ee \n\n\n\nEesti doktorikooli humanitaarteaduste ja kunstide haru.
URL:https://www.doktorikool.ee/en/uritused/kriitilised-parandiuuringud-ja-dekoloniaalne-motlemine/
END:VEVENT
BEGIN:VEVENT
DTSTART;TZID=Europe/Tallinn:20250408T000000
DTEND;TZID=Europe/Tallinn:20250409T235959
DTSTAMP:20260422T145659
CREATED:20250324T112329Z
LAST-MODIFIED:20250324T113641Z
UID:2714-1744070400-1744243199@www.doktorikool.ee
SUMMARY:Praktikapõhise uurimuse seminar
DESCRIPTION:08.04 10:45-15:45 EKA A204\, Eesti Kunstiakadeemias09.04 14:15-17:30 EKA A403\, Eesti Kunstiakadeemias \n\n\n\nSeminar on suunatud tehnika ja tehnoloogia ning humanitaaria ja kunstide haru doktorantidele. Seminari eest on võimalik saada 1\,5 EAP-d \n\n\n\nSeminari viib läbi dr Jan van Schaik (RMIT) koos dr Siim Tuksamiga (EKA arhitektuuri ja linnaplaneerimise doktoriõppekava juht). \n\n\n\nNädal enne seminari saadetakse osalejatele juhised\, kuidas seminariks valmistuda ning oma esitlust ette valmistada. \n\n\n\nPärast sissejuhatavat sessiooni\, kus kirjeldatakse\, kuidas praktikapõhist uurimistööd RMITi ülikoolis läbi viiakse\, esitlevad kandidaadid oma uurimistööd\, saavad tagasisidet ja ülesande järgmiseks päevaks. Teise päeva seminaris esitlevad osalejad taas oma uurmistööd lähtudes eelmisel päeval õpitust ning antud ülesandest. \n\n\n\n10. aprillil toimuval EKA doktorikooli konverentsil modereerib Dr. Jan van Schaic arhitektuuri ja linnaplaneerimise paneeli. Kell 18.00 toimub konverentsil dr Jan van Schaici avatud loeng „The Work is the Knowledge“. \n\n\n\nRegistreeri SIIN. Registreerimise tähtaeg on 01. aprill 2025.Osalejate piirarv on 10. Eelistatud on arhitektuuri ja linnaplaneerimise doktorandid. \n\n\n\nKontakt: Siim Tuksam\, siim.tuksam@artun.ee \n\n\n\nEesti doktorikooli tehnika ja tehnoloogia haru.
URL:https://www.doktorikool.ee/en/uritused/praktikapohise-uurimuse-seminar/
END:VEVENT
BEGIN:VEVENT
DTSTART;TZID=Europe/Tallinn:20250409T130000
DTEND;TZID=Europe/Tallinn:20250409T160000
DTSTAMP:20260422T145659
CREATED:20250227T100527Z
LAST-MODIFIED:20250227T100528Z
UID:2288-1744203600-1744214400@www.doktorikool.ee
SUMMARY:Tehisintellekti võimalused meditsiinis
DESCRIPTION:Biomeedikum\, Ravila 19\, BM-1006 \n\n\n\nThis seminar is held in Estonian. \n\n\n\nSeminarile on oodatud meditsiinivaldkonna doktorandid\, õppejõud\, teadlased\, tudengid \,SA TÜK Kliinikumi arstid ja meditsiinipersonal ning tehisintellekti uurivad arvutiteadlased\, doktorandid ja tudengid. \n\n\n\nTartu Ülikooli meditsiiniteaduste valdkond\, arvutiteaduse instituut ja Tartu Ülikooli Kliinikum kutsuvad avatud seminarile\, mis keskendub tehisintellekti võimalustele kaasaegses meditsiinis. \n\n\n\nSeminar toob kokku valdkonna tippeksperdid\, kes jagavad oma teadmisi ja kogemusi tehisaru rakendustest nii kliinilises töös\, peremeditsiinis\, radioloogias kui ka kliinilises psühholoogias. \n\n\n\nSamuti käsitletakse terviseandmete analüüsi ja tehisintellekti kasutamist meditsiiniliste piltide analüüsil. Seminar on suurepärane võimalus tutvuda uusimate arengutega ning arutada\, kuidas innovaatilised tehnoloogiad saavad toetada meditsiinitöötajate igapäevatööd ja parandada patsientide ravi. \n\n\n\nEsinejad: \n\n\n\n\nJoel Starkopf (MD\, PhD)\, anestesioloogia ja intensiivravi professor ja kliiniku juhataja\, TÜ KMI; teadus-arendusjuht\, SA Tartu Ülikooli Kliinikum –„Tehisaru ülikoolihaiglas – võimalused ja perspektiivid“\n\n\n\nAndres Lasn (MD)\,Meditsiinivaldkonna juht ettevõttes Certific OÜ –“Tehisaru kui abikäsi peremeditsiinis”\n\n\n\nMeelis Kull (PhD)\, tehisintellekti professor\, “Eesti tehisintellekti tippkeskus ja meditsiin”\n\n\n\nMartin Reim (MD)\, radioloogiakliiniku arst-õppejõud Martin Reim\, Tartu Ülikooli Kliinikum\, “Tehisaru radioloogias”\n\n\n\nNeeme Ilves (MD)\, personaalmeditsiini spetsialist\, andmeteaduste õppetool\, ATI\n\n\n\nteema “Piirid Tehisintellekti võimalustes meditsiinis?”\n\n\n\nRaivo Kolde (PhD)\, terviseinformaatika kaasprofessor\,  “Terviseandmete teisene kasutamine – erinevatest allikatest pärinevate andmete integreerimine ja standardiseerimine” \n\n\n\nKülli Kingo (MD\, PhD) dermatoloogia ja veneroloogia professor\, Nahahaiguste kliiniku juhataja; KMI; SA TÜK 2. valdkonna juht  “Telemeditsiin dermatoloogias”\n\n\n\nTriinu Niiberg-Pikksööt (MA)\, neuroteaduste doktorant\, kliiniline psühholoog-psühhoterapeut\, Katriito erakliiniku omanik\, juhatuse liige ja Migrevention innovatsioonijuht ja juhatuse liige.\n\n\n\n“Telemeditsiin ja migreen”\n\n\n\nDmytro Fishman (PhD)\, tehisintellekti kaasprofessor\, “AI in Biomedical Imaging: How Computer Scientists Contribute to Medicine”\, (inglise keeles)\n\n\n\n\nRegistreeri SIIN.  \n\n\n\nKontakt: Keidi Roosimäe\, keidi.roosimae@ut.ee \n\n\n\nEesti doktorikooli arsti- ja tervisteaduse\, veterinaaria haru.
URL:https://www.doktorikool.ee/en/uritused/tehisintellekti-voimalused-meditsiinis/
END:VEVENT
END:VCALENDAR