BEGIN:VCALENDAR
VERSION:2.0
PRODID:-//Eesti doktorikool - ECPv6.15.20//NONSGML v1.0//EN
CALSCALE:GREGORIAN
METHOD:PUBLISH
X-ORIGINAL-URL:https://www.doktorikool.ee/en
X-WR-CALDESC:Events for Eesti doktorikool
REFRESH-INTERVAL;VALUE=DURATION:PT1H
X-Robots-Tag:noindex
X-PUBLISHED-TTL:PT1H
BEGIN:VTIMEZONE
TZID:Europe/Tallinn
BEGIN:DAYLIGHT
TZOFFSETFROM:+0200
TZOFFSETTO:+0300
TZNAME:EEST
DTSTART:20240331T010000
END:DAYLIGHT
BEGIN:STANDARD
TZOFFSETFROM:+0300
TZOFFSETTO:+0200
TZNAME:EET
DTSTART:20241027T010000
END:STANDARD
BEGIN:DAYLIGHT
TZOFFSETFROM:+0200
TZOFFSETTO:+0300
TZNAME:EEST
DTSTART:20250330T010000
END:DAYLIGHT
BEGIN:STANDARD
TZOFFSETFROM:+0300
TZOFFSETTO:+0200
TZNAME:EET
DTSTART:20251026T010000
END:STANDARD
BEGIN:DAYLIGHT
TZOFFSETFROM:+0200
TZOFFSETTO:+0300
TZNAME:EEST
DTSTART:20260329T010000
END:DAYLIGHT
BEGIN:STANDARD
TZOFFSETFROM:+0300
TZOFFSETTO:+0200
TZNAME:EET
DTSTART:20261025T010000
END:STANDARD
END:VTIMEZONE
BEGIN:VEVENT
DTSTART;TZID=Europe/Tallinn:20250407T100000
DTEND;TZID=Europe/Tallinn:20250412T170000
DTSTAMP:20260422T133132
CREATED:20250219T124121Z
LAST-MODIFIED:20250219T184812Z
UID:2184-1744020000-1744477200@www.doktorikool.ee
SUMMARY:Kriitilised pärandiuuringud ja dekoloniaalne mõtlemine
DESCRIPTION:Eesti Kunstiakadeemias \n\n\n\nKursusele on oodatud humanitaarteaduste ja kunstide haru doktorandid ja magistrandid. \n\n\n\nKursuse eest on võimalik saada 3EAP-d. \n\n\n\nNädalane intensiivkursus tutvustab kriitiliste pärandiuuringute uusi lähenemisi\, keskendudes dekoloniaalsetele meetoditele ja praktikatele. Käsitletakse võimu ja positsionaalsust\, dissonantse ja keerulise pärandi kriitilist hoolt\, reageerimist mahavaikimisele ja mälu kustutamisele avardades kursusel osalejate arusaama kolonialismi\, (de)koloniaalsuse\, pärandi ja identiteedipoliitika omavahelistest seostest.Hommikustes seminarides käsitletud teemasid laiendatakse pärastlõunal külastades kohalikke pärandipaiku. Hindamiseks tuleb esitada suuline ettekanne\, mille käigus tudengid analüüsivad oma tööd dialoogis seminarides käsitletud autoritega. Ettekanded toimuvad iga hommikuse sessiooni lõpus\, välja arvatud esimesel päeval. \n\n\n\nProgramm (ja lugemismaterjalid): https://drive.google.com/file/d/1RXacbiiruFKyxm61LS3-NhhLup_IAqw8/view?usp=sharing \n\n\n\nLäbiviijaks on Prof Victoria Donovan\, Ukraina ja Ida-Euroopa uuringud\, St. Andrews’i Ülikool (UK). \n\n\n\nRegistreeri SIIN. Registreerimine kuni 24.03.2025.Osalejad valitakse lühikese motivatsioonikirja alusel. Eelistatud on doktorandid\, järgmisena MA tudengid\, kelle teema seostub pärandiuuringutega. \n\n\n\nKontakt: Irene Hütsi\, irene.hutsi@artun.ee \n\n\n\nEesti doktorikooli humanitaarteaduste ja kunstide haru.
URL:https://www.doktorikool.ee/en/uritused/kriitilised-parandiuuringud-ja-dekoloniaalne-motlemine/
END:VEVENT
BEGIN:VEVENT
DTSTART;TZID=Europe/Tallinn:20250410T000000
DTEND;TZID=Europe/Tallinn:20250412T235959
DTSTAMP:20260422T133132
CREATED:20250219T190514Z
LAST-MODIFIED:20250220T120511Z
UID:2187-1744243200-1744502399@www.doktorikool.ee
SUMMARY:Sõna jõud. Kuidas konstrueeritakse keeles sugu ja seksuaalsust?
DESCRIPTION:Tartu Ülikoolis \n\n\n\n\n10. ja 12. aprill Jakobi 2-114\n\n\n\n11. aprill Jakobi 2-130\n\n\n\n\nKeelel on oluline roll identiteedi erinevate tahkude ja ühiskondlike normide kujundamisel. Intensiivseminaril keskendume sellele\, kuidas keeles sugu ning seksuaalsust konstrueeritakse ja taasesitatakse\, samuti uurime\, millised väärtused ja normid keelekasutuses peegelduvad. \n\n\n\nIga seminaripäev koosneb loengutest\, grupiaruteludest ja praktilistest töötubadest. Sissejuhatavatele loengutele lisanduvad soouuringute metodoloogiliste ja eetiliste küsimuste arutelud. Päeva teises pooles esitavad doktorandid lühiettekanded. 12. aprill on poolik päev\, mis lõpeb keskpäeva paiku. \n\n\n\nEsinejad: \n\n\n\nDr. Lucy Jones \nAssociate Professor in Sociolinguistics\, University of Nottingham \n\n\n\nDr Lucy Jones is Associate Professor in Sociolinguistics at the University of Nottingham. She is a discourse analyst and linguistic ethnographer working on a range of topics relevant to language\, gender and sexuality. Her published research includes normativity and identity construction amongst LGBTQ+ youth\, homophobic discourse in relation to same-sex marriage and HIV prevention\, critical discourse analysis of how trans athletes in elite sport are represented within the news media\, and lesbian identity construction. Her monograph Language and LGBTQ+ Youth: Analysing Marginalised Identities through an Intersectional Lens investigates the role of intersectionality in the identity construction of queer British youth\, and is in press with Bloomsbury. Dr. Lucy Jones will give a taught lecture on intersectionality and a workshop on ethics in LGS research. \n\n\n\nTaught lecture “Intersectionality in language\, gender and sexuality research” \n\n\n\nThis session will introduce the feminist theory of intersectionality and identify\, key issues that have been explored in contemporary language\, gender and sexuality scholarship. Dr Jones will draw on her own research with LGBTQ+ youth to demonstrate how marginalised identities can be explored robustly via an intersectional framework. \n\n\n\nWorkshop “Ethics in language\, gender and sexuality” \n\n\n\nThis workshop will involve participants in thinking about the various ethical implications of linguistic research in both online and offline contexts. Using authentic examples from published work\, it will consider both the institutional ethics review process and the practicalities of “doing research ethically”\, highlighting the key issues researchers must consider at each stage. \n\n\n\nReading material for the workshop (available for download at the link below): \n\n\n\nAtkins\, Sarah\, Mackenzie\, Jai and Jones\, Lucy. “Ethical practice in participant-centred linguistic research” Linguistics\, 2024. https://doi.org/10.1515/ling-2023-0130 \n\n\n\n\nDr. Frazer Heritage \nSenior Lecturer in Linguistics\, Manchester Metropolitan University. More info TBA \n\n\n\n\nDr. Rebeka Põldsam \nResearch Fellow in Ethnology\, University of TartuRebeka Põldsam is a cultural historian and researcher in ethnology. In 2023\, she defended her doctoral dissertation\, “Why are we still abnormal?!” History of Discourses on Non-Normative Sex-Gender Subjects in Estonia. Her current research focuses on LGBTQ+ futures and aging in Estonia as part of the project Imagining Queer Ageing Futures in Estonia\, Poland\, and Sweden. Põldsam is also a freelance art curator\, editor of the gender studies journal Ariadne Lõng\, and a visiting lecturer at the Estonian Academy of Arts. She has co-directed the LGBTQ+ community history short film The Night of Purple Horrors (2024) and curated the exhibition From “Such People” to LGBT Activism at the Vabamu Museum of Occupations and Freedom. \n\n\n\nLecture-Seminar: Un/learning Non-Normative Sex-Gender Vocabularies \n\n\n\nIn her research on homosexuality and gender non-conformity in early 20th-century and Soviet-era Estonia\, Rebeka Põldsam has encountered challenges in learning and unlearning the meanings of words related to non-normative sexualities. LGBTQ+ vocabularies are fluid and rapidly evolving\, necessitating constant updates. This lecture-seminar will present the complexities of working with historical terminology and include a discussion of Brian James Baer’s chapter Making a Spectacle of Homosexuality: The Problem of Gay (In)Visibility in Soviet Russia. \n\n\n\nReading material for the workshop (downloadable files here): \n\n\n\nBaer\, B. J. (2009). Making a Spectacle of Homosexuality: The Problem of Gay (In)Visibility. In Other Russias: Homosexuality and the Crisis of Post-Soviet Identity (pp. 43–69). Palgrave Macmillan. \n\n\n\nAdditional (voluntary) reading:Stryker\, S. (2017). Transgender History: The Roots of Today’s Revolution (Revised ed.). Seal Press. – Chapter 1. Contexts\, Concepts\, and Terms \n\n\n\n\nOsalejatel on võimalik saada 2EAP-d. Kõik osalejad peavad 10-15-minutilise kiirettekande oma uurimisteemast või sellega seotud küsimustest\, mida arutatakse sõbralikus ja toetavas õhkkonnas.  \n\n\n\nRegistreeri SIIN. Registreerimise tähtaeg on 07.märts 2025.Osalejate piirarv on 25 inimest. \n\n\n\nOrganiseerijad: \n\n\n\n\nAet Kuusik\, Eesti ja üldkeeleteaduse instituut\, Tartu Ülikool\, aet.kuusik@ut.ee \n\n\n\nElisabeth Kaukonen\, Eesti ja üldkeeleteaduse instituut\, Tartu Ülikool\, elisabeth.kaukonen @ut.ee \n\n\n\nProf. Liina Lindström\, Eesti ja üldkeeleteaduse instituut\, Tartu Ülikool\, liina.lindstrom@ut.ee \n\n\n\nProf. Raili Marling\, Maailmakeelte ja kultuuride instituut\, Tartu Ülikool\, raili.marling@ut.ee \n\n\n\n\nKontakt: Aet Kuusik\, aet.kuusik@ut.ee \n\n\n\nÜrituse link TÜ veebilehel. \n\n\n\nEesti doktorikooli humanitaarteaduste ja kunstide haru.
URL:https://www.doktorikool.ee/en/uritused/sona-joud-kuidas-konstrueeritakse-keeles-sugu-ja-seksuaalsust/
END:VEVENT
BEGIN:VEVENT
DTSTART;TZID=Europe/Tallinn:20250411T100000
DTEND;TZID=Europe/Tallinn:20250411T150000
DTSTAMP:20260422T133132
CREATED:20250312T132219Z
LAST-MODIFIED:20250404T072431Z
UID:2587-1744365600-1744383600@www.doktorikool.ee
SUMMARY:Juhendajatele: Intervjueerimise laiem roll doktorantide vastuvõtu protsessis
DESCRIPTION:SOC-309 TalTech ja ka veebis (hübriidina) \n\n\n\nThis event is in Estonian. \n\n\n\nÜritus on mõeldud kõikidele doktorantide juhendajatele. \n\n\n\nKõneleme vastuvõtu intervjuude laiemast rollist võimalike ohtude maandamisel ning sellest\, mil viisil on parim intervjuuks valmistuda. Kuidas seda läbi viia\, valida küsimusi ja mida märgata vastuolude tuvastamiseks\, et otsustusprotsess oleks lihtsam. Formaat on juhtumikirjeldused ja nende arutelud. \n\n\n\nKoolituse päevakava:\n9:30 – suupisted ja kohvi10:00 – 12:00 – koolituse algus12:00 – 12:30 – Doktorikooli korraldatud lõuna kõigile kohalpeal osalejatele12:30 – 13:45 – koolitus13:45 – 14:00 – kohvipaus14:00 – 15:00 – koolitus \n\n\n\n\nÜritust viivad läbi Pärtel Preinvalts\, Põhja prefektuurist\, PPA ja Henri Schasmin\, TalTechist. \n\n\n\nRegistreeri SIIN. Registreerimise tähtaeg on 8. aprill 2025. \n\n\n\nKontakt: Henri Schasmin\, henri.schasmin@taltech.ee \n\n\n\nEesti doktorikooli ühisüritus.
URL:https://www.doktorikool.ee/en/uritused/juhendajatele-intervjueerimise-laiem-roll-doktorantide-vastuvotu-protsessis/
END:VEVENT
END:VCALENDAR