BEGIN:VCALENDAR
VERSION:2.0
PRODID:-//Eesti doktorikool - ECPv6.15.20//NONSGML v1.0//EN
CALSCALE:GREGORIAN
METHOD:PUBLISH
X-ORIGINAL-URL:https://www.doktorikool.ee/en
X-WR-CALDESC:Events for Eesti doktorikool
REFRESH-INTERVAL;VALUE=DURATION:PT1H
X-Robots-Tag:noindex
X-PUBLISHED-TTL:PT1H
BEGIN:VTIMEZONE
TZID:Europe/Tallinn
BEGIN:DAYLIGHT
TZOFFSETFROM:+0200
TZOFFSETTO:+0300
TZNAME:EEST
DTSTART:20240331T010000
END:DAYLIGHT
BEGIN:STANDARD
TZOFFSETFROM:+0300
TZOFFSETTO:+0200
TZNAME:EET
DTSTART:20241027T010000
END:STANDARD
BEGIN:DAYLIGHT
TZOFFSETFROM:+0200
TZOFFSETTO:+0300
TZNAME:EEST
DTSTART:20250330T010000
END:DAYLIGHT
BEGIN:STANDARD
TZOFFSETFROM:+0300
TZOFFSETTO:+0200
TZNAME:EET
DTSTART:20251026T010000
END:STANDARD
BEGIN:DAYLIGHT
TZOFFSETFROM:+0200
TZOFFSETTO:+0300
TZNAME:EEST
DTSTART:20260329T010000
END:DAYLIGHT
BEGIN:STANDARD
TZOFFSETFROM:+0300
TZOFFSETTO:+0200
TZNAME:EET
DTSTART:20261025T010000
END:STANDARD
END:VTIMEZONE
BEGIN:VEVENT
DTSTART;TZID=Europe/Tallinn:20250429T000000
DTEND;TZID=Europe/Tallinn:20250430T235959
DTSTAMP:20260422T145607
CREATED:20250313T084032Z
LAST-MODIFIED:20250319T110853Z
UID:2593-1745884800-1746057599@www.doktorikool.ee
SUMMARY:Kevadkool "Uued suunad õppimise ja õpetamise uurimisel"
DESCRIPTION:Haridusteaduste instituudis\, Jakobi 5\, Tartu \n\n\n\nKahe päeva jooksul esitavad haridusteaduste doktorandid oma töid ettekannete\, paneeldiskussioonide ja postersessioonide kaudu. \n\n\n\nKevadkooli avab mõttevahetus teemal: “Kuidas AI on teadust muutmas? Mida see tähendab doktoriõppele ja doktorantidele?” Teisel päeval toimuvad ka paralleelsed töötoad\, kus arutleme olulistel teemadel “Tulevikuperspektiivid: karjäär ja rahastusvõimalused” ning “Heaolu: kuidas doktorandi heaolu toetada ja hoida?” \n\n\n\nOodatud on nii alustavad haridusteaduste valdkonna nooremteadurid\, kui ka need\, kes mõtlevad oma õpingute lõpetamise ja uute väljakutsete peale. Tule ja kogu uusi teadmisi\, kontakte ning inspiratsiooni! \n\n\n\nKevadkooli programm. \n\n\n\nNB! Paneel ja töötoad on eesti keeles\, ettekanded nii eesti kui ka inglise keeles. \n\n\n\nEsinejate registreerumine on avatud 30. märtsini\, kuulajate registreerumine 15. aprillini. \n\n\n\nKüsimused ja lisainfo: korraldustiimi liige Anne Mari Roost (anne.mari.roost@ut.ee). \n\n\n\nEesti doktorikooli sotsiaalteaduste haru.
URL:https://www.doktorikool.ee/en/uritused/keavdkool-uued-suunad-oppimise-ja-opetamise-uurimisel/
END:VEVENT
END:VCALENDAR