BEGIN:VCALENDAR
VERSION:2.0
PRODID:-//Eesti doktorikool - ECPv6.15.20//NONSGML v1.0//EN
CALSCALE:GREGORIAN
METHOD:PUBLISH
X-ORIGINAL-URL:https://www.doktorikool.ee/en
X-WR-CALDESC:Events for Eesti doktorikool
REFRESH-INTERVAL;VALUE=DURATION:PT1H
X-Robots-Tag:noindex
X-PUBLISHED-TTL:PT1H
BEGIN:VTIMEZONE
TZID:Europe/Tallinn
BEGIN:DAYLIGHT
TZOFFSETFROM:+0200
TZOFFSETTO:+0300
TZNAME:EEST
DTSTART:20240331T010000
END:DAYLIGHT
BEGIN:STANDARD
TZOFFSETFROM:+0300
TZOFFSETTO:+0200
TZNAME:EET
DTSTART:20241027T010000
END:STANDARD
BEGIN:DAYLIGHT
TZOFFSETFROM:+0200
TZOFFSETTO:+0300
TZNAME:EEST
DTSTART:20250330T010000
END:DAYLIGHT
BEGIN:STANDARD
TZOFFSETFROM:+0300
TZOFFSETTO:+0200
TZNAME:EET
DTSTART:20251026T010000
END:STANDARD
BEGIN:DAYLIGHT
TZOFFSETFROM:+0200
TZOFFSETTO:+0300
TZNAME:EEST
DTSTART:20260329T010000
END:DAYLIGHT
BEGIN:STANDARD
TZOFFSETFROM:+0300
TZOFFSETTO:+0200
TZNAME:EET
DTSTART:20261025T010000
END:STANDARD
END:VTIMEZONE
BEGIN:VEVENT
DTSTART;TZID=Europe/Tallinn:20250505T000000
DTEND;TZID=Europe/Tallinn:20250507T235959
DTSTAMP:20260422T182815
CREATED:20250409T072438Z
LAST-MODIFIED:20250409T072439Z
UID:2808-1746403200-1746662399@www.doktorikool.ee
SUMMARY:Kirjutamislaager
DESCRIPTION:Pühajärve SPAs ja Puhkekeskuses \n\n\n\nKirjutamislaagrisse on oodatud sotsiaalteaduste haru doktorandid. Kirjutamislaagri eesmärk on pakkuda doktorantidele rahulikku ja keskendumist võimaldavat keskkonda\, et keskenduda oma doktoritöö või teadusartikli kirjutamisele\, saada oma tööle tagasisidet ning suhelda teiste doktorantidega. \n\n\n\nKirjutamislaagrisse võetakse vastu maksimaalselt 23 doktoranti\, eelisjärjekorras võetakse vastu sotsiaalvaldkonna doktorandid\, doktorandid\, kes pole sel aastal veel kirjutamislaagris osalenud\, ja doktorandid\, kes saavad üritusel osaleda terve kirjutamislaagri vältel. \n\n\n\nOsalejatele on doktorikooli poolt majutus kaheks ööks ühekohalistes tubades\, toitlustus ja vajadusel transport Tartust või Tallinnast Pühajärvele ja tagasi. Transport toimub tellitud bussiga\, ühistranspordipileteid või autosõitu isikliku autoga ei kompenseerita. \n\n\n\nOsalemiseks täida sooviavaldus\, mis sisaldab ka lühikest motivatsioonikirja\, miks soovid kirjutamislaagris osaleda ning kuidas aitab see kaasa Su doktoritöö valmimisele (eesmärgid ja tööplaan laagri ajaks). Kandideerida saab 21. aprilli keskööni. \n\n\n\nKontakt: Helena Saare\, helena.saare@ut.ee \n\n\n\nKirjutamislaagrit korraldab Eesti doktorikooli sotsiaalteaduste harupartner Tartu Ülikool. \n\n\n\nEesti doktorikooli sotsiaalteaduste haru.
URL:https://www.doktorikool.ee/en/uritused/kirjutamislaager-11/
END:VEVENT
BEGIN:VEVENT
DTSTART;TZID=Europe/Tallinn:20250505T120000
DTEND;TZID=Europe/Tallinn:20250505T130000
DTSTAMP:20260422T182816
CREATED:20250217T085654Z
LAST-MODIFIED:20250411T091606Z
UID:2151-1746446400-1746450000@www.doktorikool.ee
SUMMARY:Teeme ära: Igakuine refleksioonigrupp doktorantuuri eesmärkide toetamiseks
DESCRIPTION:Refleksioonigrupp koguneb iga kuu esimesel esmaspäeval kell 12.00–13.00\, alates 3. märtsist kuni detsembrini\, kokku 10 kohtumist. \n\n\n\nKohtumised toimuvad virtuaalselt Zoomi vahendusel. Osalejad võivad liituda regulaarselt või vastavalt vajadusele. Kohtumised on inglise keeles. \n\n\n\nMiks igakuine refleksioonigrupp doktorantidele? \n\n\n\nDoktorantuuri elu võib olla isoleeriv ja intensiivne. On lihtne takerduda igapäevasesse teadustöösse\, kirjutamisse ja tähtaegadesse\, kaotades sageli silmist laiemad akadeemilised ja isiklikud eesmärgid. Vahel võivad tudengid tunda end ummikus või seista silmitsi muude raskustega ning õigele rajale naasmine võib osutuda keeruliseks. Tänapäeva akadeemilises keskkonnas ei pruugi juhendajatel olla piisavalt aega ega ressursse\, et pakkuda doktorantidele vajalikku regulaarset ja suunatud tuge. Sageli on vaja just stabiilset\, toetavat ja juhendatud keskkonda – sellist\, kus doktorandid saavad tuge\, leiavad vastutuse jagamise partnerid ning taastavad oma energia ja motivatsiooni. \n\n\n\nIgakuine refleksioonigrupp aitab seda lünka täita\, pakkudes usaldusväärset\, toetavat ja järjepidevat programmi doktorantidele\, et: \n\n\n\n\nmõtiskleda oma edusammude üle\,\n\n\n\narutada väljakutseid ja leida motivatsiooni\,\n\n\n\ntähistada saavutusi\,\n\n\n\nkorrigeerida oma fookust\,\n\n\n\nastuda järgmised sammud oma akadeemilisel teekonnal.\n\n\n\n\nLisaks aitab grupp luua kogukonnatunnet\, ühendades doktorante erinevatest ülikoolidest nii oma kodumaal kui ka rahvusvaheliselt. \n\n\n\nProtsessi juhivad sertifitseeritud coach’id: \n\n\n\n\nDr. Manuela Tischler\, Certified Solution Focused Organisational Coach\, EMCC Senior Practitioner Accreditation. Coach for PhD candidates\, Postdocs and Professors at the University of Applied Sciences\, Munich.\n\n\n\nMariann Nagatsu\, MSc in Psychology\, Certified Solution Focused Coach\, EMCC Senior Practitioner Accreditation. Coach for leaders and teams\, PhD candidates and solopreneurs. https://www.coachingforscientists.com\n\n\n\n\nRegistreerimine toimub SIIN.Grupiga saab liituda ka jooksvalt e-maili teel: mariann@coachingforscientists.com. \n\n\n\nKontakt\, kellega ühendust võtta\, kui on küsimusi. \n\n\n\nSisulised küsimused: Mariann Nagatsu\, mariann@coachingforscientists.comTehnilised küsimused: Tiina Hagen\, tiina.hagen@taltech.ee \n\n\n\nEesti doktorikooli Sotsiaalteaduste haru\, TalTech Majandusteaduskond
URL:https://www.doktorikool.ee/en/uritused/teeme-ara-igakuine-refleksioonigrupp-doktorantuuri-eesmarkide-toetamiseks-3/
END:VEVENT
END:VCALENDAR