BEGIN:VCALENDAR
VERSION:2.0
PRODID:-//Eesti doktorikool - ECPv6.15.20//NONSGML v1.0//EN
CALSCALE:GREGORIAN
METHOD:PUBLISH
X-ORIGINAL-URL:https://www.doktorikool.ee/en
X-WR-CALDESC:Events for Eesti doktorikool
REFRESH-INTERVAL;VALUE=DURATION:PT1H
X-Robots-Tag:noindex
X-PUBLISHED-TTL:PT1H
BEGIN:VTIMEZONE
TZID:Europe/Tallinn
BEGIN:DAYLIGHT
TZOFFSETFROM:+0200
TZOFFSETTO:+0300
TZNAME:EEST
DTSTART:20240331T010000
END:DAYLIGHT
BEGIN:STANDARD
TZOFFSETFROM:+0300
TZOFFSETTO:+0200
TZNAME:EET
DTSTART:20241027T010000
END:STANDARD
BEGIN:DAYLIGHT
TZOFFSETFROM:+0200
TZOFFSETTO:+0300
TZNAME:EEST
DTSTART:20250330T010000
END:DAYLIGHT
BEGIN:STANDARD
TZOFFSETFROM:+0300
TZOFFSETTO:+0200
TZNAME:EET
DTSTART:20251026T010000
END:STANDARD
BEGIN:DAYLIGHT
TZOFFSETFROM:+0200
TZOFFSETTO:+0300
TZNAME:EEST
DTSTART:20260329T010000
END:DAYLIGHT
BEGIN:STANDARD
TZOFFSETFROM:+0300
TZOFFSETTO:+0200
TZNAME:EET
DTSTART:20261025T010000
END:STANDARD
END:VTIMEZONE
BEGIN:VEVENT
DTSTART;TZID=Europe/Tallinn:20250514T000000
DTEND;TZID=Europe/Tallinn:20250514T235959
DTSTAMP:20260422T202138
CREATED:20250416T074816Z
LAST-MODIFIED:20250512T064135Z
UID:2924-1747180800-1747267199@www.doktorikool.ee
SUMMARY:Konverents "Maakasutus ja elurikkus muutuste tuules"
DESCRIPTION:Konverents toimub Tartus \n\n\n\nKonverentsi esimene pool\, algusega kl 10\, toimub EMÜ peahoones F.R. Kreutzwaldi 1 suures saalis. Lõuna ja konverentsi teine pool toimub TÜ Oecologicum´i saalis\, Liivi 2. Vahepeale jääb jalutuskäik läbi Tähtvere. Päev lõpeb hedonistliku muljetamisega Liivi 2 kuuenda korruse puhkealal. \n\n\n\nKonverents „Maakasutus ja elurikkus muutuste tuules“ kutsub kokku loodusteaduste valdkonna kraadiõppurid ja teadlased arutama teemade üle nagu elurikkus\, kliimamuutus\, ökoloogiline taastamine\, metsandus\, majandus ja nendega seotud ajaskaalad. \n\n\n\nKonverentsi motoks on: “Pehme jõud nurga tagant.”  \n\n\n\nLühiettekanded (15+5) on mõlema ülikooli teadlaste poolt. Täpsem programm peatselt. \n\n\n\nRegistreeri SIIN. Registreerimise tähtaeg on 6. mai 2025. \n\n\n\nAjakava \n9.30 Kogunemine ja kohvi (F.R. Kreutzwaldi 1\, aula eeskoda)10.00 Algus ja avasõnum10.05 Kalle Olli10.25 Triin Reitalu10.45 Auli Veske11.10 ettekanne11.30 Päeva esimese poole lõppsõna11.35 – 12.00 Matk F.R.Kreutzwaldi 1 -> J.Liivi 212.05 – 13.00 Lõunasöök13.05 Lauri Laanisto13.25 Allan Sims13.45 Rein Drenkhan14.10 Raul Rosenvald14.30 Kohvipaus15.00 Paneelarutelu – kõik esinejad16.00 Hedonistlik jätkuüritus\, Oecologicumi 6. korrus \n\n\n\n\nKontaktid: \n\n\n\n\nKalle Olli\, kalle.olli@emu.ee\n\n\n\nMaarja Öpik\, maarja.opik@ut.ee\n\n\n\n\nÜrituse läbiviijad on TÜ Ökoloogia ja Maateaduste Instituut\, Eesti Maaülikool koos Eesti doktorikooliga. \n\n\n\nEesti doktorikooli loodusteaduste ja põllumajandusteaduste haru.
URL:https://www.doktorikool.ee/en/uritused/konverents-maakasutus-ja-elurikkus-muutuste-tuules/
END:VEVENT
BEGIN:VEVENT
DTSTART;TZID=Europe/Tallinn:20250514T093000
DTEND;TZID=Europe/Tallinn:20250516T170000
DTSTAMP:20260422T202138
CREATED:20250331T132246Z
LAST-MODIFIED:20250401T122822Z
UID:2724-1747215000-1747414800@www.doktorikool.ee
SUMMARY:Energeetilise makroskoopilise esituse (EMR) töötuba
DESCRIPTION:Tallinna Tehnikaülikoolis\, NRG maja (NRG-422 ja NRG-223) \n\n\n\nTöötuba on suunatud tehnika ja tehnoloogia haru doktorantidele. Töötuba viiakse läbi inglise keeles. \n\n\n\n3-päevane töötuba keskendub Energeetilise Makroskoopilise Esituse (EMR) metoodikale keerukate elektromehhaaniliste süsteemide modelleerimiseks ja juhtimiseks. \n\n\n\nEMR on graafiline formalism\, mis töötati välja 2000. aastal keerukate elektromehhaaniliste süsteemide kirjeldamiseks. Sellest ajast alates on EMR-i laiendatud ka keerukatele multifüüsikalistele süsteemidele\, nagu soojusprotsessid\, elektrokeemia ja vedelikumehaanika. EMR põhineb toime-reaktsiooni printsiibil\, et korraldada alamsüsteemide mudelite omavaheline ühendus vastavalt füüsikalisele põhjuslikkusele (st integraalpõhjuslikkus). See kirjeldus toob esile süsteemi energiapõhised omadused\, sealhulgas energia akumuleerimise\, muundamise ja jaotamise. Lisaks võimaldab EMR-i kasutamine tuletada süsteemselt inversioonipõhist juhtimist\, kasutades spetsiaalseid inversioonireegleid. \n\n\n\nVõrreldes teiste graafiliste kirjeldusmeetoditega\, nagu Bond Graafid või Põhjusliku Järjestuse Graafid (COG)\, pakub EMR laiemat energeetilist vaadet ning aitab kaasa juhtimissüsteemide kujundamisele. See erineb ka struktuurilistest modelleerimistööriistadest\, nagu Physic Modelling Language (PML)\, mis kasutab objektorienteeritud modelleerimist\, muutes selle raamatukogud füüsikaliste üksustena omavahel tihedalt seotuks. EMR keskendub süsteemi funktsioonile\, mitte ainult selle struktuurile. See annab sügavama ülevaate süsteemide tegelikust energiakasutusest ning võimaldab nende dünaamiliste omaduste põhjalikku mõistmist. \n\n\n\nLoe lisaks (inglise keeles): https://emr-website.univ-lille.fr/ \n\n\n\n\nAjakava\n\n K 14. Mai 2025N 15. Mai 2025R 16. Mai 20259:00-9:30☕Tervituskohv☕Tervituskohv☕Tervituskohv9:30-11:00📖Loeng (NRG-422)📖Loeng (NRG-422)📖Loeng (NRG-422)11:15-12:45📖Loeng (NRG-422)📖Loeng (NRG-422)📖Loeng (NRG-422)12:45-13:45🍽️Lõunapaus🍽️Lõunapaus🍽️Lõunapaus13:45-15:15💻Töötuba (NRG-223)💻Töötuba (NRG-223)💻Töötuba (NRG-223)15:15-16:45💻Töötuba (NRG-223)💻Töötuba (NRG-223)💻Töötuba (NRG-223)16:45-17:00✍️Tagasiside✍️Tagasiside✍️Tagasiside\n\n\n\n\n\n\nLäbiviijateks on professorid Alain Bouscayrol ja Betty Lemaire-Semail Lille’i Ülikoolist Prantsusmaalt. \n\n\n\n\nProfessor Alain Bouscayrol\nProfessor Alain Bouscayrol on Lille’i Ülikooli täisprofessor\, tema teadustöö keskendub energiamuundamissüsteemide juhtimisele\, eriti graafiliste kirjelduste\, nagu Energeetilise Makroskoopilise Esituse (EMR) arendamisele. Ta on rakendanud oma uurimistööd erinevatele elektrifitseeritud sõidukitele\, alates elektriautodest kuni hübriidrongideni\, ning osalenud riistvara-ahelas testimises. \n\n\n\n\nProfessor Betty Lemaire-Semail\nProfessor Betty Lemaire-Semail on Lille’i Ülikooli täisprofessor\, tema teadustöö keskendub elektrisüsteemide modelleerimisele ja juhtimisele\, sealhulgas piesoelektrilistele täituritele\, mis on kasutusel täppispositsioneerimisel. Professor Lemaire-Semail hiljutised tööd käsitlevad näiteks vibratsioonilisi taktiilseid signaale\, mis tulenevad liikuva laine tekitatud külgjõududest. \n\n\n\n\n\nRegistreeri SIIN. Registreerimise tähtaeg on 08. mai 2025. Registreerumine toimub järjekorra alusel. \n\n\n\nOsalejate arv loengutel: 40Osalejate arv simulatsioonidel: 20 (+ 8 isikliku sülearvutiga) \n\n\n\nKontakt: Anton Rassõlkin\, anton.rassolkin@taltech.ee\, +372 620 3202 \n\n\n\nEesti doktorikooli tehnika ja tehnoloogia haru.
URL:https://www.doktorikool.ee/en/uritused/energeetilise-makroskoopilise-esituse-emr-tootuba/
END:VEVENT
END:VCALENDAR