BEGIN:VCALENDAR
VERSION:2.0
PRODID:-//Eesti doktorikool - ECPv6.15.20//NONSGML v1.0//EN
CALSCALE:GREGORIAN
METHOD:PUBLISH
X-WR-CALNAME:Eesti doktorikool
X-ORIGINAL-URL:https://www.doktorikool.ee/en
X-WR-CALDESC:Events for Eesti doktorikool
REFRESH-INTERVAL;VALUE=DURATION:PT1H
X-Robots-Tag:noindex
X-PUBLISHED-TTL:PT1H
BEGIN:VTIMEZONE
TZID:Europe/Tallinn
BEGIN:DAYLIGHT
TZOFFSETFROM:+0200
TZOFFSETTO:+0300
TZNAME:EEST
DTSTART:20240331T010000
END:DAYLIGHT
BEGIN:STANDARD
TZOFFSETFROM:+0300
TZOFFSETTO:+0200
TZNAME:EET
DTSTART:20241027T010000
END:STANDARD
BEGIN:DAYLIGHT
TZOFFSETFROM:+0200
TZOFFSETTO:+0300
TZNAME:EEST
DTSTART:20250330T010000
END:DAYLIGHT
BEGIN:STANDARD
TZOFFSETFROM:+0300
TZOFFSETTO:+0200
TZNAME:EET
DTSTART:20251026T010000
END:STANDARD
BEGIN:DAYLIGHT
TZOFFSETFROM:+0200
TZOFFSETTO:+0300
TZNAME:EEST
DTSTART:20260329T010000
END:DAYLIGHT
BEGIN:STANDARD
TZOFFSETFROM:+0300
TZOFFSETTO:+0200
TZNAME:EET
DTSTART:20261025T010000
END:STANDARD
END:VTIMEZONE
BEGIN:VEVENT
DTSTART;TZID=Europe/Tallinn:20250514T093000
DTEND;TZID=Europe/Tallinn:20250516T170000
DTSTAMP:20260422T164541
CREATED:20250331T132246Z
LAST-MODIFIED:20250401T122822Z
UID:2724-1747215000-1747414800@www.doktorikool.ee
SUMMARY:Energeetilise makroskoopilise esituse (EMR) töötuba
DESCRIPTION:Tallinna Tehnikaülikoolis\, NRG maja (NRG-422 ja NRG-223) \n\n\n\nTöötuba on suunatud tehnika ja tehnoloogia haru doktorantidele. Töötuba viiakse läbi inglise keeles. \n\n\n\n3-päevane töötuba keskendub Energeetilise Makroskoopilise Esituse (EMR) metoodikale keerukate elektromehhaaniliste süsteemide modelleerimiseks ja juhtimiseks. \n\n\n\nEMR on graafiline formalism\, mis töötati välja 2000. aastal keerukate elektromehhaaniliste süsteemide kirjeldamiseks. Sellest ajast alates on EMR-i laiendatud ka keerukatele multifüüsikalistele süsteemidele\, nagu soojusprotsessid\, elektrokeemia ja vedelikumehaanika. EMR põhineb toime-reaktsiooni printsiibil\, et korraldada alamsüsteemide mudelite omavaheline ühendus vastavalt füüsikalisele põhjuslikkusele (st integraalpõhjuslikkus). See kirjeldus toob esile süsteemi energiapõhised omadused\, sealhulgas energia akumuleerimise\, muundamise ja jaotamise. Lisaks võimaldab EMR-i kasutamine tuletada süsteemselt inversioonipõhist juhtimist\, kasutades spetsiaalseid inversioonireegleid. \n\n\n\nVõrreldes teiste graafiliste kirjeldusmeetoditega\, nagu Bond Graafid või Põhjusliku Järjestuse Graafid (COG)\, pakub EMR laiemat energeetilist vaadet ning aitab kaasa juhtimissüsteemide kujundamisele. See erineb ka struktuurilistest modelleerimistööriistadest\, nagu Physic Modelling Language (PML)\, mis kasutab objektorienteeritud modelleerimist\, muutes selle raamatukogud füüsikaliste üksustena omavahel tihedalt seotuks. EMR keskendub süsteemi funktsioonile\, mitte ainult selle struktuurile. See annab sügavama ülevaate süsteemide tegelikust energiakasutusest ning võimaldab nende dünaamiliste omaduste põhjalikku mõistmist. \n\n\n\nLoe lisaks (inglise keeles): https://emr-website.univ-lille.fr/ \n\n\n\n\nAjakava\n\n K 14. Mai 2025N 15. Mai 2025R 16. Mai 20259:00-9:30☕Tervituskohv☕Tervituskohv☕Tervituskohv9:30-11:00📖Loeng (NRG-422)📖Loeng (NRG-422)📖Loeng (NRG-422)11:15-12:45📖Loeng (NRG-422)📖Loeng (NRG-422)📖Loeng (NRG-422)12:45-13:45🍽️Lõunapaus🍽️Lõunapaus🍽️Lõunapaus13:45-15:15💻Töötuba (NRG-223)💻Töötuba (NRG-223)💻Töötuba (NRG-223)15:15-16:45💻Töötuba (NRG-223)💻Töötuba (NRG-223)💻Töötuba (NRG-223)16:45-17:00✍️Tagasiside✍️Tagasiside✍️Tagasiside\n\n\n\n\n\n\nLäbiviijateks on professorid Alain Bouscayrol ja Betty Lemaire-Semail Lille’i Ülikoolist Prantsusmaalt. \n\n\n\n\nProfessor Alain Bouscayrol\nProfessor Alain Bouscayrol on Lille’i Ülikooli täisprofessor\, tema teadustöö keskendub energiamuundamissüsteemide juhtimisele\, eriti graafiliste kirjelduste\, nagu Energeetilise Makroskoopilise Esituse (EMR) arendamisele. Ta on rakendanud oma uurimistööd erinevatele elektrifitseeritud sõidukitele\, alates elektriautodest kuni hübriidrongideni\, ning osalenud riistvara-ahelas testimises. \n\n\n\n\nProfessor Betty Lemaire-Semail\nProfessor Betty Lemaire-Semail on Lille’i Ülikooli täisprofessor\, tema teadustöö keskendub elektrisüsteemide modelleerimisele ja juhtimisele\, sealhulgas piesoelektrilistele täituritele\, mis on kasutusel täppispositsioneerimisel. Professor Lemaire-Semail hiljutised tööd käsitlevad näiteks vibratsioonilisi taktiilseid signaale\, mis tulenevad liikuva laine tekitatud külgjõududest. \n\n\n\n\n\nRegistreeri SIIN. Registreerimise tähtaeg on 08. mai 2025. Registreerumine toimub järjekorra alusel. \n\n\n\nOsalejate arv loengutel: 40Osalejate arv simulatsioonidel: 20 (+ 8 isikliku sülearvutiga) \n\n\n\nKontakt: Anton Rassõlkin\, anton.rassolkin@taltech.ee\, +372 620 3202 \n\n\n\nEesti doktorikooli tehnika ja tehnoloogia haru.
URL:https://www.doktorikool.ee/en/uritused/energeetilise-makroskoopilise-esituse-emr-tootuba/
END:VEVENT
BEGIN:VEVENT
DTSTART;TZID=Europe/Tallinn:20250515T100000
DTEND;TZID=Europe/Tallinn:20250516T170000
DTSTAMP:20260422T164541
CREATED:20250310T091533Z
LAST-MODIFIED:20250310T104309Z
UID:2515-1747303200-1747414800@www.doktorikool.ee
SUMMARY:Planeerimiskonverents 2025 „Planeerida või mitte?!“
DESCRIPTION:Eesti Rahva Muuseum\, Tartu \n\n\n\nThis conference is in Estonian. \n\n\n\nKonverentsi sihtrühmaks on tegevplaneerijad ja -arhitektid\, ettevõtjad\, teadlased ja õppejõud\, omavalitsuste ja riigiametite spetsialistid\, üliõpilased ja kõik teised planeerimishuvilised. \n\n\n\nKonverentsi eesmärk on ruumiplaneerimise metoodika\, teooria ja praktika edendamine. Selle aasta konverentsi keskmes on ruumilise planeerimise olemuslikud küsimused – uurime\, millised on ühiskonna ootused ruumilisele planeerimisele\, mida see võimaldab ja milleks seda üldse vaja on. \n\n\n\nTeemapõhised sessioonid ettekannetega\, millele järgnevad arutelud ja paneeldiskussioonid. Üritus on eestikeelne. Ürituse kava leitav kodulehelt: https://planeerimiskonverents.ut.ee/ \n\n\n\nRegistreerimine SIIN. Registreerimine avatud 10. märts kuni 25. aprill 2025. \n\n\n\nOsalejate piirarvuks on 100 inimest. Kohtade täitumisel lisatakse registreerunud ootejärjekorda.  \n\n\n\nDoktorantidele on kogu konverents tasuta (2-päevane konverents\, ekskursioonid ja 15.05 õhtune vastuvõtt). Juhendajatele on tasuta 2-päevane konverents ja ekskursioonid\, kuid 15.05 õhtusel üritusel osalemine on lisatasu eest. \n\n\n\nKontakt: Kristi Post\, kristi.post@ut.ee \n\n\n\nEesti doktorikooli ühisüritus.
URL:https://www.doktorikool.ee/en/uritused/planeerimiskonverents-2025-planeerida-voi-mitte/
END:VEVENT
BEGIN:VEVENT
DTSTART;TZID=Europe/Tallinn:20250516T110000
DTEND;TZID=Europe/Tallinn:20250516T123000
DTSTAMP:20260422T164541
CREATED:20250428T172757Z
LAST-MODIFIED:20250514T091351Z
UID:3023-1747393200-1747398600@www.doktorikool.ee
SUMMARY:Meditsiinihariduse kujundamine: digimaailma ja tehisintellekti lõimimine aktiivõppesse
DESCRIPTION:Biomeedikum – 1024\, Ravila 19\, Tartu \n\n\n\nTunnustatud vanemlektor ja dotsent Eeva Pyörälä Helsingi Ülikoolist peab interaktiivse loengu/seminari pealkirjaga “Meditsiinihariduse kujundamine: digimaailma ja tehisintellekti lõimimine aktiivõppesse.” \n\n\n\nRegistreeri ennast SIIN.  \n\n\n\nKüsimuste korral pöörduda Keidi Roosimäe poole\, keidi.roosimae@ut.ee \n\n\n\nEesti doktorikooli arsti- ja terviseteaduste\, veterinaaria haru.
URL:https://www.doktorikool.ee/en/uritused/meditsiinihariduse-kujundamine-digimaailma-ja-tehisintellekti-loimimine-aktiivoppesse/
END:VEVENT
END:VCALENDAR