BEGIN:VCALENDAR
VERSION:2.0
PRODID:-//Eesti doktorikool - ECPv6.15.20//NONSGML v1.0//EN
CALSCALE:GREGORIAN
METHOD:PUBLISH
X-ORIGINAL-URL:https://www.doktorikool.ee/en
X-WR-CALDESC:Events for Eesti doktorikool
REFRESH-INTERVAL;VALUE=DURATION:PT1H
X-Robots-Tag:noindex
X-PUBLISHED-TTL:PT1H
BEGIN:VTIMEZONE
TZID:Europe/Tallinn
BEGIN:DAYLIGHT
TZOFFSETFROM:+0200
TZOFFSETTO:+0300
TZNAME:EEST
DTSTART:20240331T010000
END:DAYLIGHT
BEGIN:STANDARD
TZOFFSETFROM:+0300
TZOFFSETTO:+0200
TZNAME:EET
DTSTART:20241027T010000
END:STANDARD
BEGIN:DAYLIGHT
TZOFFSETFROM:+0200
TZOFFSETTO:+0300
TZNAME:EEST
DTSTART:20250330T010000
END:DAYLIGHT
BEGIN:STANDARD
TZOFFSETFROM:+0300
TZOFFSETTO:+0200
TZNAME:EET
DTSTART:20251026T010000
END:STANDARD
BEGIN:DAYLIGHT
TZOFFSETFROM:+0200
TZOFFSETTO:+0300
TZNAME:EEST
DTSTART:20260329T010000
END:DAYLIGHT
BEGIN:STANDARD
TZOFFSETFROM:+0300
TZOFFSETTO:+0200
TZNAME:EET
DTSTART:20261025T010000
END:STANDARD
END:VTIMEZONE
BEGIN:VEVENT
DTSTART;TZID=Europe/Tallinn:20250521T000000
DTEND;TZID=Europe/Tallinn:20250523T235959
DTSTAMP:20260422T164610
CREATED:20250422T083737Z
LAST-MODIFIED:20250423T053213Z
UID:2941-1747785600-1748044799@www.doktorikool.ee
SUMMARY:Kirjutamislaager
DESCRIPTION:Kernu mõis \n\n\n\nKirjutamislaager on suunatud arsti- ja terviseteaduste\, veterinaaria haru doktorantidele. Kirjutamislaagris on võimalus paari päeva jooksul keskenduda oma doktoritöö või teadusartikli kirjutamisele.  \n\n\n\nKirjutamislaagris osalemiseks täida registreerimisvorm SIIN. Registreerimise tähtaeg on 30. aprill 2025. \n\n\n\nOsalejate valikul on eelistatud: \n\n\n\n\narsti- ja terviseteaduste\, veterinaaria valdkonna doktorandid;\n\n\n\ndoktorandid kes ei ole 2025. aasta jooksul osalenud Eesti doktorikooli kirjutamislaagris;\n\n\n\ndoktorandid kes saavad osaleda laagris kogu ürituse perioodi.\n\n\n\n\nOsalejatele on doktorikooli poolt majutus kaheks ööks ühekohalistes tubades ja toitlustus. Transpordi kirjutamislaagrisse ja tagasi peab osaleja ise tagama. \n\n\n\nÜrituse kohta leiab rohkem infot SIIT. \n\n\n\nKontakt: Greete Horn\, greete.horn@tlu.ee \n\n\n\nKirjutamislaagrit korraldab Eesti doktorikooli arsti- ja terviseteadused\, veterinaaria haru partner Tallinna Ülikool\, Loodus- ja terviseteaduste instituut.
URL:https://www.doktorikool.ee/en/uritused/kirjutamislaager-12/
END:VEVENT
END:VCALENDAR