BEGIN:VCALENDAR
VERSION:2.0
PRODID:-//Eesti doktorikool - ECPv6.15.20//NONSGML v1.0//EN
CALSCALE:GREGORIAN
METHOD:PUBLISH
X-ORIGINAL-URL:https://www.doktorikool.ee/en
X-WR-CALDESC:Events for Eesti doktorikool
REFRESH-INTERVAL;VALUE=DURATION:PT1H
X-Robots-Tag:noindex
X-PUBLISHED-TTL:PT1H
BEGIN:VTIMEZONE
TZID:Europe/Tallinn
BEGIN:DAYLIGHT
TZOFFSETFROM:+0200
TZOFFSETTO:+0300
TZNAME:EEST
DTSTART:20240331T010000
END:DAYLIGHT
BEGIN:STANDARD
TZOFFSETFROM:+0300
TZOFFSETTO:+0200
TZNAME:EET
DTSTART:20241027T010000
END:STANDARD
BEGIN:DAYLIGHT
TZOFFSETFROM:+0200
TZOFFSETTO:+0300
TZNAME:EEST
DTSTART:20250330T010000
END:DAYLIGHT
BEGIN:STANDARD
TZOFFSETFROM:+0300
TZOFFSETTO:+0200
TZNAME:EET
DTSTART:20251026T010000
END:STANDARD
BEGIN:DAYLIGHT
TZOFFSETFROM:+0200
TZOFFSETTO:+0300
TZNAME:EEST
DTSTART:20260329T010000
END:DAYLIGHT
BEGIN:STANDARD
TZOFFSETFROM:+0300
TZOFFSETTO:+0200
TZNAME:EET
DTSTART:20261025T010000
END:STANDARD
END:VTIMEZONE
BEGIN:VEVENT
DTSTART;TZID=Europe/Tallinn:20250526T000000
DTEND;TZID=Europe/Tallinn:20250527T235959
DTSTAMP:20260422T150529
CREATED:20250422T113923Z
LAST-MODIFIED:20250422T123634Z
UID:2955-1748217600-1748390399@www.doktorikool.ee
SUMMARY:Intensiivseminar "Lõhe objektides: mõelda filosoofiliselt koos Graham Harmaniga"
DESCRIPTION:Tallinna Ülikoolis\, Uus-Sadama 5\, ruumid M-218 ja A-206 \n\n\n\nSeminar toimub inglise keeles. \n\n\n\nTänapäeva ühe kõige mõjukama ingliskeelse filosoofi Graham Harmani kahepäevane intensiivseminar koosneb avalikust loengust\, mis tutvustab tema filosoofilise teooria – objektikeskse ontoloogia – põhimõtteid ja millele järgneb filosoofiline kahekõne prof. Rein Rauaga\, ning kahest seminarist\, kus Harmani eestvedamisel saab tema artiklite põhjal arutada selle üle\, kuidas lubab objektikeskne ontoloogia ümber mõtestada tänapäeva teadusfilosoofiat ja esteetikat. \n\n\n\nKülalisesineja professor Graham Harman \nGraham Harman on Ameerika filosoof. Ta on Los Angeleses asuva Lõuna-California Arhitektuuriinstituudi (SCI-ARC) teenekas filosoofiaprofessor. Tema filosoofiline teooria\, nn objektikeskne ontoloogia (ingl object-oriented ontology ehk OOO)\, rõhutab objektide autonoomiat väljaspool inimtaju. Ta on ühtlasi spekulatiivse realismi filosoofilise koolkonnna üks liidreid. Ta on avaldanud üle paarikümne raamatut\, sealhulgas Tool-Being: Heidegger and the Metaphysics of Objects (2002)\, The Quadruple Object (2011\, eesti keeles 2025)\, Quentin Meillassoux: Philosophy in the Making (2011)\, Weird Realism: Lovecraft and Philosophy (2012)\, Bruno Latour: Reassembling the Political (2014)\, Immaterialism: Objects and Social Theory (2016)\, Object-Oriented Ontology: A New Theory of Everything (2018)\, Speculative Realism: An Introduction (2018)\, Art and Objects (2020)\, Architecture and Objects (2022)\, Objects Untimely: Object-Oriented Philosophy and Archaeology (2023\, koos Christopher Witmore’iga) ja Waves and Stones: On the Ultimate Nature of Reality (2025).Ta on ajakirja Open Philosophy peatoimetaja\, Edinburgh University Press’i raamatusarja Speculative Realism koostaja ja Open Humanities Pressi raamatusarja New Metaphysics koostaja. \n\n\n\n\nRegistreeri SIIN. Registreerimise tähtaeg on 19. mai 2025. \n\n\n\nKursusel osalemise eelduseks on seminaritekstide lugemine. Kõik tekstid edastatakse registreerunud osalejatele elektrooniliselt. Osalejad saavad 1 EAP. \n\n\n\nProgramm \nEsamaspäev\, 26. mai 2025 \n16:00–18:00  “The Rift in Objects”\, public lecture\, followed by a conversation with Prof. Rein Raud (Tallinn University) \n\n\n\nRuum M-218 \n\n\n\nObject-Oriented Ontology (OOO) is often described as a philosophy in which the true nature of objects withdraws from direct human access. Although technically true\, this principle is already found in such modern thinkers as Kant and Heidegger\, and possibly as far back as Plato Aristotle. The real key to OOO is found in the rift between an object and its own qualities\, which it both has and does not have. In this lecture I will discuss the implications of this emphasis. \n\n\n\nThe lecture is held in conjunction with the release of the Estonian translation of Graham Harman’s The Quadruple Object (translated by Kalle Hein\, Tallinn University Press\, 2025). \n\n\n\n\nTeisipäev\, 27. mai 2025 \n10:00–12:00   Seminar on Aesthetics \n\n\n\nRoom A-206 \n\n\n\nAesthetics has always been central to object-oriented ontology (OOO). More specifically\, OOO pays close attention to the difference between the literal and the non-literal\, and views philosophy (along with art) as one of the most important forms of non-literal cognition. In this seminar we will discuss the similarities and differences between OOO non-literalism and the influential philosophy of art found in Kant’s Critique of Judgment. \n\n\n\nReading: Graham Harman\, “Why Architecture and Beauty Need Each Other”\, in Tallinn Architecture Biennale TAB 2019 catalogue “Beauty Matters”. Ed. by Rebecca Collings. Tallinn: Eesti Arhitektuurikeskus\, 2019. \n\n\n\n12:00–13.30  Lunch \n\n\n\n13:30–15:30  Seminar on Philosophy of Science \n\n\n\nRoom A-206 \n\n\n\nPhilosophy has long defined knowledge as “justified true belief.” However\, in some respects justification and truth are opposites. On the one hand\, justifying evidence is always provisional\, and evidence changes constantly even in the hard sciences\, meaning that truth is never attained. On the other\, those moments where we do feel in contact with truth are more likely to resemble a Pascalian wager or a Kierkegaardian leap of faith\, both of which explicitly admit that they have insufficient justification. We will observe this theme at work in the philosophy of science\, focusing on Popper’s falsificationist theory of science and Lakatos’s interesting modification of Popper back in the direction of verification. \n\n\n\nReading: Graham Harman\, “On Progressive and Degenerating Research Programs With Respect to Philosophy”\, Revista Portuguesa de Filosofia\, 75(4)\, 2019\, pp. 2067–2102. \n\n\n\n\n\nKontakt: Eva Kruuse\, eva.kruuse@tlu.ee \n\n\n\nEesti doktorikooli humanitaarteaduste ja kunstide haru.
URL:https://www.doktorikool.ee/en/uritused/intensiivseminar-lohe-objektides-moelda-filosoofiliselt-koos-graham-harmaniga/
END:VEVENT
BEGIN:VEVENT
DTSTART;TZID=Europe/Tallinn:20250526T000000
DTEND;TZID=Europe/Tallinn:20250530T235959
DTSTAMP:20260422T150529
CREATED:20250410T135350Z
LAST-MODIFIED:20250415T100920Z
UID:2872-1748217600-1748649599@www.doktorikool.ee
SUMMARY:Loovad uurimismeetodid: rangus ja rõõm välitöödes ja tähendusloomes
DESCRIPTION:Tallinna Ülikoolis \n\n\n\nMaht: 3EAPÕppekeel: IngliseOsalejaid: 25 \n\n\n\nSee kursus ühendab põhjaliku teadustöö ja loovuse\, et uurida inimesi\, praktikaid ja kultuure nii online kui offline ruumis. Kursuse rõhk on innovaatilistel\, kuid metoodiliselt ja eetiliselt usaldusväärsetel lähenemisviisidel tähendusloome mõistmiseks. Loengute\, arutelude ja praktiliste harjutuste kaudu õpivad tudengid ühendama kujutlusvõimet analüütilise täpsusega. Kursus tugineb antropoloogia\, sotsioloogia ja digikultuuri uuringutele ning keskendub etnograafilistele meetoditele välitöödeks\, andmete kogumiseks ja analüüsiks. Osalejad katsetavad loovaid tehnikaid nagu kaardistamine\, meeleolutahvlite (moodboard) loomine\, tehisintellekti kasutamine ja kirjanduslik spekulatsioon\, et süvendada oma uurimispraktikat. \n\n\n\nTutvu kursuse pikema kirjeldusega ingliskeelsel lehel. \n\n\n\nRegistreeri SIIN. Registreerimise tähtaeg on 18. mai 2025. \n\n\n\nAjakava \nEsmaspäev\, 26.05.25 kell 10:00–14:00Teisipäev\, 27.05.25 kell 14:00–18:00Kolmapäev\, 28.05.25 kell 09:00–13:00Neljapäev\, 29.05.25 kell 14:00–18:00Reede\, 30.05.25 kell  09:00–13:00 \n\n\n\n\nJuhendajad \nDr. Katrin Tiidenberg is a Professor of Participatory Culture at the Baltic Film\, Media and Arts School of Tallinn University in Estonia. Her research focuses on people’s practices and meaning making on social media. \n\n\n\nDr. David Kneas is an Associate Professor at the University of South Carolina\, Department of Geography. His research examines the political and cultural dimensions of resource conflicts and environmental change in Latin America. \n\n\n\nDr. Jenni Niemela-Nyrhinen is a visual studies scholar at the Institute of Design and Fine Arts at the LAB University of Applied Sciences. Her research interests include future effects of photography\, social uses of vernacular photography and the role of visual in opening up possible spheres of social action. \n\n\n\n\nKontakt: Eva Valdna\, eva.valdna@tlu.ee \n\n\n\nKursust korraldab Eesti doktorikooli sotsiaalteaduste haru partner Tallinna Ülikool.
URL:https://www.doktorikool.ee/en/uritused/loovad-uurimismeetodid-rangus-ja-room-valitoodes-ja-tahendusloomes/
END:VEVENT
BEGIN:VEVENT
DTSTART;TZID=Europe/Tallinn:20250526T080000
DTEND;TZID=Europe/Tallinn:20250527T190000
DTSTAMP:20260422T150529
CREATED:20250408T093914Z
LAST-MODIFIED:20250512T080155Z
UID:2799-1748246400-1748372400@www.doktorikool.ee
SUMMARY:Doktorantide kevadkollokvium
DESCRIPTION:Viinistu Kunstihotell \n\n\n\nÜritus toimub inglise keeles. \n\n\n\nKevadkollokviumist on teretulnud osa saama nii üldisemalt sotsiaalteaduste kui ka kitsamalt ärijuhtimise ja juhtimise doktorandid. See üritus pakub suurepärase võimaluse doktorantidele saada tagasisidet oma peatükile või artiklile\, millega nad on õppeaasta jooksul vaeva näinud. Iga esitatud artikli või peatüki mustand saab tagasisidet kahelt kaasdoktorandilt ja ühelt teadlaselt (kes ei ole tudengi juhendaja). Tagasiside on konstruktiivne ja toob esile töö tugevused\, ühelt poolt\, ning pakub välja parendusettepanekuid teiselt poolt. \n\n\n\nOsalemistingimused: \n\n\n\n\nDoktorandid peavad esitama tegeliku artikli/uurimistöö peatüki\, millega nad tegelevad\, olema valmis seda esitlema ja andma tagasisidet kahele kaasdoktorandile.\n\n\n\nÕppejõud/juhendajad peavad olema valmis lugema määratud töid\, mille autoriks on doktorandid\, kes ei ole nende juhendatavad\, ja andma doktorandile konstruktiivset tagasisidet.\n\n\n\n\nRegistreerimise ja artikli/peatüki üleslaadimise vorm on SIIN. Registreerimise tähtaeg (sh artikli/peatüki esitamise tähtaeg) on 18. mai 2025. \n\n\n\nOsavõtjad valitakse esitatud artikli/peatüki küpsusaste põhjal (see peab olema piisavalt küps\, et on mida kommenteerida). \n\n\n\nOsalus kinnitatakse korraldajate poolt 20. mail. Kohti on kokku 30-35. \n\n\n\nTransport Tallinn-Viinistu-Tallinn on korraldatud tellitud bussiga. \n\n\n\n\nVäljasõit Tallinnast (EBS\, Lauteri 3): 26.mai kell 8:00\n\n\n\nSaabumine Tallinna (EBS\, Lauteri 3): 27.mai kell 19:00\n\n\n\n\nMajutus on Viinistu Kunstihotellis. Doktorantidele on kahesed toad ja juhendajatele ühesed. \n\n\n\nKontakt: Sigrid Lainevee\, sigrid.Lainevee@ebs.ee \n\n\n\nEesti doktorikooli sotsiaalteaduste haru.
URL:https://www.doktorikool.ee/en/uritused/doktorantide-kevadkollokvium/
END:VEVENT
END:VCALENDAR