BEGIN:VCALENDAR
VERSION:2.0
PRODID:-//Eesti doktorikool - ECPv6.15.20//NONSGML v1.0//EN
CALSCALE:GREGORIAN
METHOD:PUBLISH
X-ORIGINAL-URL:https://www.doktorikool.ee/en
X-WR-CALDESC:Events for Eesti doktorikool
REFRESH-INTERVAL;VALUE=DURATION:PT1H
X-Robots-Tag:noindex
X-PUBLISHED-TTL:PT1H
BEGIN:VTIMEZONE
TZID:Europe/Tallinn
BEGIN:DAYLIGHT
TZOFFSETFROM:+0200
TZOFFSETTO:+0300
TZNAME:EEST
DTSTART:20240331T010000
END:DAYLIGHT
BEGIN:STANDARD
TZOFFSETFROM:+0300
TZOFFSETTO:+0200
TZNAME:EET
DTSTART:20241027T010000
END:STANDARD
BEGIN:DAYLIGHT
TZOFFSETFROM:+0200
TZOFFSETTO:+0300
TZNAME:EEST
DTSTART:20250330T010000
END:DAYLIGHT
BEGIN:STANDARD
TZOFFSETFROM:+0300
TZOFFSETTO:+0200
TZNAME:EET
DTSTART:20251026T010000
END:STANDARD
BEGIN:DAYLIGHT
TZOFFSETFROM:+0200
TZOFFSETTO:+0300
TZNAME:EEST
DTSTART:20260329T010000
END:DAYLIGHT
BEGIN:STANDARD
TZOFFSETFROM:+0300
TZOFFSETTO:+0200
TZNAME:EET
DTSTART:20261025T010000
END:STANDARD
END:VTIMEZONE
BEGIN:VEVENT
DTSTART;TZID=Europe/Tallinn:20250529T000000
DTEND;TZID=Europe/Tallinn:20250531T235959
DTSTAMP:20260422T150504
CREATED:20250512T094238Z
LAST-MODIFIED:20250526T104234Z
UID:3072-1748476800-1748735999@www.doktorikool.ee
SUMMARY:Oskuste arendamine doktorantide juhendamiseks
DESCRIPTION:Tallinna Ülikoolis ja veebis \n\n\n\nSeminar toimub inglise keeles \n\n\n\nMaht: 24 ak/h (sh 12 tundi iseseisvat tööd)\, võimalik osaleda ka vaid üksikutel päevadel. \n\n\n\nKas juhendad doktorante või valmistud selleks rolliks? Osale rahvusvaheliselt tunnustatud teadlase professor Diana DiNitto kolmel päeval toimuvas interaktiivses seminaris\, mille eesmärk on tugevdada juhendamisoskusi\, suurendada enesekindlust ning toetada nii Sinu doktorantide edu kui ka isiklikku rahulolu juhendajana. \n\n\n\nLoengute\, grupiarutelude ja reflekteerivate harjutuste käigus: \n\n\n\n\nuurivatakse tõhusaid juhendamisstiile ja mentorlussuhete kujunemist\n\n\n\narutatakse levinud väljakutsete üle doktorantide juhendamises ning otsitakse neile lahendusi\n\n\n\ntutvutakse toetavate institutsionaalsete praktikatega juhendamises\n\n\n\ntöötatakse välja isiklik enesehoiu- ja juhendamisplaan\n\n\n\n\nOsalejatelt oodatakse enne seminari kirjanduse läbi töötamist ja seminari jooksul lühikeste reflekteerivate kirjutiste esitamist valitud kirjanduse põhjal.  \n\n\n\nPalun tutvuge kirjanduse loetelu ja ülesannetega allpool. \n\n\n\nAjakava \nN 29.05.2025 kell 09:30–13:30\, 13:30-14:30 ühine lõuna \n\n\n\nR 30.05.2025 kell 09:30–13:30\, 13:30-14:30 ühine lõuna \n\n\n\nL 31.05.2025 kell 09:30–13:30\, 13:30-14:30 ühine lõuna \n\n\n\n\nHindamine põhineb aktiivsel osalemisel ja iseseisva töö lõpetamisel. \n\n\n\nKursus on avatud kõikidele doktorantide juhendajatele – osalejate arv ei ole piiratud. \n\n\n\nRegistreerumine kuni 27. maini siin! \n\n\n\nSisu puudutavate küsimuste korral pöörduge palun prof Merike Sisaski poole: mersi@tlu.ee \n\n\n\nRegistreerimise ja korralduslike küsimuste puhul võtke ühendust Eva Valdnaga: eva.valdna@tlu.ee | +372 6199 941 \n\n\n\n\nKohustuslik kirjandus enne seminari \n\nBlackDeer\, A. A.\, Gillani\, B.\, Cohen\, F.\, & Vogel\, M. T. (2024). A tale of two mentees: Conceptualizing academic mentorship through critical systems thinking. Journal of Social Work Education\, 60(4)\, 576-590.\n\n\n\nLiechty\, J. M.\, Liao\, M.\, & Schull\, C. P. (2009). Facilitating dissertation completion and success among doctoral students in social work. Journal of Social Work Education\, 45(3)\, 481-497.\n\n\n\nRackham Graduate School. (2024). How to mentor graduate students: A guide for faculty. Ann Arbor\, MI: The Regents of the University of Michigan.\n\n\n\n\n\nValikuline kirjandus enne seminari \n\nDebray\, R.\, Dewald-Wang\, E. A.\, & Ennis\, K. K. (2024). Mentoring practices that predict doctoral student outcomes in a biological sciences cohort. PLoS ONE\, 19(6). e0305367. https://doi.org/10.1371/journal.pone.0305367\n\n\n\n\n\nPeale lugemist.. \nPeale lugemist palume kirjutada 250–500 sõna iga järgneva teema kohta: \n\n\n\n\nPositiivne juhendamiskogemus\, mis sul doktorandina oli\n\n\n\nPositiivne juhendamiskogemus\, mis sul juhendajana on olnud\n\n\n\nKogemus doktorandina\, kus juhendamine oleks võinud olla tõhusam\n\n\n\nVäljakutseid pakkunud juhendamiskogemus\n\n\n\nSinu juhendamisstiil/lähenemine\n\n\n\n\nSeansside vahel arutleme osalejate kirjutatu üle – kuidas muuta juhendamiskogemused tõhusamaks ja rahuldustpakkuvamaks nii juhendatavale kui ka juhendajale. \n\n\n\n\n\nSeminari korraldab Eesti doktorikooli sotsiaalteaduste haru partner Tallinna Ülikool.
URL:https://www.doktorikool.ee/en/uritused/oskuste-arendamine-doktorantide-juhendamiseks/
END:VEVENT
BEGIN:VEVENT
DTSTART;TZID=Europe/Tallinn:20250530T000000
DTEND;TZID=Europe/Tallinn:20250531T235959
DTSTAMP:20260422T150504
CREATED:20250417T083357Z
LAST-MODIFIED:20250417T085821Z
UID:2930-1748563200-1748735999@www.doktorikool.ee
SUMMARY:Reaalteaduste doktorantide konverents-seminar 2025
DESCRIPTION:Voore puhkekeskuses \n\n\n\nÜrituse eesmärk ja väljund on arendada teaduskommunikatsiooni oskusi\, treenida doktorante esitama oma tööd ja eriala reaalteaduste haridusega tavakuulajale lühidalt\, köitvalt\, arusaadavalt\, atraktiivselt. Formaat on 7 min lühiettekanne doktorandi poolt. Sellele järgneb ca 40 min professionaalset personaalset koolitust ja treeningut\, milles osaleb aktiivelt kogu auditoorium. Koolitusele eelneb esinejate kirjalik kodutöö\, mis vaadatakse üle ja tagasisidestatakse. Esinejatel on võimalik saada 2EAP-d. \n\n\n\nLäbiviijad on Kalle Olli (EMÜ\, TÜ)\, Gleb Maltsev  \n\n\n\nRegistreeri SIIN.Osalejate piirarv on 50. \n\n\n\nLoe rohkem siit. \n\n\n\nKontakt: Kalle Olli\, kalle.olli@emu.ee \n\n\n\nEesti doktorikooli loodusteaduste ja põllumajandusteaduste haru.
URL:https://www.doktorikool.ee/en/uritused/reaalteaduste-doktorantide-konverents-seminar-2025/
END:VEVENT
END:VCALENDAR