BEGIN:VCALENDAR
VERSION:2.0
PRODID:-//Eesti doktorikool - ECPv6.15.20//NONSGML v1.0//EN
CALSCALE:GREGORIAN
METHOD:PUBLISH
X-ORIGINAL-URL:https://www.doktorikool.ee/en
X-WR-CALDESC:Events for Eesti doktorikool
REFRESH-INTERVAL;VALUE=DURATION:PT1H
X-Robots-Tag:noindex
X-PUBLISHED-TTL:PT1H
BEGIN:VTIMEZONE
TZID:Europe/Tallinn
BEGIN:DAYLIGHT
TZOFFSETFROM:+0200
TZOFFSETTO:+0300
TZNAME:EEST
DTSTART:20240331T010000
END:DAYLIGHT
BEGIN:STANDARD
TZOFFSETFROM:+0300
TZOFFSETTO:+0200
TZNAME:EET
DTSTART:20241027T010000
END:STANDARD
BEGIN:DAYLIGHT
TZOFFSETFROM:+0200
TZOFFSETTO:+0300
TZNAME:EEST
DTSTART:20250330T010000
END:DAYLIGHT
BEGIN:STANDARD
TZOFFSETFROM:+0300
TZOFFSETTO:+0200
TZNAME:EET
DTSTART:20251026T010000
END:STANDARD
BEGIN:DAYLIGHT
TZOFFSETFROM:+0200
TZOFFSETTO:+0300
TZNAME:EEST
DTSTART:20260329T010000
END:DAYLIGHT
BEGIN:STANDARD
TZOFFSETFROM:+0300
TZOFFSETTO:+0200
TZNAME:EET
DTSTART:20261025T010000
END:STANDARD
END:VTIMEZONE
BEGIN:VEVENT
DTSTART;TZID=Europe/Tallinn:20250707T000000
DTEND;TZID=Europe/Tallinn:20250711T235959
DTSTAMP:20260422T190204
CREATED:20250226T140558Z
LAST-MODIFIED:20250605T075838Z
UID:2285-1751846400-1752278399@www.doktorikool.ee
SUMMARY:Universumi kosmiline võrgustik: galaktikatest kosmoloogiani
DESCRIPTION:Haapsalus\, Fra Mare Spaa-Hotellis \n\n\n\nSuvekooli on oodatud doktorandid\, magistrandid ja hiljuti lõpetanud järel-doktori teadlased. \n\n\n\nSuvekool “Universumi kosmiline võrgustik: galaktikatest kosmoloogiani” on pühendatud galaktikate ja kosmilise võrgustikuga seotud teemadele. Loengutes käsitletakse kosmilise võrgustiku teooriat\, matemaatilist modelleerimist ja kosmilise võrgustiku arvutisimulatsioone\, samuti kosmilise võrgustiku ja galaktikate vahelisi seoseid. Suvekool on osa rahvusvahelisest projektist EXCOSM ja toimub inglise keeles. Suvekooli koduleht: https://sisu.ut.ee/excosm2025/. \n\n\n\nEsinejad: \n\n\n\n\nElmo Tempel\, University of Tartu\, Tartu observatory\, Estonia\n\n\n\nNoam Libeskind\, Leibniz Institute for Astrophysics Potsdam\, Germany\n\n\n\nRien van de Weijgaert\, Kapteyn Astronomical Institute of the University of Groningen\, Netherlands\n\n\n\nRadu Stoica\, University of Lorraine\, France\n\n\n\nDaniela Galarraga-Espinosa\, Max-Planck-Institute for Astrophysics (MPA)\, Germany\n\n\n\nEdward N. Taylor\, Swinburne University of Technology\, Melbourne\, Australia\n\n\n\nPeeter Tenjes\, University of Tartu\, Tartu Observatory\, Estonia\n\n\n\nJob Feldbrugge\, University of Edinburgh\, Scotland\n\n\n\nPunyakoti Ganeshaiah Veena\, University of Genoa\, Italy\n\n\n\nDidier Gemmerle\, University of Lorraine\, France\n\n\n\nNathan Gillot\, University of Lorraine\, France\n\n\n\nJaan Einasto\, University of Tartu\, Tartu Observatory\, Estonia\n\n\n\n\nRegistreeri SIIN. Registreerimise tähtaeg on 16. juuni 2025.Osalejate piirarv on 40\, valik tehakse lühikese motivatsioonikirja põhjal. \n\n\n\nKontakt: Liis Välja\, liis.valja@ut.ee \n\n\n\nEesti doktorikooli loodusteaduste ja põllumajandusteaduste haru.
URL:https://www.doktorikool.ee/en/uritused/universumi-kosmiline-vorgustik-galaktikatest-kosmoloogiani/
END:VEVENT
END:VCALENDAR