BEGIN:VCALENDAR
VERSION:2.0
PRODID:-//Eesti doktorikool - ECPv6.15.20//NONSGML v1.0//EN
CALSCALE:GREGORIAN
METHOD:PUBLISH
X-WR-CALNAME:Eesti doktorikool
X-ORIGINAL-URL:https://www.doktorikool.ee/en
X-WR-CALDESC:Events for Eesti doktorikool
REFRESH-INTERVAL;VALUE=DURATION:PT1H
X-Robots-Tag:noindex
X-PUBLISHED-TTL:PT1H
BEGIN:VTIMEZONE
TZID:Europe/Tallinn
BEGIN:DAYLIGHT
TZOFFSETFROM:+0200
TZOFFSETTO:+0300
TZNAME:EEST
DTSTART:20240331T010000
END:DAYLIGHT
BEGIN:STANDARD
TZOFFSETFROM:+0300
TZOFFSETTO:+0200
TZNAME:EET
DTSTART:20241027T010000
END:STANDARD
BEGIN:DAYLIGHT
TZOFFSETFROM:+0200
TZOFFSETTO:+0300
TZNAME:EEST
DTSTART:20250330T010000
END:DAYLIGHT
BEGIN:STANDARD
TZOFFSETFROM:+0300
TZOFFSETTO:+0200
TZNAME:EET
DTSTART:20251026T010000
END:STANDARD
BEGIN:DAYLIGHT
TZOFFSETFROM:+0200
TZOFFSETTO:+0300
TZNAME:EEST
DTSTART:20260329T010000
END:DAYLIGHT
BEGIN:STANDARD
TZOFFSETFROM:+0300
TZOFFSETTO:+0200
TZNAME:EET
DTSTART:20261025T010000
END:STANDARD
END:VTIMEZONE
BEGIN:VEVENT
DTSTART;TZID=Europe/Tallinn:20250929T000000
DTEND;TZID=Europe/Tallinn:20251003T235959
DTSTAMP:20260422T223156
CREATED:20250904T073001Z
LAST-MODIFIED:20250911T121817Z
UID:3427-1759104000-1759535999@www.doktorikool.ee
SUMMARY:20. sajandi kunst enne ja pärast ajalugu
DESCRIPTION:@ Eesti kunstiakadeemia\, Põhja pst 7\, Tallinn (A501\, A301\, A302) \n\n\n\n„20. sajandi kunst enne ja pärast ajalugu“ on seminaride tsükkel\, mis käsitleb viise\, kuidas 20. sajandi kunstnikud kohandasid neile teadaolevat longue durée ajakäsitlust. Kõige huvitavamad näited nendest ei tegele mitte pelgalt algupära või päritolu küsimustega\, vaid uurivad eelajaloo seotust kriitilise olevikuga. Selline pikendatud mineviku tunnetus muutis ajaloolist teadvust vastuolulisel viisil: see tõi esile „lõpu teadvustamise”\, ajaloo vältimatu „loomulikkuse”\, ent rõhutas selle kõrval samas ka akumulatsiooni\, muuseumistumist ja ammendumist. Seminaride keskmes ongi see vastuoluline impulss. \n\n\n\nLäbiviijaks on Maria Stavrinaki Lausanne’i Ülikoolist. \n\n\n\nAjakava\n29.09\, 17.00-18.30 Avatud loeng „Art after History. The „Museum without walls“ as Model\, 50s-70s“ (A501) \n\n\n\n30.09\, 10.45-12.15 / 14.15-15.45 (A301) \n\n\n\n01.10\, 11.30-13.00 / 14.15-15.45 (A302) \n\n\n\n02.10\, 10.45-12.15 / 14.15-15.45 (A302) \n\n\n\n03.10\, 10.45-12.15 (A301) / 14.15-15.45 (A302) \n\n\n\n\nRegistreeri ennast SIIN. Registreerumise tähtaeg on 22. september 2025. \n\n\n\nOsalejate piirarv on 15. \n\n\n\nKüsimuste korral pöörduda Irene Hütsi poole\, irene.hutsi@artun.ee. \n\n\n\nEesti doktorikooli humanitaarteaduste ja kunstide haru.
URL:https://www.doktorikool.ee/en/uritused/20-sajandi-kunst-enne-ja-parast-ajalugu/
LOCATION:Tallinn
CATEGORIES:Kognitiivsed võimed / Cognitive Abilities
END:VEVENT
END:VCALENDAR