BEGIN:VCALENDAR
VERSION:2.0
PRODID:-//Eesti doktorikool - ECPv6.15.20//NONSGML v1.0//EN
CALSCALE:GREGORIAN
METHOD:PUBLISH
X-ORIGINAL-URL:https://www.doktorikool.ee/en
X-WR-CALDESC:Events for Eesti doktorikool
REFRESH-INTERVAL;VALUE=DURATION:PT1H
X-Robots-Tag:noindex
X-PUBLISHED-TTL:PT1H
BEGIN:VTIMEZONE
TZID:Europe/Tallinn
BEGIN:DAYLIGHT
TZOFFSETFROM:+0200
TZOFFSETTO:+0300
TZNAME:EEST
DTSTART:20240331T010000
END:DAYLIGHT
BEGIN:STANDARD
TZOFFSETFROM:+0300
TZOFFSETTO:+0200
TZNAME:EET
DTSTART:20241027T010000
END:STANDARD
BEGIN:DAYLIGHT
TZOFFSETFROM:+0200
TZOFFSETTO:+0300
TZNAME:EEST
DTSTART:20250330T010000
END:DAYLIGHT
BEGIN:STANDARD
TZOFFSETFROM:+0300
TZOFFSETTO:+0200
TZNAME:EET
DTSTART:20251026T010000
END:STANDARD
BEGIN:DAYLIGHT
TZOFFSETFROM:+0200
TZOFFSETTO:+0300
TZNAME:EEST
DTSTART:20260329T010000
END:DAYLIGHT
BEGIN:STANDARD
TZOFFSETFROM:+0300
TZOFFSETTO:+0200
TZNAME:EET
DTSTART:20261025T010000
END:STANDARD
END:VTIMEZONE
BEGIN:VEVENT
DTSTART;TZID=Europe/Tallinn:20251020T000000
DTEND;TZID=Europe/Tallinn:20251024T235959
DTSTAMP:20260423T092359
CREATED:20250919T163642Z
LAST-MODIFIED:20251020T150450Z
UID:3599-1760918400-1761350399@www.doktorikool.ee
SUMMARY:Kirjutamislaager
DESCRIPTION:@ Asukoht täpsustamisel \n\n\n\nMaht: 3 EAP \n\n\n\nKutsume teid osalema kirjutamislaagrisse\, kus saate olla nädal aega tööst\, kodust ja muudest segavatest faktoritest eemal ja kasutada 5 päeva artikli või doktoritöö kirjutamiseks. \n\n\n\nKirjutamislaager toimub Tartust väljas\, kus osalejatele on tagatud eraldi toad (söök kaasaarvatud) Tartust väljas. Laagrijuhendajaks on abivalmis professor David Arney\, kes on kogenud teadlane ning kelle emakeeleks on inglise keel. \n\n\n\nKui oled kindel\, et saad osaleda pakutud kuupäevadel\, siis kirjuta registreerumiseks julia.jeremejeva@emu.ee. \n\n\n\nKasutage võimalust kirjutada oma artikkel või doktoritöö rahulikus keskkonnas. Osalejate arv on piiratud! Ootame teie aktiivset osalemist! \n\n\n\nKüsimuste korral palume pöörduda Julia Jeremejeva poole\, julia.jeremejeva@emu.ee \n\n\n\nEesti doktorikooli arsti- ja terviseteaduste\, veterinaaria haru.
URL:https://www.doktorikool.ee/en/uritused/kirjutamislaager-17/
CATEGORIES:Teadustöö tegemine / Doing research
END:VEVENT
BEGIN:VEVENT
DTSTART;TZID=Europe/Tallinn:20251021T000000
DTEND;TZID=Europe/Tallinn:20251024T235959
DTSTAMP:20260423T092359
CREATED:20250919T143520Z
LAST-MODIFIED:20251020T150422Z
UID:3595-1761004800-1761350399@www.doktorikool.ee
SUMMARY:Kirjutamislaager
DESCRIPTION:@ Villa Theresa\, Rakvere \n\n\n\nKutsume doktorante ja nende juhendajaid osalema kirjutamislaagris\, on võimalus paari päeva jooksul keskenduda oma doktoritöö või teadusartikli kirjutamisele\, saada ja jagada tagasisidet ning juhendamist. \n\n\n\nKirjutamislaagrit veab prof. Merike Sisask Tallinna Ülikooli ühiskonnateaduste instituudist. \n\n\n\nOsalejatele on doktorikooli poolt majutus ühekohalistes tubades ja toitlustus. Transpordi kirjutamislaagrisse ja tagasi peab osaleja ise tagama. \n\n\n\nNB! Registreerumine on lõppenud! \n\n\n\nOsalejate valikul on eelistatud doktorandid\, kes pole veel 2025 aasta jooksul Eesti doktorikooli kirjutamislaagrites osalenud. \n\n\n\nKüsimuste korral palume pöörduda Eva Valdna poole\, eva.valdna@tlu.ee. \n\n\n\nKirjutamislaagrit korraldab Eesti doktorikooli sotsiaalteaduste haru partner Tallinna Ülikool.
URL:https://www.doktorikool.ee/en/uritused/kirjutamislaager-16/
CATEGORIES:Teadustöö tegemine / Doing research
END:VEVENT
BEGIN:VEVENT
DTSTART;TZID=Europe/Tallinn:20251023T100000
DTEND;TZID=Europe/Tallinn:20251023T180000
DTSTAMP:20260423T092359
CREATED:20251001T080436Z
LAST-MODIFIED:20251020T150400Z
UID:3715-1761213600-1761242400@www.doktorikool.ee
SUMMARY:Konverents „Kunstilised avastused: uurimissuunad etenduskunstides”
DESCRIPTION:@ Eesti Muusika- ja Teatriakadeemia\, Tallinn\, Tatari 13\, ruum A207 \n\n\n\nMaht: 1 EAP kuulajale\, 2 EAP ettekande tegijale \n\n\n\nKonventsile on oodatud humanitaarteaduste ja kunstide ning sotsiaalteaduste haru doktorandid\, magistrandid ja doktorijuhendajad. Konverents toimub inglise keeles. \n\n\n\nKonverents toob Eestis esmakordselt kokku doktorandid-loovuurijad laiast etenduskunstide valdkonnast. Mida uurivad teised alustavad loovuurijad? Miliste oluliste teemadega valdkonnas tegeletakse? Millised on peamised väljakutsed? Konverentsipäev on etenduskunstnikest loovuurijate kokkusaamine\, kus vahetada vastastikku kogemusi. Mida uurivad doktorandid naaberriikides? Külalisesinejad tulevad Leedust ja Soomest. \n\n\n\nPeakõneleja\, Uniarts Helsinki loovuurimuse doktor Joa Hug’i abiga esitame mitu keerulist küsimust: kuidas saab kunstilist praktikat muuta loovuurimuseks? Kuidas arendada kirjutamisviisi\, mis säilitab praktika performatiivse jõu ja füüsilise mõju? \n\n\n\nKonverentsil osalenud doktorant omab sissevaadet etenduskunstide doktorantide uurimisteemadesse\, saab ülevaate loovuurimuse metodoloogilisest mitmekesisusest ning kogeb praktiliselt\, kuidas esitada oma loovuurimust teadustööna. \n\n\n\nVaata detailset ajakava siit. \n\n\n\nRegistreeru SIIN. Registreerumise tähtaeg on  19. oktoober\, 2025.Osalejate piirarv 30. \n\n\n\nKüsimuste korral pöörduda Madli Pesti\, madli.pesti@eamt.ee või Kristel Karu-Kletter\, kristel.karu-kletter@eamt.ee poole. \n\n\n\nEesti doktorikooli humanitaarteaduste ja kunstide haru.
URL:https://www.doktorikool.ee/en/uritused/konverents-kunstilised-avastused-uurimissuunad-etenduskunstides/
END:VEVENT
END:VCALENDAR