BEGIN:VCALENDAR
VERSION:2.0
PRODID:-//Eesti doktorikool - ECPv6.15.20//NONSGML v1.0//EN
CALSCALE:GREGORIAN
METHOD:PUBLISH
X-WR-CALNAME:Eesti doktorikool
X-ORIGINAL-URL:https://www.doktorikool.ee/en
X-WR-CALDESC:Events for Eesti doktorikool
REFRESH-INTERVAL;VALUE=DURATION:PT1H
X-Robots-Tag:noindex
X-PUBLISHED-TTL:PT1H
BEGIN:VTIMEZONE
TZID:Europe/Tallinn
BEGIN:DAYLIGHT
TZOFFSETFROM:+0200
TZOFFSETTO:+0300
TZNAME:EEST
DTSTART:20250330T010000
END:DAYLIGHT
BEGIN:STANDARD
TZOFFSETFROM:+0300
TZOFFSETTO:+0200
TZNAME:EET
DTSTART:20251026T010000
END:STANDARD
BEGIN:DAYLIGHT
TZOFFSETFROM:+0200
TZOFFSETTO:+0300
TZNAME:EEST
DTSTART:20260329T010000
END:DAYLIGHT
BEGIN:STANDARD
TZOFFSETFROM:+0300
TZOFFSETTO:+0200
TZNAME:EET
DTSTART:20261025T010000
END:STANDARD
BEGIN:DAYLIGHT
TZOFFSETFROM:+0200
TZOFFSETTO:+0300
TZNAME:EEST
DTSTART:20270328T010000
END:DAYLIGHT
BEGIN:STANDARD
TZOFFSETFROM:+0300
TZOFFSETTO:+0200
TZNAME:EET
DTSTART:20271031T010000
END:STANDARD
END:VTIMEZONE
BEGIN:VEVENT
DTSTART;TZID=Europe/Tallinn:20260313T131500
DTEND;TZID=Europe/Tallinn:20260313T144500
DTSTAMP:20260420T113447
CREATED:20260225T193349Z
LAST-MODIFIED:20260225T204633Z
UID:4575-1773407700-1773413100@www.doktorikool.ee
SUMMARY:Külalisloeng reproduktiivmeditsiinis „Mitteinvasiivsete sünnieelsete sõeluuringute laiem perspektiiv“
DESCRIPTION:📍Ravila 19 – 1006\, Tartu ja veebis \n\n\n\nMitteinvasiivne sünnieelne sõeluuuring põhineb ema veres ringleva rakuvaba DNA (nn. cell-free DNA ehk cfDNA) analüüsil ja seda kasutatakse üha enam rutiinse testina loote kromosoomhäirete riski hindamisel. cfDNA sisaldab nii ema kui loote geneetilist materjali. Viimased teadusuuringud on näidanud\, et cfDNA analüüsil on laiem perspektiiv personaliseeritud sünnitusabi edasi arendamisel\, sh rasedustüsistustele riski hindamisel või ema diagnoosimata kasvajate tuvastamisel. \n\n\n\nProf. Joris Vermeesch\nProf. Joris Vermeesch\, Leuven’i Ülikool\, Belgia \n\n\n\n\n\nJoris R. Vermeesch\, Ph.D. Ir\, is a professor of Molecular Cytogenetics and genome research\, and scientific director of the Genomic Core Facility of KU Leuven. \n\n\n\nhttps://belgian-research.eu/laboratory-for-cytogenetics-and-genome-research-ku-leuven/ His laboratory develops and translates novel genomics methods in preimplantation\, prenatal and postnatal diagnosis and more recently\, cancer screening. Those developments have led to new approaches for rare disease testing\, non-invasive prenatal screening and cancer detection\, including advanced methods for cell-free DNA analysis. Prof. Vermeesch has published >320 articles and supervised nearlt 30 PhD students. \n\n\n\n\n\n\n\n\n\n\n\n\nRegistreeri SIIN. Registreerimise tähtaeg on 13. märts 2026. \n\n\n\nKüsimuste korral palume pöörduda Prof. Maris Laane poole\, TÜ Bio- ja Siirdemeditsiini Instituut\, maris.laan@ut.ee. \n\n\n\nEesti doktorikooli arsti- ja terviseteaduste\, veterinaaria haru.
URL:https://www.doktorikool.ee/en/uritused/seminar-reproduktiivmeditsiinis-mitteinvasiivsete-sunnieelsete-soeluuringute-laiem-perspektiiv/
CATEGORIES:Teadustöö mõjukus / Making an impact
END:VEVENT
END:VCALENDAR