BEGIN:VCALENDAR
VERSION:2.0
PRODID:-//Eesti doktorikool - ECPv6.15.20//NONSGML v1.0//EN
CALSCALE:GREGORIAN
METHOD:PUBLISH
X-ORIGINAL-URL:https://www.doktorikool.ee/en
X-WR-CALDESC:Events for Eesti doktorikool
REFRESH-INTERVAL;VALUE=DURATION:PT1H
X-Robots-Tag:noindex
X-PUBLISHED-TTL:PT1H
BEGIN:VTIMEZONE
TZID:Europe/Tallinn
BEGIN:DAYLIGHT
TZOFFSETFROM:+0200
TZOFFSETTO:+0300
TZNAME:EEST
DTSTART:20250330T010000
END:DAYLIGHT
BEGIN:STANDARD
TZOFFSETFROM:+0300
TZOFFSETTO:+0200
TZNAME:EET
DTSTART:20251026T010000
END:STANDARD
BEGIN:DAYLIGHT
TZOFFSETFROM:+0200
TZOFFSETTO:+0300
TZNAME:EEST
DTSTART:20260329T010000
END:DAYLIGHT
BEGIN:STANDARD
TZOFFSETFROM:+0300
TZOFFSETTO:+0200
TZNAME:EET
DTSTART:20261025T010000
END:STANDARD
BEGIN:DAYLIGHT
TZOFFSETFROM:+0200
TZOFFSETTO:+0300
TZNAME:EEST
DTSTART:20270328T010000
END:DAYLIGHT
BEGIN:STANDARD
TZOFFSETFROM:+0300
TZOFFSETTO:+0200
TZNAME:EET
DTSTART:20271031T010000
END:STANDARD
END:VTIMEZONE
BEGIN:VEVENT
DTSTART;TZID=Europe/Tallinn:20260408T000000
DTEND;TZID=Europe/Tallinn:20260410T235959
DTSTAMP:20260420T125136
CREATED:20260114T121239Z
LAST-MODIFIED:20260114T122228Z
UID:4222-1775606400-1775865599@www.doktorikool.ee
SUMMARY:Eesti humanitaarteaduste aastakonverents „Hic sunt dracones. Humanitaarsed maailmad.“
DESCRIPTION:📍 Tartu\, Eesti Rahva Muuseum \n\n\n\nThis event is held in Estonian. \n\n\n\nAlates 2024. aastast on Eesti humanitaaridel ühiseks aruteluks ja kriitiliseks enesevaatluseks oma foorum – Eesti humanitaarteaduste aastakonverents. Järgmine aastakonverents toimub 8.–10. aprillini 2026. aastal Tartus\, Eesti Rahva Muuseumis ja Tartu Ülikoolis. \n\n\n\nKutsume kõiki Eesti humanitaarteadlasi jagama oma mõtteid ja uurimistöö tulemusi!  \n\n\n\nKonverentsil arutleme:  \n\n\n\n\nMillises maailmas humanitaar elab? Kuidas ta end seal tunneb?  \n\n\n\nMis on humanitaaria maailmas uut? Kus on humanitaaria maailma piirid? \n\n\n\nMillised on teised maailmad\, millega humanitaar suhestub? Ja kuidas?  \n\n\n\nKes elab mitmes maailmas korraga\, kes maailmade vahel\, kes maailmast väljas. Millised on äärealad\, üleminekud\, narmad\, mis ääristavad maailma?  \n\n\n\nTeeme reisi ümber maailma. Kas maailma lõpp on võimalik?  \n\n\n\nKas humanitaaria maailm on suurem kui see\, mida tavaliselt maailmaks peetakse?  \n\n\n\nMillised on erinevad maailmapildid ja maailma mõistmised\, fantaasia-\, mõtte- ja tundemaailmad? \n\n\n\nMida humanitaar ühiskonnale pakub? Milline on humanitaaria väärtus selles maailmas?\n\n\n\n\nKonverentsi plenaaresinejad on Ester Oras (Tartu Ülikool)\, Kristi Viiding (Underi ja Tuglase Kirjanduskeskus) ja Jaak Tomberg (Tartu Ülikool).  \n\n\n\nRegistreerimine toimub SIIN. Registreerimise tähtaeg on 01. aprill 2026. \n\n\n\nKüsimuste korral palume pöörduda Lii Langi poole\, lii.lang@ut.ee. \n\n\n\nEesti doktorikooli humanitaarteaduste ja kunstide haru.
URL:https://www.doktorikool.ee/en/uritused/eesti-humanitaarteaduste-aastakonverents-hic-sunt-dracones-humanitaarsed-maailmad/
CATEGORIES:Teadustöö mõjukus / Making an impact
END:VEVENT
BEGIN:VEVENT
DTSTART;TZID=Europe/Tallinn:20260408T000000
DTEND;TZID=Europe/Tallinn:20260410T235959
DTSTAMP:20260420T125136
CREATED:20260317T180028Z
LAST-MODIFIED:20260317T180221Z
UID:4676-1775606400-1775865599@www.doktorikool.ee
SUMMARY:Kirjutamislaager
DESCRIPTION:📍Pärnus Hedon SPA & HOTELL \n\n\n\nKirjutamislaager on suunatud matemaatika\, arvutiteaduse ja informaatika haru doktorantidele. Töökeelteks on nii eesti kui ka inglise keel. \n\n\n\nLaager pakub võimalust keskenduda oma doktoritöö kirjutamisele (näiteks andmete analüüsimine või teadusartikli kirjutamine). Osalejatele on tagatud toitlustus\, majutus ühekohalises toas. \n\n\n\nRegistreeru SIIN. Registreerimise tähtaeg on 30. märts 2026.Osalejaid valitakse motivatsioonikirja ja registreerimise järjekorra alusel\, kuni piirarvu täitumiseni. Osalejate valikul on eelistatud doktorandid\, kes saavad laagris osaleda terve toimumise vältel. \n\n\n\nKüsimuste korral palume pöörduda Anne-Mai Kaljuste (anne-mai.kaljuste@ut.ee) ja Aljona Kritševskaja (aljona.kritsevskaja@ut.ee) poole. \n\n\n\nEesti doktorikooli matemaatika\, arvutiteaduse ja informaatika haru.
URL:https://www.doktorikool.ee/en/uritused/kirjutamislaager-24/
CATEGORIES:Teadustöö tegemine / Doing research
END:VEVENT
END:VCALENDAR