BEGIN:VCALENDAR
VERSION:2.0
PRODID:-//Eesti doktorikool - ECPv6.15.20//NONSGML v1.0//EN
CALSCALE:GREGORIAN
METHOD:PUBLISH
X-WR-CALNAME:Eesti doktorikool
X-ORIGINAL-URL:https://www.doktorikool.ee/en
X-WR-CALDESC:Events for Eesti doktorikool
REFRESH-INTERVAL;VALUE=DURATION:PT1H
X-Robots-Tag:noindex
X-PUBLISHED-TTL:PT1H
BEGIN:VTIMEZONE
TZID:Europe/Tallinn
BEGIN:DAYLIGHT
TZOFFSETFROM:+0200
TZOFFSETTO:+0300
TZNAME:EEST
DTSTART:20250330T010000
END:DAYLIGHT
BEGIN:STANDARD
TZOFFSETFROM:+0300
TZOFFSETTO:+0200
TZNAME:EET
DTSTART:20251026T010000
END:STANDARD
BEGIN:DAYLIGHT
TZOFFSETFROM:+0200
TZOFFSETTO:+0300
TZNAME:EEST
DTSTART:20260329T010000
END:DAYLIGHT
BEGIN:STANDARD
TZOFFSETFROM:+0300
TZOFFSETTO:+0200
TZNAME:EET
DTSTART:20261025T010000
END:STANDARD
BEGIN:DAYLIGHT
TZOFFSETFROM:+0200
TZOFFSETTO:+0300
TZNAME:EEST
DTSTART:20270328T010000
END:DAYLIGHT
BEGIN:STANDARD
TZOFFSETFROM:+0300
TZOFFSETTO:+0200
TZNAME:EET
DTSTART:20271031T010000
END:STANDARD
END:VTIMEZONE
BEGIN:VEVENT
DTSTART;TZID=Europe/Tallinn:20260429T100000
DTEND;TZID=Europe/Tallinn:20260430T160000
DTSTAMP:20260420T124932
CREATED:20260306T210026Z
LAST-MODIFIED:20260410T155419Z
UID:4630-1777456800-1777564800@www.doktorikool.ee
SUMMARY:Haridusteaduste doktoriõppe kevadkool
DESCRIPTION:📍 Tartu Ülikooli haridusteaduste instituut (Jakobi 5\, Tartu) \n\n\n\nKevadkooli töökeel on eesti keel\, võõrkeelsetele doktorantidele võimaldatakse osaline sosintõlge. \n\n\n\nKahe päeva jooksul tutvustavad haridusteaduste doktorandid oma töid ettekannetega ja ümarlaudades. \n\n\n\nKevadkooli avab mõttevahetus teemal “Õppimine ja õpetamine tehisaru\, kriiside ja innovatsiooni ajastul”. Teisel päeval toimuvad ka paralleelsed töötoad\, kus arutleme järgmistel olulistel teemadel: “Tehisaru tõhus ja eetiline kasutamine teadustöös” ning “Psühholoogiline vastupidavus ja kohanemine”. \n\n\n\nAjakava\nKolmapäev\, 29. aprill  09.30–10.00 Kogunemine\, tervituskohv  10.00–11.00 Paneeldiskussioon „Õppimine ja õpetamine tehisaru ja kriiside ajastul“Panelistid Triin Lauri (TLÜ)\, Andero Uusberg (TÜ)\, Marit Puusepp (TÜ)\, Margus Pedaste (TÜ); modereerib Äli Leijen (TÜ) 11.05–12.30 Suulised ettekanded  12.30–13.30 Lõuna  13.30–15.00 Arutelud ümarlaudades 15.00–15.30  Kohvi- ja liikumispaus  15.30–17.00 Arutelud ümarlaudades 17.30–18.30 Õhtusöök  18.30–23.00 Meelelahutusprogramm ja vaba suhtlus \n\n\n\n\n\n\n\nNeljapäev\, 30. aprill  09.00–9.30 Kogunemine\, tervituskohv  9.30–11.00 Arutelud ümarlaudades 11.05–12.45 Suulised ettekanded  12.30–13.30 Lõuna  13.30–15.00 Töötoad  1. „Tehisaru tõhus ja eetiline kasutamine teadustöös“ Koolitaja Eda-Riin Tuuling2. „Psühholoogiline vastupidavus ja kohanemine“ Koolitaja Ethel Rosenfeldt 15.00–15.30 Kohvi- ja liikumispaus  15.30–15.45 Lõpetamine \n\n\n\n\nEttekannete tegijate registreerimine on suletud!Registreeri SIIN. Registreerimise tähtaeg on 30. märts 2026. \n\n\n\nKuulajad saavad registreerida SIIN. Registreerimise tähtaeg on 20. aprill 2026. Osalejate piirarv on 50 inimest. \n\n\n\nKüsimuste korral palume pöörduda: Maarja Vaikmaa\, maarja.vaikmaa@ut.ee \n\n\n\nEesti doktorikooli sotsiaalteaduste haru.
URL:https://www.doktorikool.ee/en/uritused/haridusteaduste-doktorioppe-kevadkool/
LOCATION:TÜ haridusteaduste instituut (Jakobi 5\, Tartu)
CATEGORIES:Koostöö / Working with others
END:VEVENT
END:VCALENDAR