BEGIN:VCALENDAR
VERSION:2.0
PRODID:-//Eesti doktorikool - ECPv6.15.20//NONSGML v1.0//EN
CALSCALE:GREGORIAN
METHOD:PUBLISH
X-ORIGINAL-URL:https://www.doktorikool.ee/en
X-WR-CALDESC:Events for Eesti doktorikool
REFRESH-INTERVAL;VALUE=DURATION:PT1H
X-Robots-Tag:noindex
X-PUBLISHED-TTL:PT1H
BEGIN:VTIMEZONE
TZID:Europe/Tallinn
BEGIN:DAYLIGHT
TZOFFSETFROM:+0200
TZOFFSETTO:+0300
TZNAME:EEST
DTSTART:20250330T010000
END:DAYLIGHT
BEGIN:STANDARD
TZOFFSETFROM:+0300
TZOFFSETTO:+0200
TZNAME:EET
DTSTART:20251026T010000
END:STANDARD
BEGIN:DAYLIGHT
TZOFFSETFROM:+0200
TZOFFSETTO:+0300
TZNAME:EEST
DTSTART:20260329T010000
END:DAYLIGHT
BEGIN:STANDARD
TZOFFSETFROM:+0300
TZOFFSETTO:+0200
TZNAME:EET
DTSTART:20261025T010000
END:STANDARD
BEGIN:DAYLIGHT
TZOFFSETFROM:+0200
TZOFFSETTO:+0300
TZNAME:EEST
DTSTART:20270328T010000
END:DAYLIGHT
BEGIN:STANDARD
TZOFFSETFROM:+0300
TZOFFSETTO:+0200
TZNAME:EET
DTSTART:20271031T010000
END:STANDARD
END:VTIMEZONE
BEGIN:VEVENT
DTSTART;TZID=Europe/Tallinn:20260527T000000
DTEND;TZID=Europe/Tallinn:20260529T235959
DTSTAMP:20260420T141756
CREATED:20260324T125603Z
LAST-MODIFIED:20260327T084801Z
UID:4718-1779840000-1780099199@www.doktorikool.ee
SUMMARY:Baltikumi aluskorrageoloogia doktorikool 2026
DESCRIPTION:📍 Eesti Geoloogiateenistuse Arbavere uurimiskeskus \n\n\n\nÜritus toimub inglise keeles. \n\n\n\nMaht: 1 EAPKevadkool keskendub Balti piirkonna kristalse aluskorra geoloogiale\, hõlmates regionaalseid korrelatsioone\, geokeemilist andmetöötlust\, puursüdamike kirjeldamist ning kaasaegseid geofüüsikalisi uurimismeetodeid. \n\n\n\nTegemist on kolme päeva pikkuse intensiivse doktoritaseme õppeüritusega\, mis ühendab loengud\, praktilised töötoad ja käed-külge sessioonid Arbavere puursüdamike hoidlakompleksis. \n\n\n\nOsalejad töötavad geokeemiliste andmestikega (GCDkit tarkvara)\, harjutavad kristalse aluskorra kivimite kirjeldamist ja regionaalset korreleerimist ning tutvuvad droonipõhiste geofüüsikaliste mõõtmismeetoditega. Ürituse raames toimub ka teadusposterite sessioon. \n\n\n\n \n\n\n\nLäbiviijad\nLäbiviijateks on Tartu Ülikooli\, Eesti Geoloogiateenistuse ning partnerasutuste (Läti\, Leedu ja Soome ülikoolid ja geoloogiateenistused) teadlased.Täpsustatud esinejate nimekiri lisatakse programmi kinnitamisel. \n\n\n\n\nÕpiväljundid\nÜrituse läbinu: \n\n\n\n\nmõistab Baltikumi piirkonna kristalse aluskorra geoloogilise ülesehituse ja regionaalsete korrelatsioonide põhimõtteid;\n\n\n\noskab töödelda ja tõlgendada tervikkivimi geokeemilisi andmeid;\n\n\n\narendab puursüdamike kirjeldamise ja litoloogilise tõlgendamise oskusi;\n\n\n\nmõistab kaasaegsete geofüüsikaliste meetodite rakendusvõimalusi aluskorra uuringutes.\n\n\n\n\n\nRegistreeri SIIN. Registreerimise tähtaeg on 1. mai 2026. \n\n\n\nOsalejate piirarv on 35. Kohtade arvu ületava huvi korral valitakse osalejad akadeemilise tausta ja uurimisteema asjakohasuse alusel. Eelistatakse Eesti ülikoolide doktorante vastavalt doktorikooli rahastustingimustele. \n\n\n\nKüsimuste korral palume pöörduda Kairi Põldsaare (kairi.poldsaar@ut.ee; tel +372 58330832) poole. \n\n\n\nEesti doktorikooli loodusteaduste ja põllumajandusteaduste haru.
URL:https://www.doktorikool.ee/en/uritused/baltikumi-aluskorrageoloogia-doktorikool-2026/
CATEGORIES:Teadustöö tegemine / Doing research
END:VEVENT
BEGIN:VEVENT
DTSTART;TZID=Europe/Tallinn:20260527T120000
DTEND;TZID=Europe/Tallinn:20260528T160000
DTSTAMP:20260420T141756
CREATED:20260413T073952Z
LAST-MODIFIED:20260413T080607Z
UID:4938-1779883200-1779984000@www.doktorikool.ee
SUMMARY:Biotehnoloogia ja toiduteaduse ümbermõtestamine
DESCRIPTION:📍Hindreku talu\, Valgma küla\, Järvamaa \n\n\n\nÜritus toimub inglise keeles. \n\n\n\nÜritusele on oodatud nii doktorandid kui ka juhendajad ning on peamiselt suunatud toidutehnoloogia ja biotehnoloogia valdkonnale. \n\n\n\nReimagining Biotech and Food Science on kahepäevane interaktiivne doktoriseminar\, mille eesmärk on arendada doktorantide kujutlusvõimet\, loovat mõtlemist ja innovaatilist mõtteviisi.  \n\n\n\nOsalejad tulevad Eesti erinevatest ülikoolidest\, toetades seeläbi ülikoolidevahelist koostööd ning biotehnoloogia ja toiduteaduse arengusuundade kujunemist Eestis. Seminari tulemusena arendavad osalejad võimet mõelda väljaspool tavapäraseid akadeemilisi raame\, genereerida innovaatilisi teadusideid ning siduda oma uurimistöö laiemate ühiskondlike mõjudega. \n\n\n\nTöötuba viib läbi rahvusvaheline koolitaja Yoad Mick (IMAGYM) ning see ühendab praktilised harjutused\, koostöö ja refleksiooni.  \n\n\n\nYoad Mick – IMAGYM-i asutaja\, rahvusvaheline keynote-esineja ja kujutlusvõime treener\nYoad Mick on IMAGYM meetodi looja – praktiline lähenemine\, mis arendab proaktiivset kujutlusvõimet kui mõtteviisi innovatsiooni\, koostöö ja muutuste juhtimiseks. Ta on teinud koostööd ülikoolide\, kiirendite ja organisatsioonidega üle Euroopa\, sh Aalto Ülikool\, Helsingi Ülikool\, Tallinna Tehnikaülikool\, SSE Riga\, Accenture ja SodaStream International. \n\n\n\nOma töö kaudu on Yoad koolitanud teadlasi\, ettevõtjaid ja juhte nägema ebakindlust võimalusena\, tugevdama koostööd ning looma tähenduslikku mõju läbi kujutlusvõime. \n\n\n\n\nRegistreeri SIIN. Registreerimise tähtaeg on 20. aprill 2026. \n\n\n\nMaksimaalne osalejate arv on 20. Eelistatud on toidu ja biotehnoloogia suund\, kuid kursus sobib ka teistele huvitatutele. \n\n\n\nKüsimuste korral palume pöörduda Kristel Vene (Kristel.vene@taltech.ee; 5138547) poole. \n\n\n\nEesti doktorikooli loodus- ja põllumajandusteaduste haru.
URL:https://www.doktorikool.ee/en/uritused/biotehnoloogia-ja-toiduteaduse-umbermotestamine/
CATEGORIES:Kognitiivsed võimed / Cognitive Abilities
END:VEVENT
END:VCALENDAR