BEGIN:VCALENDAR
VERSION:2.0
PRODID:-//Eesti doktorikool - ECPv6.15.20//NONSGML v1.0//EN
CALSCALE:GREGORIAN
METHOD:PUBLISH
X-ORIGINAL-URL:https://www.doktorikool.ee/en
X-WR-CALDESC:Events for Eesti doktorikool
REFRESH-INTERVAL;VALUE=DURATION:PT1H
X-Robots-Tag:noindex
X-PUBLISHED-TTL:PT1H
BEGIN:VTIMEZONE
TZID:Europe/Tallinn
BEGIN:DAYLIGHT
TZOFFSETFROM:+0200
TZOFFSETTO:+0300
TZNAME:EEST
DTSTART:20250330T010000
END:DAYLIGHT
BEGIN:STANDARD
TZOFFSETFROM:+0300
TZOFFSETTO:+0200
TZNAME:EET
DTSTART:20251026T010000
END:STANDARD
BEGIN:DAYLIGHT
TZOFFSETFROM:+0200
TZOFFSETTO:+0300
TZNAME:EEST
DTSTART:20260329T010000
END:DAYLIGHT
BEGIN:STANDARD
TZOFFSETFROM:+0300
TZOFFSETTO:+0200
TZNAME:EET
DTSTART:20261025T010000
END:STANDARD
BEGIN:DAYLIGHT
TZOFFSETFROM:+0200
TZOFFSETTO:+0300
TZNAME:EEST
DTSTART:20270328T010000
END:DAYLIGHT
BEGIN:STANDARD
TZOFFSETFROM:+0300
TZOFFSETTO:+0200
TZNAME:EET
DTSTART:20271031T010000
END:STANDARD
END:VTIMEZONE
BEGIN:VEVENT
DTSTART;TZID=Europe/Tallinn:20260615T090000
DTEND;TZID=Europe/Tallinn:20260619T170000
DTSTAMP:20260420T160420
CREATED:20260327T141630Z
LAST-MODIFIED:20260330T113602Z
UID:4827-1781514000-1781888400@www.doktorikool.ee
SUMMARY:SLiM töötuba - Evolutsiooniliste simulatsioonide modelleerimine
DESCRIPTION:📍Tartu Ülikooli raamatukogu (W. Struve 1\, Tartu) \n\n\n\nÜritus toimub inglise keeles. \n\n\n\nMis on SLiM? SLiM on võimas tarkvarapakett individuaalipõhiste\, geneetiliselt täpsete evolutsioonisimulatsioonide läbiviimiseks. See on paindlik\, skriptitav ja kiire\, pakkudes interaktiivset graafilist modelleerimiskeskkonda\, mis teeb sellest ideaalse tööriista väga erinevate evolutsioonistsenaariumide uurimiseks.  \n\n\n\nMilleks saan SLiM-i kasutada? SLiM võimaldab edasisuunalisi geneetilisi simulatsioone\, modelleerides üksikorganisme ja nende genoomi ajas alates algseisundist. Seda saab kasutada näiteks:  \n\n\n\n\nSpetsiifiliste (ja suvaliselt keerukate) demograafiliste stsenaariumide (nt pudelikaelad\, populatsiooni kasv\, valik) korral eeldatavate genoomsete mustrite uurimiseks. \n\n\n\nNeutraalsete simulatsioonide läbiviimiseks nullmudelite loomiseks. \n\n\n\nSimuleeritud andmete genereerimiseks masinõppe klassifikaatorite treenimiseks\, et eristada erinevaid demograafilisi stsenaariume\, kui neid rakendatakse pärisandmetele. \n\n\n\n…ja palju muud! \n\n\n\n\nTöötoa ülesehitus: See viiepäevane töötuba käsitleb peamisi teemasid SLiM-i käsiraamatust — alustades sissejuhatusest SLiM-i ja selle skriptimiskeelde Eidosse ning liikudes edasi keerukamate teemadeni.  \n\n\n\nPõhisisu mahub nelja päeva sisse\, viies päev on avatud modelleerimisajaks\, kus osalejad saavad töötada oma projektidega.  \n\n\n\nTöötuba viib läbi Ben Haller\, PhD (Cornelli Ülikool). Üldine töötoa info: https://benhaller.com/workshops/workshops_attendees.htmlTöötoa sisu: https://benhaller.com/workshops/workshops_overview.html \n\n\n\nRegistreeru SIIN.Maksimum osalejate arv on 30. Osalejad valitakse registreerumise järjekorra alusel. \n\n\n\nOrganisers\n\nJ. Rodrigo Flores E. – rodrigo.flores@ut.ee\n\n\n\nSigni Ereline – signe.ereline@ut.ee\n\n\n\nAjai K. Pathak – ajai.kumar.pathak@ut.ee\n\n\n\nMait Metspalu – mait.metspalu@ut.ee\n\n\n\nBen Haller – bhaller@mac.com\n\n\n\n\n\nKüsimuste korral palume pöörduda Jose Rodrigo Flores (rodrigo.flores@ut.ee) poole. \n\n\n\nEesti doktorikooli loodusteaduste ja põllumajandusteaduste haru.
URL:https://www.doktorikool.ee/en/uritused/slim-evolutsiooniliste-simulatsioonide-raamistik/
CATEGORIES:Teadustöö vahendite haldamine / Managing Research tools
END:VEVENT
END:VCALENDAR