BEGIN:VCALENDAR
VERSION:2.0
PRODID:-//Eesti doktorikool - ECPv6.15.20//NONSGML v1.0//EN
CALSCALE:GREGORIAN
METHOD:PUBLISH
X-ORIGINAL-URL:https://www.doktorikool.ee/en
X-WR-CALDESC:Events for Eesti doktorikool
REFRESH-INTERVAL;VALUE=DURATION:PT1H
X-Robots-Tag:noindex
X-PUBLISHED-TTL:PT1H
BEGIN:VTIMEZONE
TZID:Europe/Tallinn
BEGIN:DAYLIGHT
TZOFFSETFROM:+0200
TZOFFSETTO:+0300
TZNAME:EEST
DTSTART:20250330T010000
END:DAYLIGHT
BEGIN:STANDARD
TZOFFSETFROM:+0300
TZOFFSETTO:+0200
TZNAME:EET
DTSTART:20251026T010000
END:STANDARD
BEGIN:DAYLIGHT
TZOFFSETFROM:+0200
TZOFFSETTO:+0300
TZNAME:EEST
DTSTART:20260329T010000
END:DAYLIGHT
BEGIN:STANDARD
TZOFFSETFROM:+0300
TZOFFSETTO:+0200
TZNAME:EET
DTSTART:20261025T010000
END:STANDARD
BEGIN:DAYLIGHT
TZOFFSETFROM:+0200
TZOFFSETTO:+0300
TZNAME:EEST
DTSTART:20270328T010000
END:DAYLIGHT
BEGIN:STANDARD
TZOFFSETFROM:+0300
TZOFFSETTO:+0200
TZNAME:EET
DTSTART:20271031T010000
END:STANDARD
END:VTIMEZONE
BEGIN:VEVENT
DTSTART;TZID=Europe/Tallinn:20260706T110000
DTEND;TZID=Europe/Tallinn:20260709T160000
DTSTAMP:20260420T174022
CREATED:20260202T130339Z
LAST-MODIFIED:20260202T130340Z
UID:4421-1783335600-1783612800@www.doktorikool.ee
SUMMARY:Suvekool "Valgusaktiveeritavad materjalid uudsetes rakendustes"
DESCRIPTION:📍 Tartu Ülikooli füüsika instituut (Ostwaldi 1\, Tartu) ja Tartu Ülikooli molekulaar- ja rakubioloogia instituut (Riia 23\, Tartu) \n\n\n\nSuvekool toimub inglise keeles. \n\n\n\nMaht: 1EAP \n\n\n\nSuvekool sisaldab sessioone\, mis keskenduvad fotokatalüütiliste materjalide sünteesile\, iseloomustamisele ja tõhususe hindamisele ning nende rakendustele fotogalvaanikas. Suvekooli viimasel päeval toimuvad loengud ja praktilised harjutused osalejate enesearengu toetamiseks. Kõik osalejad peavad saatma lühikese kokkuvõtte oma uurimisvaldkonnast või huvialast. Viimasel päeval on oodatud kõigi osalejate lühiesitlused nende uurimisteemal (täpsem info jagatakse pärast registreerimist). \n\n\n\nFormaat: loengud\, individuaalsed ülesanded\, ettekanded \n\n\n\nÕpiväljundid: \n\n\n\n\npõhjalikud teadmised valgusaktiveeritavate materjalide sünteesist\, iseloomustamisest ja rakendustest\n\n\n\nesinemisoskuste arendamine\n\n\n\nkarjääriarengunägemuse kujundamine\n\n\n\n\nRegistreeri SIIN. Registreerimise tähtaeg on 31. märts 2026.Osalejate piirarv on 30. Osavõtjad valitakse registreermise järjekorra alusel. \n\n\n\nKüsimuste korral palume pöörduda: \n\n\n\n\nLeonid Dolgov\, leonid.dolgov@ut.ee\n\n\n\nAngela Ivask\, angela.ivask@ut.ee\n\n\n\n\nEesti doktorikooli loodusteaduste ja põllumajandusteaduste haru.
URL:https://www.doktorikool.ee/en/uritused/suvekool-valgusaktiveeritavad-materjalid-uudsetes-rakendustes/
CATEGORIES:Teadustöö tegemine / Doing research
END:VEVENT
END:VCALENDAR