BEGIN:VCALENDAR
VERSION:2.0
PRODID:-//Eesti doktorikool - ECPv6.15.20//NONSGML v1.0//EN
CALSCALE:GREGORIAN
METHOD:PUBLISH
X-WR-CALNAME:Eesti doktorikool
X-ORIGINAL-URL:https://www.doktorikool.ee/en
X-WR-CALDESC:Events for Eesti doktorikool
REFRESH-INTERVAL;VALUE=DURATION:PT1H
X-Robots-Tag:noindex
X-PUBLISHED-TTL:PT1H
BEGIN:VTIMEZONE
TZID:Europe/Tallinn
BEGIN:DAYLIGHT
TZOFFSETFROM:+0200
TZOFFSETTO:+0300
TZNAME:EEST
DTSTART:20230326T010000
END:DAYLIGHT
BEGIN:STANDARD
TZOFFSETFROM:+0300
TZOFFSETTO:+0200
TZNAME:EET
DTSTART:20231029T010000
END:STANDARD
BEGIN:DAYLIGHT
TZOFFSETFROM:+0200
TZOFFSETTO:+0300
TZNAME:EEST
DTSTART:20240331T010000
END:DAYLIGHT
BEGIN:STANDARD
TZOFFSETFROM:+0300
TZOFFSETTO:+0200
TZNAME:EET
DTSTART:20241027T010000
END:STANDARD
BEGIN:DAYLIGHT
TZOFFSETFROM:+0200
TZOFFSETTO:+0300
TZNAME:EEST
DTSTART:20250330T010000
END:DAYLIGHT
BEGIN:STANDARD
TZOFFSETFROM:+0300
TZOFFSETTO:+0200
TZNAME:EET
DTSTART:20251026T010000
END:STANDARD
END:VTIMEZONE
BEGIN:VEVENT
DTSTART;TZID=Europe/Tallinn:20240811T000000
DTEND;TZID=Europe/Tallinn:20240815T235959
DTSTAMP:20260421T182926
CREATED:20240904T115229Z
LAST-MODIFIED:20240904T115229Z
UID:820-1723334400-1723766399@www.doktorikool.ee
SUMMARY:21st Estonian Summer School on Computer and Systems Science
DESCRIPTION:11-15 of August\, 2024 (Sun-Thu)\nRoosta Holiday Village \nThe Estonian Summer School in Computer and Systems Science is an annual international event for PhD and MSc students\, postdocs\, and faculty members. ESSCaSS promotes the interdisciplinary education of graduate students specialising in (but not limited to) computer science\, systems science\, software engineering\, artificial intelligence\, and bioinformatics. These schools carry an essential role in doctoral education in Estonia. \nYou can find more information here. \nContact: esscass@ut.ee \nEstonian Doctoral School for Engineering and Technology
URL:https://www.doktorikool.ee/en/uritused/21st-estonian-summer-school-on-computer-and-systems-science/
END:VEVENT
BEGIN:VEVENT
DTSTART;TZID=Europe/Tallinn:20240814T000000
DTEND;TZID=Europe/Tallinn:20240814T235959
DTSTAMP:20260421T182926
CREATED:20240916T102547Z
LAST-MODIFIED:20240916T102946Z
UID:640-1723593600-1723679999@www.doktorikool.ee
SUMMARY:Data Science and AI in Forest ecosystem - atmosphere interactions
DESCRIPTION:14. – 19. August 2024\, Järvselja\n21. – 23. August 2024\, EMÜ \nThe summer school covers topics of Data Science\, sensors\, IoT\, modern technologies in computing on data related to Forest ecosystems and atmopsheric measurements. \nThe event is split into two parts\, one organised at the Järvselja Training and Experimental Forestry District and the SMEAR Estonia station.  In that part\, we will develop in group projects sensor prototypes and deploy and test them on site in the forest at the SMEAR Estonia area. \nThe second part will take place at EMÜ in Tartu and we will build a cluster computer and deploy containerized services to it. These services are ideally linked to the prototypes build during the first part. \nThe Teachers are: Steffen M. Noe\, (EMÜ)\, Ulrich Norbisrath (TÜ)\, Emilio Mercuri (UFPR\, EMÜ). \nTarget audience are doctoral students and master level students. \nRegistration: https://forms.gle/wMAHSvyk2vc7e3Bb7 \nEstonian Doctoral School for Natural and Agricultural Sciences
URL:https://www.doktorikool.ee/en/uritused/data-science-and-ai-in-forest-ecosystem-atmosphere-interactions/
END:VEVENT
BEGIN:VEVENT
DTSTART;VALUE=DATE:20240821
DTEND;VALUE=DATE:20240826
DTSTAMP:20260421T182926
CREATED:20240621T122633Z
LAST-MODIFIED:20240816T072811Z
UID:606-1724198400-1724630399@www.doktorikool.ee
SUMMARY:Kirjutamislaager // Writing Retreat
DESCRIPTION:/English below/ \nKirjutamislaager Eesti doktorikooli humanitaarteaduste ja kunstide haru doktorantidele\n21.-25. august 2024\, Villa Theresa Rakveres \nKorraldab Tallinna Ülikool\nRegistreerumise tähtaeg 10. august 2024 (kaasa arvatud)\nLaagrisse võetakse kuni 20 osalejat \nKirjutamislaager pakub suurepärase võimaluse doktoritöö või sellega seotud teadusartikli kirjutamisele pühendumiseks. Kolleegidega kõrvuti töötamine ja igapäevategemistest eraldumine loob sobivad tingimused tõhustaks tööks. Lisaks pakutakse laagris võimalust osaleda konsultatsioonides\, mis toetavad kirjutamise protsessi. Samuti saavad osalejad jagada kogemusi ja nõuandeid ning anda teiste tööle tagasisidet. Ürituse korraldamise partnerid on    Tallinna ülikooli Balti filmi\, meedia ja kunstide instituut ja Tallinna ülikooli humanitaarteaduste instituut. \nKirjutamislaagri juhendajad on Indrek Ibrus ja Teet Teinemaa (Tallinna Ülikooli Balti filmi\, meedia ja kunstide instituudist) \nRegistreerumisel palume kindlasti esitada lühikese tööplaani\, kus on märgitud millise tekstiga soovite laagris töötada. \nOsalejate valikul on eelistatud: \n\nhumanitaarteaduste ja kunstide valdkonna doktorandid\ndoktorandid kes saavad osaleda laagris kogu ürituse perioodi ning ei ole varem kirjutamislaagris osalenud\ndoktorandid\, kellel on selge ja läbimõeldud tööplaan\n\nVastuvõetud osavõtjate majutus ühekohalistes tubades\, toitlustus ja tellitud ühistransport (Tallinn-Rakvere-Tallinn) hüvitatakse doktorikooli poolt. \nTäpsemad juhised ja laagri ajakava saadetakse vastuvõetud osalejatele umbes nädal enne laagri algust e-mailile. \nRegistreeru SIIN \nLisainfo: Eva Kruuse\, eva.kruuse@tlu.ee \n\nWriting retreat for doctoral students of the Estonian Doctoral School of Humanities and Arts\n21-25 August 2024\, Villa Theresa in Rakvere\, Estonia \nOrganised by Tallinn University\nRegistration deadline 10 August 2024 (inclusive)\nThe camp will take up to 20 participants \nThe Writing Camp offers an excellent opportunity to dedicate yourself to writing a doctoral thesis or a related research article. Working side by side with colleagues and getting away from the daily routine creates the right conditions for effective work. In addition\, the camp offers the opportunity to participate in consultations to support the writing process. Participants will also be able to share experiences and advice and give feedback on the work of others. The event is organised in partnership with the Tallinn University Baltic Film\, Media and Arts School and the Tallinn University Institute of Humanities. \nThe mentors of the writing camp are Indrek Ibrus and Teet Teinemaa (from the Baltic Film\, Media and Arts School\, Tallinn University). \nWhen registering\, please make sure to submit a short work plan\, indicating the text you would like to work on in the camp. \nPreference will be given in the selection of participants: \n\nPhD students in the field of humanities and arts\nDoctoral students who will be able to participate for the entire duration of the event and who have not previously participated in a writing camp.\ndoctoral students who have a clear and well-planned work schedule\n\nAccommodation in single rooms\, catering and transport (Tallinn-Rakvere-Tallinn) will be reimbursed by the Doctoral School. \nDetailed instructions and the camp timetable will be sent to accepted participants by e-mail approximately one week before the start of the camp. \nRegister HERE \nFor more information contact Eva Kruuse\, eva.kruuse@tlu.ee.
URL:https://www.doktorikool.ee/en/uritused/kirjutamislaager-writing-retreat-2/
END:VEVENT
BEGIN:VEVENT
DTSTART;TZID=Europe/Tallinn:20240823T000000
DTEND;TZID=Europe/Tallinn:20240823T235959
DTSTAMP:20260421T182926
CREATED:20240705T130231Z
LAST-MODIFIED:20240927T090743Z
UID:616-1724371200-1724457599@www.doktorikool.ee
SUMMARY:Lecture by professor Istvan Bitter "Negative Symptoms in Schizophrenia: Definitions and Treatment."
DESCRIPTION:23. augustil kell 10Biomeedikumis Ravila 19-1038\, Tartu \nProfessor Istvan Bitter peab 23. augustil kell 10 loengu teemal “Negative Symptoms in Schizophrenia: Definitions and Treatment”. \nProfessor István Bitteri loeng keskendub skisofreenia püsivate ja ravile allumatute sümptomite mõistmisele ja ravimisele. Professor Bitter arutleb praeguste farmakoloogiliste ja psühhosotsiaalsete ravimeetodite väljakutsete ja tõhususe üle ning tutvustab hiljutisi teadusuuringute tulemusi. Professor Bitter on silmapaistev akadeemik\, kellel on ulatuslikud teadmised neuroloogias\, psühhiaatrias\, psühhoteraapias ja kliinilises farmakoloogias. Ta on lõpetanud Budapesti Semmelweisi Ülikooli\, ning töötanud mitmetes mainekates ametites rahvusvaheliselt\, sealhulgas New Yorgi Ülikoolis (NYU). Professor Bitter\, Semmelweisi Ülikooli emeriitprofessor\, on EGRISi asutajaliige\, kellel on üle 347 publikatsiooni ja 17 000 viite. \nKontakt: Kattri-Liis Eskla\, kattri-liis.eskla@ut.ee \nEesti doktorikooli Arsti- ja terviseteaduste\, veterinaaria haru \n\nAugust 23 at 10 AMBiomedicum\, Ravila 19-1038\, Tartu \nProfessor Istvan Bitter will give a lecture titled “Negative Symptoms in Schizophrenia: Definitions and Treatment.” \nThe lecture will focus on understanding and treating the persistent and treatment-resistant symptoms of schizophrenia. Professor Istvan Bitter will discuss the challenges and efficacy of current pharmacological and psychosocial treatments\, presenting recent research insights. He is a distinguished academic with extensive credentials in neurology\, psychiatry\, psychotherapy\, and clinical pharmacology. Graduating from Semmelweis University\, Budapest\, he has held prestigious positions internationally\, including at NYU. Professor Bitter\, an emeritus chair at Semmelweis University\, is a founding member of EGRIS with over 347 publications and 17\,000 citations. \nContact: Kattri-Liis Eskla\, kattri-liis.eskla@ut.ee \nEstonian Doctoral School for Medical and Health Sciences\, Veterinary Medicine
URL:https://www.doktorikool.ee/en/uritused/professor-istvan-bitter-will-give-a-lecture-titled-negative-symptoms-in-schizophrenia-definitions-and-treatment/
END:VEVENT
END:VCALENDAR