BEGIN:VCALENDAR
VERSION:2.0
PRODID:-//Eesti doktorikool - ECPv6.15.20//NONSGML v1.0//EN
CALSCALE:GREGORIAN
METHOD:PUBLISH
X-ORIGINAL-URL:https://www.doktorikool.ee/en
X-WR-CALDESC:Events for Eesti doktorikool
REFRESH-INTERVAL;VALUE=DURATION:PT1H
X-Robots-Tag:noindex
X-PUBLISHED-TTL:PT1H
BEGIN:VTIMEZONE
TZID:Europe/Tallinn
BEGIN:DAYLIGHT
TZOFFSETFROM:+0200
TZOFFSETTO:+0300
TZNAME:EEST
DTSTART:20230326T010000
END:DAYLIGHT
BEGIN:STANDARD
TZOFFSETFROM:+0300
TZOFFSETTO:+0200
TZNAME:EET
DTSTART:20231029T010000
END:STANDARD
BEGIN:DAYLIGHT
TZOFFSETFROM:+0200
TZOFFSETTO:+0300
TZNAME:EEST
DTSTART:20240331T010000
END:DAYLIGHT
BEGIN:STANDARD
TZOFFSETFROM:+0300
TZOFFSETTO:+0200
TZNAME:EET
DTSTART:20241027T010000
END:STANDARD
BEGIN:DAYLIGHT
TZOFFSETFROM:+0200
TZOFFSETTO:+0300
TZNAME:EEST
DTSTART:20250330T010000
END:DAYLIGHT
BEGIN:STANDARD
TZOFFSETFROM:+0300
TZOFFSETTO:+0200
TZNAME:EET
DTSTART:20251026T010000
END:STANDARD
END:VTIMEZONE
BEGIN:VEVENT
DTSTART;TZID=Europe/Tallinn:20241203T000000
DTEND;TZID=Europe/Tallinn:20241203T235959
DTSTAMP:20260422T044926
CREATED:20241126T095848Z
LAST-MODIFIED:20250106T122055Z
UID:1826-1733184000-1733270399@www.doktorikool.ee
SUMMARY:Seminar „Fluorestseerivad sondid vähkkasvajate tuvastamiseks“
DESCRIPTION:3. detsember kl 11.00Biomeedikum (Ravila 19-0093) \n\n\n\nEesti doktorikooli arsti- ja terviseteaduste\, veterinaaria haru kutsub huvilisi Dr. Cornelis F.M. Sieri (PhD\, Leideni Ülikooli meditsiinikeskus\, Leiden\, Holland) seminarile teemal „Fluorestseerivad sondid vähkkasvajate tuvastamiseks“ \n\n\n\nDr Cornelis Sier’il on prekliiniliste vähiuuringute valdkonnas töötanud enam kui 35 aastat. \n\n\n\nTema huviks on eelkõige diagnostilised ja terapeutilised sihtmärgid\, täpsemalt neoplastiliste ja stroomarakkude vahelised interaktsioonid. \n\n\n\nViimase kümnendi jooksul on ta keskendunud fluorestseerivate sondide disainimisele\, arendamisele ja (pre)kliinilisele hindamisele\, mis võimaldavad operatsioonisaalis eristada pahaloomulist kude normaalsest koest. Ettekandes käsitleb ta selle käimasoleva arendustöö strateegiaid\, väljakutseid ja takistusi ning toob välja mõningad kliinilised näited lähiinfrapuna-fluorestsentsiga juhitud onkoloogilisest kirurgiast. \n\n\n\nCornelis F.M. Sier on Allan Tobi oponent. Allan Tobi kaitseb 3. detsembril 2024 kell 14.00  oma doktoritööd „Development of Smart Nanoparticles for Experimental Treatment of Cancer“ („Tarkade nanoosakeste väljatöötamine eksperimentaalseks vähiraviks“) Biomeedikumis (Ravila 19-1006) 3. detsembril kl 14.00. \n\n\n\nKontakt: Eva MõtteEesti doktorikooli arsti- ja terviseteaduste\, veterinaaria haru.
URL:https://www.doktorikool.ee/en/uritused/seminar-fluorestseerivad-sondid-vahkkasvajate-tuvastamiseks/
END:VEVENT
BEGIN:VEVENT
DTSTART;TZID=Europe/Tallinn:20241204T000000
DTEND;TZID=Europe/Tallinn:20241204T235959
DTSTAMP:20260422T044926
CREATED:20241121T113243Z
LAST-MODIFIED:20241121T113243Z
UID:1731-1733270400-1733356799@www.doktorikool.ee
SUMMARY:Avalik loeng „When foundation Vaccinium species go undercover – the overstory has impacts beyond abundance“
DESCRIPTION:Loeng toimub 04.12.2024\, algusega kell 10:00\nMetsamaja ruumis 1A11\, Eesti Maaülikoolis Kreutzwaldi 5\, Tartu \nKaasprofessor Per-Ola Hedwall (Swedish University of Agricultural Sciences\, Centre of Southern Swedish Forest Research) avalik loeng „When foundation Vaccinium species go undercover – the overstory has impacts beyond abundance“. \nKõik huvilised on oodatud! \nEesti doktorikooli loodusteaduste ja põllumajandusteaduste haru.
URL:https://www.doktorikool.ee/en/uritused/avalik-loeng-when-foundation-vaccinium-species-go-undercover-the-overstory-has-impacts-beyond-abundance/
END:VEVENT
BEGIN:VEVENT
DTSTART;TZID=Europe/Tallinn:20241206T000000
DTEND;TZID=Europe/Tallinn:20241208T235959
DTSTAMP:20260422T044926
CREATED:20241101T100057Z
LAST-MODIFIED:20241205T124234Z
UID:1557-1733443200-1733702399@www.doktorikool.ee
SUMMARY:Kirjutamislaager
DESCRIPTION:Kirjutamislaager farmaatsia (ravimiteadused\, ravimiarendus\, materjaliteadus) ja terviseteaduste doktorantideleKubija hotell-loodusspaas\, 06.-08. detsember 2024 \nKutsume arsti- ja terviseteadused\, veterinaaria haru doktorante ja nende juhendajaid osalema kirjutamislaagris Kubijal 06.-08. detsembrini. \nKirjutamislaagri eesmärk on anda doktorantidele võimalus keskenduda segamatult oma teadusartikli või doktoritöö kirjutamisele ning saada tagasisidet ning individuaalset juhendamist oma juhendaja(te)lt (nii individuaalsed vestlused\, kui grupivestlused).Enne laagrit koostatakse koos juhendajaga täpne kirjutamislaagri plaan ning laagri lõppedes antakse ülevaade\, kas plaan sai täidetud ja tehakse edasisteks sammudeks uued plaanid. Lisaks korraldatakse huvitaval teemal seminar (külalislektor)\, mis võimaldab edasi arendada teadlaste ülekantavaid oskusi toetamaks nende edasist karjääri ja tegemisi. Kõik osalejad saavad omavahel jagada kogemusi ja teadmisi ning üksteiselt õppida õdusas keskkonnas\, mis neid toetab. \nLaagrisse võetakse vastu kuni 40 osalejat. Osalejatele pakutakse doktorikooli poolt majutust\, toitlustust ning transporti Tartust Kubijale ja tagasi. Transport toimub tellitud bussiga\, ühistranspordipileteid või autosõitu isikliku autoga ei kompenseerita. \nRegistreerumine: shandi.johanson@ut.ee hiljemalt 15. november 2024. \nKüsimuste korral kirjutage shandi.johanson@ut.ee \nKirjutamislaagrit korraldab Eesti doktorikooli arsti- ja terviseteadused\, veterinaaria haru\, Tartu Ülikool\, Farmaatsia instituut.
URL:https://www.doktorikool.ee/en/uritused/kirjutamislaager-4/
END:VEVENT
BEGIN:VEVENT
DTSTART;TZID=Europe/Tallinn:20241206T100000
DTEND;TZID=Europe/Tallinn:20241206T113000
DTSTAMP:20260422T044926
CREATED:20240829T065534Z
LAST-MODIFIED:20250113T081649Z
UID:717-1733479200-1733484600@www.doktorikool.ee
SUMMARY:Juhendajate kohvihommik
DESCRIPTION:“Juhendaja vaimne heaolu: ise- ja koostoimimise mõistlik tasakaal”\n6. dets 10-11.30\nVeebis (Teams)\n\nThis event is held in Estonian. \n\nDoktorandi juhendamisprotsess võib juhendajale pakkuda palju rõõmu ja rahuldust\, aga sellel päris pikal ühisel teekonnal võib ette tulla ka omajagu raskusi ja probleeme. Kuigi formaalselt defineeritud eesmärk on selge – jõuda nominaalajal doktorikraadi kaitsmiseni – ei ole vähem tähtis selles protsessis mõlema osapoole vaimset heaolu hoida ja toetada. Juhendajate kohvihommikul arutame\, millised on doktorantide ja juhendajate vastastikused õigused ja kohustused ning milline on doktorantide juhendamisprotsessis ise- ja koostoimimise mõistlik tasakaal. Kellega üldse peab juhendaja koos toimima? Aga doktorant? Milliste probleemide ja küsimustega doktorandid juhendaja poole pöörduvad? Toome näiteid igapäevaelust ja arutame võimalikke lahendusi nendele.\n\n Arutelu juhib Prof Merike Sisask\, Tallinna Ülikooli ühiskonnateaduste instituudi sotsiaaltervishoiu professor ning Eesti inimarengu aruande 2023 „Vaimne tervis ja heaolu“ peatoimetaja (www.inimareng.ee).  \n\nRegistreerimine: SIIN\nPalume juhendajate kohvihommikule registreeruda hiljemalt 04.detsembriks. 
URL:https://www.doktorikool.ee/en/uritused/juhendajate-kohvihommik-juhendaja-vaimne-heaolu-ise-ja-koostoimimise-moistlik-tasakaal/
END:VEVENT
BEGIN:VEVENT
DTSTART;TZID=Europe/Tallinn:20241209T000000
DTEND;TZID=Europe/Tallinn:20241213T235959
DTSTAMP:20260422T044926
CREATED:20241029T090458Z
LAST-MODIFIED:20241205T124338Z
UID:1548-1733702400-1734134399@www.doktorikool.ee
SUMMARY:Kirjutamislaager
DESCRIPTION:9.-13.12.2024Tartust kuni 60km kaugusel \nArsti- ja terviseteadused\, veterinaaria haru kutsub doktorante osalema kirjutamislaagris.Kirjutamislaagris saab keskenduda oma artikli või doktoritöö kirjutamisele. Laager kestab 5 tööpäeva\, pakkudes ideaalset keskkonda eemal igapäevarutiinist ja segavatest faktoritest. Ööbimine toimub täispansions rahulikus keskkonnas  (ühesed toad\, 3-4 söögikorda päevas ja WiFi). \nKirjutamislaagri juhendajaks on professor David Arney. \nRegistreerumine: julia.jeremejeva@emu.eeOsalejate arv on piiratud! \nKüsimuste korral kirjutage julia.jeremejeva@emu.ee. \nKirjutamislaagrit korraldab Eesti doktorikooli arsti- ja terviseteadused\, veterinaaria haru partner Eesti Maaülikool.
URL:https://www.doktorikool.ee/en/uritused/kirjutamislaager-3/
END:VEVENT
BEGIN:VEVENT
DTSTART;TZID=Europe/Tallinn:20241210T000000
DTEND;TZID=Europe/Tallinn:20241213T235959
DTSTAMP:20260422T044926
CREATED:20240920T114809Z
LAST-MODIFIED:20240920T114855Z
UID:949-1733788800-1734134399@www.doktorikool.ee
SUMMARY:Kirjutamislaager // Writing retreat
DESCRIPTION:/English below/ \nKirjutamislaager arsti- ja terviseteaduste\, veterinaaria haru doktorantidele\nKääriku Spordikeskus\, 10.-13. detsember 2024\n \nKirjutamislaagri eesmärk on anda doktorantidele võimalus paari järjestikuse päeva jooksul saada juhendamist ja tagasisidet mentoritelt ja keskenduda segamatult oma teadusartikli või doktoritöö kirjutamisele. Laagrisse võetakse vastu kuni 36 osalejat. Osalejatele pakutakse doktorikooli poolt majutust (kahekohalistes tubades)\, toitlustust ning transporti Tartust Käärikule ja tagasi. \nRegsitreerimislingi leiad siit. Registreerimistähtaeg on 3.november 2024. \nKontakt: Keidi Roosimäe\, keidi.roosimae@ut.ee \n\nWriting retreat for doctoral students of the Estonian Doctoral School for Medical and Health Sciences\, Veterinary Medicine\nKääriku Sports Center\, 10th-13th December 2024 \nThe purpose of the writing retreat is to give doctoral students the opportunity to receive guidance and feedback from mentors during a few days and to focus undisturbed on writing their research article or doctoral thesis. Up to 36 participants are admitted to the retreat. The participants are offered accommodation (in double rooms)\, meals and transport to and from Tartu and Kääriku. \nYou can find the registration link here. The deadline is November 3\, 2024. \nContact: Keidi Roosimäe\, keidi.roosimae@ut.ee
URL:https://www.doktorikool.ee/en/uritused/kirjutamislaager-writing-retreat-8/
END:VEVENT
BEGIN:VEVENT
DTSTART;TZID=Europe/Tallinn:20241211T120000
DTEND;TZID=Europe/Tallinn:20241211T153000
DTSTAMP:20260422T044926
CREATED:20241104T135208Z
LAST-MODIFIED:20241212T065715Z
UID:1563-1733918400-1733931000@www.doktorikool.ee
SUMMARY:Sotsiaalmeedia töötuba doktorantidele
DESCRIPTION:Ülikooli 18\, Tartu (ruum 140)kell 12:00-15:30 \n\n\n\nTöötoas õpid\, kuidas laiendada oma teadustöö mõju sotsiaalmeedia kaudu\, kuidas luua võrgustikke kolleegidega ning avastada võimalusi nii akadeemilises ringkonnas kui ka sellest väljaspool.Õpid kasutama selliseid platvrome nagu LinkedIn (ja selle alternatiive) professionaalse tööriistana ning õpid\, kuidas eristada olulist ebaolulisest.  \n\n\n\nSaad praktilisi näpunäiteid:  \n\n\n\n\ntõhusaks suhtlemiseks sotsiaalmeediaplatvormidel \n\n\n\nõigete inimestega kohtumiseks ja nende kaasamiseks oma uurimustöösse \n\n\n\njätkusuutliku ja sinu tööpäeva sobituva sotsiaalmeedia rutiini loomiseks.\n\n\n\n\nMurra välja oma mugavustsoonist! Alusta suhtlemist uute teadlaste ja potentsiaalsete koostööpartneritega sotsiaalmeedias ning lase end inspireerida teiste ideedest! \n\n\n\nTöötuba toimub inglise keeles. \n\n\n\nRegistreerimine: SIIN (maksimaalselt 20 osalejat)Kui registreerujaid on piirarvust enam\, hindavad korraldajad ülikoolide esindatust. \n\n\n\nJuhendaja: Mike Young \n\n\n\nMike on endine Kopenhaageni Ülikooli ajakirja University Post toimetaja. Alates 2016. aastast on ta aidanud teadlastel ja ülikoolide kommunikatsioonispetsialistidel sotsiaalmeediat tõhusalt kasutada. Ta on korraldanud töötubasid üle kogu Euroopa ning veebiseminaride kaudu ka Aasias\, Austraalias ja USAs.  \n\n\n\nVeebisait: http://mikeyoungacademy.dk/ 
URL:https://www.doktorikool.ee/en/uritused/sotsiaalmeedia-tootuba-doktorantidele/
END:VEVENT
BEGIN:VEVENT
DTSTART;TZID=Europe/Tallinn:20241212T123000
DTEND;TZID=Europe/Tallinn:20241212T160000
DTSTAMP:20260422T044926
CREATED:20241211T101934Z
LAST-MODIFIED:20241212T065013Z
UID:1928-1734006600-1734019200@www.doktorikool.ee
SUMMARY:Sotsiaalmeedia töötuba doktorantidele
DESCRIPTION:Tallinna Ülikool \nTöötoas õpid\, kuidas laiendada oma teadustöö mõju sotsiaalmeedia kaudu\, kuidas luua võrgustikke kolleegidega ning avastada võimalusi nii akadeemilises ringkonnas kui ka sellest väljaspool.Õpid kasutama selliseid platvrome nagu LinkedIn (ja selle alternatiive) professionaalse tööriistana ning õpid\, kuidas eristada olulist ebaolulisest.  \nSaad praktilisi näpunäiteid:  \n\ntõhusaks suhtlemiseks sotsiaalmeediaplatvormidel \nõigete inimestega kohtumiseks ja nende kaasamiseks oma uurimustöösse \njätkusuutliku ja sinu tööpäeva sobituva sotsiaalmeedia rutiini loomiseks.\n\nMurra välja oma mugavustsoonist! Alusta suhtlemist uute teadlaste ja potentsiaalsete koostööpartneritega sotsiaalmeedias ning lase end inspireerida teiste ideedest! \nTöötuba toimub inglise keeles. \nJuhendaja: Mike Young \nMike on endine Kopenhaageni Ülikooli ajakirja University Post toimetaja. Alates 2016. aastast on ta aidanud teadlastel ja ülikoolide kommunikatsioonispetsialistidel sotsiaalmeediat tõhusalt kasutada. Ta on korraldanud töötubasid üle kogu Euroopa ning veebiseminaride kaudu ka Aasias\, Austraalias ja USAs.  \nVeebisait: http://mikeyoungacademy.dk/ 
URL:https://www.doktorikool.ee/en/uritused/sotsiaalmeedia-tootuba-doktorantidele-2/
END:VEVENT
BEGIN:VEVENT
DTSTART;TZID=Europe/Tallinn:20241213T100000
DTEND;TZID=Europe/Tallinn:20241213T113000
DTSTAMP:20260422T044926
CREATED:20241205T132025Z
LAST-MODIFIED:20241205T132025Z
UID:1892-1734084000-1734089400@www.doktorikool.ee
SUMMARY:Seminar „Valkude kohaletoimetamine lüsosomaalsete ladestushaiguste korral“
DESCRIPTION:Biomeedikum (Ravila 19-0088) \n\n\n\nEesti doktorikooli arsti- ja terviseteaduste\, veterinaaria haru kutsub huvilisi Ibane Abasolo Olaortua (PhD\, Centro de Investigación Biomédica en Red\, Bioingeniería\, Biomateriales y Nanomedicina (CIBER-BBN)\, Instituto De Salud Carlos III\, Hispaania) seminarile teemal „Valkude kohaletoimetamine lüsosomaalsete ladestushaiguste korral“. \n\n\n\nLüsosomaalsed ladestushaigused (LSD-d) on haruldaste geneetiliste haiguste rühm\, mis on põhjustatud lüsosoomide talitlushäiretest. Praegused ravimeetodid\, mis kasutavad rekombinantseid valke\, seisavad silmitsi märkimisväärsete väljakutsetega funktsionaalsete valkude transportimisel raskesti ligipääsetavatesse organitesse\, nagu aju ja luud. Aastate jooksul on Ibane välja töötanud ja uurinud uuenduslikke transportvahendeid\, nagu liposoomid ja rakuvälised vesiikulid\, mis suudavad transportida funktsionaalseid rekombinantseid valke\, millest mõned on edukalt jõudnud ka ajju. \n\n\n\nIbane Abasolo Olaortua on Valeria Sidorenko oponent. Valeria Sidorenko kaitseb 13. detsembril 2024 kell 12.00 oma doktoritööd „Novel anthracycline-loaded nanoparticles for precision cancer therapy“ („Uudse antratsükliiniga laetud nano-osakesed vähi täppisteraapiaks“). Biomeedikumis (Ravila 19-1006). \n\n\n\nKontakt: Eva Mõtte\, eva.motte@ut.ee \n\n\n\nEesti doktorikooli arsti- ja terviseteaduste\, veterinaaria haru
URL:https://www.doktorikool.ee/en/uritused/seminar-valkude-kohaletoimetamine-lusosomaalsete-ladestushaiguste-korral/
END:VEVENT
BEGIN:VEVENT
DTSTART;TZID=Europe/Tallinn:20241218T110000
DTEND;TZID=Europe/Tallinn:20241218T173000
DTSTAMP:20260422T044926
CREATED:20241203T124458Z
LAST-MODIFIED:20241218T114438Z
UID:1869-1734519600-1734543000@www.doktorikool.ee
SUMMARY:Teaduskommunikatsiooni koolitus
DESCRIPTION:Tallinna Ülikool\, Uus-Sadama 5\, ruum M-328 \n\n\n\nKoolitus on inglise keeles. \n\n\n\nKuidas teha oma teadus avalikkusele mõistetavaks? \n\n\n\nTeadlastelt oodatakse aina enam\, et nad räägiksid oma teadustööst ka avalikkusele\, ettevõtetele\, poliitikutele ja teistele sidusrühmadele. Hea kommunikatsiooni alus on keeruka teadustöö lühidalt ja selgelt kokku võtmine ning publikule huvitavaks tegemine. Ühepäevane koolitus jagab nõuandeid ja praktilisi harjutusi\, kuidas oma tööst avalikkusele huvi pakkuvad aspektid üles leida ning need arusaadavalt ja köitvalt sõnastada. \n\n\n\nProgramm\n11.00 Welcome and introduction \n\n\n\n11.15-12.15 Why communicate your research \n\n\n\n12.15-13.30 Basics of clear messages \n\n\n\n13.30-14.15 Lunch \n\n\n\n14.15-15.45 Thinking about relevance \n\n\n\n15.45-16.00 Coffee break \n\n\n\n16.00-17.30 Preparing your message \n\n\n\n\nKoolitaja:  Arko Olesk\, Tallinna Ülikooli teaduskommunikatsiooni vanemteadur \n\n\n\nLisainfo: eva.kruuse@tlu.ee \n\n\n\nKoolitust korraldab Eesti doktorikooli humanitaarteaduste ja kunstide haru partner Tallinna Ülikool
URL:https://www.doktorikool.ee/en/uritused/teaduskommunikatsiooni-koolitus-2/
END:VEVENT
END:VCALENDAR