BEGIN:VCALENDAR
VERSION:2.0
PRODID:-//Eesti doktorikool - ECPv6.15.20//NONSGML v1.0//EN
CALSCALE:GREGORIAN
METHOD:PUBLISH
X-WR-CALNAME:Eesti doktorikool
X-ORIGINAL-URL:https://www.doktorikool.ee/en
X-WR-CALDESC:Events for Eesti doktorikool
REFRESH-INTERVAL;VALUE=DURATION:PT1H
X-Robots-Tag:noindex
X-PUBLISHED-TTL:PT1H
BEGIN:VTIMEZONE
TZID:Europe/Tallinn
BEGIN:DAYLIGHT
TZOFFSETFROM:+0200
TZOFFSETTO:+0300
TZNAME:EEST
DTSTART:20240331T010000
END:DAYLIGHT
BEGIN:STANDARD
TZOFFSETFROM:+0300
TZOFFSETTO:+0200
TZNAME:EET
DTSTART:20241027T010000
END:STANDARD
BEGIN:DAYLIGHT
TZOFFSETFROM:+0200
TZOFFSETTO:+0300
TZNAME:EEST
DTSTART:20250330T010000
END:DAYLIGHT
BEGIN:STANDARD
TZOFFSETFROM:+0300
TZOFFSETTO:+0200
TZNAME:EET
DTSTART:20251026T010000
END:STANDARD
BEGIN:DAYLIGHT
TZOFFSETFROM:+0200
TZOFFSETTO:+0300
TZNAME:EEST
DTSTART:20260329T010000
END:DAYLIGHT
BEGIN:STANDARD
TZOFFSETFROM:+0300
TZOFFSETTO:+0200
TZNAME:EET
DTSTART:20261025T010000
END:STANDARD
END:VTIMEZONE
BEGIN:VEVENT
DTSTART;TZID=Europe/Tallinn:20250203T000000
DTEND;TZID=Europe/Tallinn:20250206T235959
DTSTAMP:20260422T044845
CREATED:20250106T070410Z
LAST-MODIFIED:20250106T070411Z
UID:1972-1738540800-1738886399@www.doktorikool.ee
SUMMARY:Eesti doktorikooli ja TÜ genoomika instituudi kirjutamislaager
DESCRIPTION:Pühajärve Spa ja Puhkekeskus \n\n\n\nKirjutamislaager on suunatud loodus- ja põllumajandusteaduste haru doktorantidele ja nende juhendajatele. \n\n\n\nKirjutamislaager pakub võimalust keskenduda oma doktoritöö või teadusartikli kirjutamisele. Osaleda on oodatud ka doktorantide juhendajad. Laagrisse võetakse vastu kuni 25 osalejat. Osalejatele on tagatud toitlustus\, majutus (ühekohalises toas) ning ühine transport Tartust Pühajärvele ja tagasi. \n\n\n\nOsalemiseks täitke registreerimisvorm. Registreerimise tähtaeg on 19. jaanuar 2025. \n\n\n\nOsalejaid valitakse registreerumise järjekorra alusel\, kuni piirarvu täitumiseni. Piirarvu täitmisel eelistatakse doktorante\, kes saavad üritusel osaleda terve kirjutamislaagri vältel. \n\n\n\nRohkem informatsiooni leiab siit. \n\n\n\nKontakt:Kadri Kõiv (kadri.koiv@ut.ee)Valentina Rukins (valentina.rukins@ut.ee) \n\n\n\nEesti doktorikooli loodus- ja põllumajandusteaduse haru
URL:https://www.doktorikool.ee/en/uritused/eesti-doktorikooli-ja-tu-genoomika-instituudi-kirjutamislaager/
END:VEVENT
BEGIN:VEVENT
DTSTART;TZID=Europe/Tallinn:20250206T090000
DTEND;TZID=Europe/Tallinn:20250207T170000
DTSTAMP:20260422T044845
CREATED:20250127T131205Z
LAST-MODIFIED:20250127T131206Z
UID:2098-1738832400-1738947600@www.doktorikool.ee
SUMMARY:Töötuba „Akadeemiliste publikatsioonide disain: edukate ajakirjaartiklite kirjutamine“
DESCRIPTION:Tallinna Tehnikaülikooli Majandusteaduskonnas (Akadeemia tee 3\, ruum SOC-322) \n\n\n\nTöötuba pakub praktilisi tööriistu teadusartiklite kirjutamisprotsessi ja teadusartiklite enda arendamiseks\, parendamiseks. Enamus teadlasi õpib katsetades ja oma vigadest\, käesolev koolitus kiirendab seda õppimisprotsessi. Eesmärk on omandada teadusartiklite eduka kirjutamise oskusi\, hinnates ja täiustades kirjutamisoskusi läbi enda teksti analüüsi (sh selle seoste kirjanduse ning struktuuriga). Arutame publitseeritavate teadusprojektide osade üle\, analüüsime toimivat teadusartikli struktuuri\, õpime tundma sissejuhatuse\, kirjanduse ülevaate ja teadusartikli põhiliste osade edukat kirjutamist. Kogu õppeprotsessi eelduseks ja aluseks on iga osaleja enda teadusartikli mustandtekst. \n\n\n\nKoolitaja Dr Eelko Hizingh jagab oma rikkalikku publitseerimiskogemust innustaval viisil. Ta on teadusartikleid aktiivselt publitseerinud ligi 40 aastat ning on kõrgetasemeline teadlane. Kokku on ta avaldanud üle 500 publikatsiooni\, sh mitmeid teadusartikleid akadeemilistes tippajakirjades. Ta töötab osakoormusega tunnustatud Groningeni Ülikoolis (Hollandis)\, to on olnud ISPIM (Professionaalse Innovatsioonijuhtimise Rahvusvahelise Assotsiatsiooni) teadusvaldkonna asepresident. Täpsem info: “www.hacademic.com” \n\n\n\nTöötuba on suunatud doktorantidele-nooremteaduritele\, kes soovivad kirjutada läbiviidud uuringu põhjal teadusartikli ja kellel on sellest olemas vähemalt mustandversioon. Sellega töötame töötoa käigus. Palume osalejatel koolitusele kaasa võtta oma sülearvuti. \n\n\n\nTöötuba toimub inglise keeles. Vajalik on täiendav iseseisev töö enda akadeemilise publikatsiooni / selle mustandiga\, mida kasutatakse töötoa vältel. Mõlemal koolituspäeval pakume 2 kerget kohvi-teepausi (kell 10.00 ja kella 15 paiku). Lõuna (kella 12 paiku) organiseerib iga osaleja ise oma kuludega (SOC hoones ja mujal kampuses leidub mitmeid söögikohti). \n\n\n\nRegistreerimine toimub SIIN. Registreerimistähtaeg on 30.01.2025. \n\n\n\nMaksimaalne osalejate arv on 14. Ülejäänud registreerunud jäävad ootenimekirja ja neid informeeritakse niipea\, kui koolituskohti vabaneb. \n\n\n\nLisainfo: \n\n\n\nSisulised küsimused: Professor Mari-Klara Stein mari-klara.stein@taltech.eeKorralduslikud küsimused: Koidu Saia koidu.saia@taltech.ee \n\n\n\nEesti doktorikooli Sotsiaalteaduste haru\, Tallinna Tehnikaülikool
URL:https://www.doktorikool.ee/en/uritused/tootuba-akadeemiliste-publikatsioonide-disain-edukate-ajakirjaartiklite-kirjutamine/
END:VEVENT
BEGIN:VEVENT
DTSTART;TZID=Europe/Tallinn:20250206T130000
DTEND;TZID=Europe/Tallinn:20250207T140000
DTSTAMP:20260422T044845
CREATED:20250110T123156Z
LAST-MODIFIED:20250110T123157Z
UID:2020-1738846800-1738936800@www.doktorikool.ee
SUMMARY:Projektijuhtimise koolitus humanitaarteaduste doktorantidele ja alustavatele teadlastele
DESCRIPTION:06.02.2025 Ülikooli 18-13907.02.2025 Jakobi 2-438 \n\n\n\nMEDAL-i (Methodological Excellence in Data-Driven Approaches to Linguistics) konsortsium koos Eesti doktorikooli humanitaarteaduste ja kunstide haruga korraldab humanitaarteaduste doktorantidele ja alustavatele teadlastele suunatud projektijuhtimise koolituse. Koolitajad on Gea Kammer ja Taavi Tamberg Tartu Ülikooli Pärnu kolledžist. \n\n\n\nKoolitusel saab teadmisi projektijuhtimise põhialustest – vastutuse ja rollide jaotamine\, projekti juhtimine\, meeskonnatöö\, konfliktide lahendamine ning töökultuur ja väärtused. Erilist rõhku pannakse ka mitmekesiste ja hajusmeeskondade koostööle ning töövahenditele\, mis teevad projektijuhtimise sujuvamaks. \n\n\n\nÜrituse töökeel on eesti keel ja üritus toimub Tartus. \n\n\n\n\nAjakava\nNeljapäev\, 6. veebruar \n\n\n\nToimumiskoht: Ülikooli 18-139 \n\n\n\n13:00 – 13:15    Kogunemine \n\n\n\n13:15 – 15:00    Põhialused: protsessid\, etapid\, meetodid \n\n\n\n15:00 – 15:15    Kohvipaus \n\n\n\n15:15 – 16:45    Vastutus\, rollid\, tulemuslikkus \n\n\n\n17:00                   Lõpetamine \n\n\n\nReede\, 7. veebruar \n\n\n\nToimumiskoht: Jakobi 2-438 \n\n\n\n9:00 – 9:15         Kogunemine \n\n\n\n9:15-11:00          Hajusmeeskonnad\, koostöö ja töövahendid  \n\n\n\n11:00-11:15        Kohvipaus \n\n\n\n11:15-13:45        Töökultuur\, väärtused\, konfliktide lahendamine \n\n\n\n14:00                   Lõpetamine \n\n\n\n\n\n \n\n\n\nRegistreeru koolitusele siin! \n\n\n\nKoolitusel saab osaleda kuni 40 osalejat vastavalt registreerimise järjekorrale. \n\n\n\nKontaktisik: Taavi Vanaveski\, taavi.vanaveski@ut.ee \n\n\n\nEesti doktorikooli humanitaarteaduste ja kunstide haru 
URL:https://www.doktorikool.ee/en/uritused/projektijuhtimise-koolitus-humanitaarteaduste-doktorantidele-ja-alustavatele-teadlastele/
END:VEVENT
BEGIN:VEVENT
DTSTART;TZID=Europe/Tallinn:20250207T100000
DTEND;TZID=Europe/Tallinn:20250207T113000
DTSTAMP:20260422T044845
CREATED:20250113T085050Z
LAST-MODIFIED:20250113T095248Z
UID:2025-1738922400-1738927800@www.doktorikool.ee
SUMMARY:Juhendajate kohvihommik
DESCRIPTION:Loovuurimusest ja selle juhendamisest \n\n\n\n7. veebruar 10-11.30Veebis (Teams) \n\n\n\nThis event is held in Estonian.  \n\n\n\nJuhendajate kohvihommikul tutvustavad loovuurimuslike doktoritööde ülesehitust ja eripärasid oma kogemustele tuginedes EMTA muusikaajaloo professor ja doktoriõppe keskuse juhataja Kristel Pappel ning EKA kunsti ja disaini eriala doktoriõppekava juht\, teadur Jaana Päeva. \n\n\n\nEesti Muusika- ja Teatriakadeemias ning Eesti Kunstiakadeemias on üle veerandsaja aasta tegeldud loovuurimusega (ingl k artistic research\, practice-based research\, practice-led research jne)\, mõnda aega tagasi lõpetasid esimesed doktorikraadiga loovuurijad ka Tallinna Ülikooli Balti filmi\, meedia ja kunstide instituudi. \n\n\n\nVeerandsajandi jooksul on arusaam loovuurimusest muutunud ja täienenud\, järjest rohkem Euroopa kunstiõppeasutusi on välja töötanud loovuurimuslikud doktoriõppekavad. Neid ühendavad teatud üldpõhimõtted\, mis aga võimaldavad eri vorme ja lähenemisi. Sellest tekkis loovuurimust viljevates Eesti ülikoolides vajadus ühtlustada loovuurimuse mõistet  ning 2021. aastal valmis EKA\, EMTA ja TLÜ BFM-i ühistöös Eesti loovuurimuse raamlepe. Vt https://eamt.ee/wp-content/uploads/2021/06/Eesti-loovuurimuse-raamlepe-1.pdf. \n\n\n\nKa loovuurimuslike doktoritööde juhendamise tavad võivad ülikooliti mõningal määral erineda\, kuid peamised nõuded ja tegevused on sarnased. \n\n\n\nRegistreerimine SIIN. Palume juhendajate kohvihommikule registreeruda hiljemalt 05. veebruariks 2025. \n\n\n\nRegistreerunutele saadetakse Teams’i link meilile. \n\n\n\nKontakt: Kristel Pappel\, kristel.pappel@eamt.ee \n\n\n\nEesti doktorikooli ühisüritus
URL:https://www.doktorikool.ee/en/uritused/juhendajate-kohvihommik-3/
END:VEVENT
BEGIN:VEVENT
DTSTART;TZID=Europe/Tallinn:20250210T090000
DTEND;TZID=Europe/Tallinn:20250210T160000
DTSTAMP:20260422T044845
CREATED:20250123T090950Z
LAST-MODIFIED:20250123T091008Z
UID:2079-1739178000-1739203200@www.doktorikool.ee
SUMMARY:Koolitus „Kuidas anda teleintervjuud?“
DESCRIPTION:This workshop is held in Estonian.10.02.2025Tartu (Jakobi 2-114) \n\n\n\nOma teadustöö tutvustamisel tuleb aegajalt ikka ette olukordi\, mil tuleb seista kaamera ees. Mida ootab kõnelejalt ajakirjanik ja kuidas intervjuuks valmistuda? Kuidas saavutada soovitud mõju ja vaataja jaoks köitev lõpptulemus? Oskus kaamera ees hästi rääkida tuleb kasuks meediakanalitele kommentaare andes\, intervjuusaadetes rääkides või teadust populariseerivates videotes esinedes. Lisaks sellele aga teeb see lihtsamaks ka näiteks oma kursustele videoloengute ette valmistamise või konverentsidel ja nende paneeldiskussioonides esinemise. \n\n\n\nEesti doktorikooli humanitaarteaduste ja kunstide haru ootab juhendajaid ja doktorante 10. veebruaril 2025 kell 9-16 põhjalikule koolituspäevale „Kuidas anda teleintervjuud?“ (Jakobi 2-114\, Tartu)\, kus õpime läbi praktiliste harjutuste intervjuudeks ette valmistuma ja hästi kaamera ees esinema. Koolituse viib läbi teleajakirjanduse õppejõud Brit Laak\, kes igapäevaselt õpetab kaamera ees intervjueerima tulevasi ajakirjanikke. Koolitus eeldab osalemist kogu päeva jooksul. Koolitusel toimub õppe-eesmärgil harjutuste salvestamine\, ent salvestused kustutatakse pärast koolituse lõppu. \n\n\n\nGruppi mahub kuni 10 inimest\, võimalust pakutakse registreerumise järjekorras. \n\n\n\nRegistreeri end koolitusele SIIN. \n\n\n\nKontakt: Eva-Kaia Vabamäe\, eva-kaia.vabamae@ut.ee \n\n\n\nEesti doktorikooli humanitaarteaduste ja kunstide haru.
URL:https://www.doktorikool.ee/en/uritused/koolitus-kuidas-anda-teleintervjuud-2/
END:VEVENT
BEGIN:VEVENT
DTSTART;TZID=Europe/Tallinn:20250210T101500
DTEND;TZID=Europe/Tallinn:20250210T114500
DTSTAMP:20260422T044845
CREATED:20250129T115855Z
LAST-MODIFIED:20250129T122101Z
UID:2104-1739182500-1739187900@www.doktorikool.ee
SUMMARY:Dr.Jozef Johannes Maria van der Steen loeng
DESCRIPTION:Kreutzwaldi 5-D239\, Tartu\, EMÜ \n\n\n\nDr. Jozef Johannes Maria van der Steen peab loengu biomonitooringust\, keskendudes mesilasperede abil tehtavale biomonitooringule. Loeng on avalik ja suunata kõikide harude doktorantidele. \n\n\n\nDr. Jozef Johannes Maria van der Steen \n\n\n\nDr. Jozef Johannes Maria van der SteenLaadi alla\n\n\n\nKontakt: Kristel Kirsimäe\, kristel.kirsimae@emu.ee \n\n\n\nEesti doktorikooli loodusteaduste ja põllumajandusteaduste haru.
URL:https://www.doktorikool.ee/en/uritused/dr-jozef-johannes-maria-van-der-steen-loeng/
END:VEVENT
BEGIN:VEVENT
DTSTART;TZID=Europe/Tallinn:20250213T093000
DTEND;TZID=Europe/Tallinn:20250213T120000
DTSTAMP:20260422T044845
CREATED:20241202T084425Z
LAST-MODIFIED:20241202T084425Z
UID:1846-1739439000-1739448000@www.doktorikool.ee
SUMMARY:Grupitreening doktorantidele teadustöös soorituse ja heaolu arendamiseks
DESCRIPTION:Treeningsessioonid toimuvad veebis Zoomi kaudu ingliskeelsena. \n\n\n\nEesti doktorikooli Sotsiaalteaduste haru korraldab doktorantidele grupitreeningud soorituse ja heaolu arendamiseks teadustööd. \n\n\n\nProtsess sisaldab 3 live grupitreeningut\, 1-2 rühmatreeningut ja lühikesi isiklikke katseid sessioonide vahel. Soovitame tungivalt osaleda kõigis 3 sessioonis. \n\n\n\nLive grupitreeningud (veebis\, esialgsed kuupäevad): \n\n\n\n\n23. jaanuar\, 9:30 – 12:00\n\n\n\n13. veebruar\, 9:30 – 12:00\n\n\n\n27. veebruar\, 9:30 – 12:00\n\n\n\n\nOsalejate maksimaalne arv: 12Osalejate minimaalne arv: 6 \n\n\n\nGrupitreeningu protsess keskendub teie sooritusele ja heaolule doktorantidena ning tugevdab teie vastupidavust teadustöös. See aitab välja töötada tõhusaid toimetulekustrateegiaid intensiivsete töökoormuste\, ebakindluse\, võimusuhete ja isoleerituse tunnetega toimetulekuks. Parandate oma võimet tulla toime tagasilöökidega ja suurendada oma taastumisvõimet raskustest. Grupitreeningu tulemusena olete paremini ette valmistatud oma töö keerukate perioodide käsitlemiseks. \n\n\n\nMis on grupitreening? \n\n\n\nGrupitreening on koostööpõhine protsess\, kus coach töötab väikese doktorantide rühmaga\, et aidata neil seada ja saavutada eesmärke\, uurida nende väljakutseid ja arendada uusi oskusi. Sessioonide vahel rakendavad osalejad õpikogemusi\, kohtuvad oma rühmaga ja peegeldavad oma edusamme. \n\n\n\nRohkem informatsiooni link: https://mariannnagatsu1.wixsite.com/phds \n\n\n\nRegistreeri siin\, registreerimise tähtaeg on 13. jaanuar. \n\n\n\nKontakt küsimuste korral: Mariann Nagatsu\, mariann.nagatsu@gmail.com \n\n\n\nCoaches (treenerid): \n\n\n\nMariann Nagatsu\, psühholoogia magistrikraad\, sertifitseeritud lahenduspõhise coaching’u treener\, EMCC Senior Practitioner akrediteering. Treener juhtidele\, meeskondadele\, doktorantidele ja eraettevõtjatele. \n\n\n\nDr. Manuela Tischler\, sertifitseeritud lahenduspõhise organisatsioonilise coaching’u treener\, EMCC Senior Practitioner akrediteering. Treener doktorantidele\, postdoktorantidele ja professoritele Müncheni Rakendusteaduste Ülikoolis. \n\n\n\nAdministratiivküsimuste korral pöörduge: Tiina Hagen\, tiina.hagen@taltech.ee \n\n\n\nEesti doktorikooli Sotsiaalteaduste haru
URL:https://www.doktorikool.ee/en/uritused/grupitreening-doktorantidele-teadustoos-soorituse-ja-heaolu-arendamiseks-2/
END:VEVENT
BEGIN:VEVENT
DTSTART;TZID=Europe/Tallinn:20250218T100000
DTEND;TZID=Europe/Tallinn:20250218T113000
DTSTAMP:20260422T044845
CREATED:20250123T122426Z
LAST-MODIFIED:20250123T130358Z
UID:2088-1739872800-1739878200@www.doktorikool.ee
SUMMARY:Esitle oma teadust! / Esitle oma uurimistööd! – Disainipõhimõtted esitluste loomisel
DESCRIPTION:Veebis (Teams) \n\n\n\nKoolitus on suunatud kõikide valdkondade doktorantidele ja toimub inglise keeles. \n\n\n\nKuidas tõsta oma esitluste kujundamise oskusi? Isegi tehisintellekti kasutades\, on kasulik teada\, miks mõned slaidid on segased\, samas kui teised on atraktiivsed ja kergesti jälgitavad. Disainiprintsiibid – värvid\, kontrastid\, kirjatüübid\, paigutus\, valge ruum\, toon\, meediasisu – tehke neist oma liitlased! Kursus on teoreetiline ülevaade koos näidetega\, mida esitatakse Canva.com-i abil. Osalemiseks ei ole vaja omada mingit kontot või ettevalmistusi. \n\n\n\nKoolitust viib läbi Maarja Pajusalu. Maarja on IT magistrikraadiga digikonsultant ja koolitaja. Ta on töötanud analüütiku ja projektijuhina tarkvaraarendusega tegelevates ettevõtetes ning lektorina Tartu Ülikooli Pärnu kolledžis\, kus tunnustati ka tudengite poolt tiitliga 2021. aasta külalisõppejõud. Lisaks on Maarja tegelenud maalimise ja disainiga üle 20 aasta.  Koolitatavate tagasiside järgi on Maarja professionaalne\, rahulik\,  põhjalik ja õppijatele individuaalse lähenemisega koolitaja. Alates 2020 on Maarja terviseinformaatika doktorant ja nooremteadur TÜ Arvutiteaduse instituudis ning õppejõud aines “Andmete visualiseerimine ja esitlus”. \n\n\n\nRegistreerimine toimub SIIN! Registreerimise tähtaeg on 11.02.2025 (k.a). \n\n\n\nKontakt: Johanna Poll\, johanna.poll@ut.ee \n\n\n\nEesti doktorikooli ühisüritus.
URL:https://www.doktorikool.ee/en/uritused/esitle-oma-teadust-esitle-oma-uurimistood-disainipohimotted-esitluste-loomisel/
END:VEVENT
BEGIN:VEVENT
DTSTART;TZID=Europe/Tallinn:20250221T131500
DTEND;TZID=Europe/Tallinn:20250221T144500
DTSTAMP:20260422T044845
CREATED:20250212T125014Z
LAST-MODIFIED:20250212T125014Z
UID:2127-1740143700-1740149100@www.doktorikool.ee
SUMMARY:Dr. Björn Andersson loeng
DESCRIPTION:Kreutzwaldi 5-D239\, Tartu\, EMÜ \n\n\n\nLoeng teemal „Phytophthora infestans – a challenge for science and appliance“ ja on avatud kõikide valdkondade doktorantidele ja toimub inglise keeles. \n\n\n\nLoengut viib läbi Dr. Björn Andersson. \n\n\n\nBjörn AnderssonLaadi alla\n\n\n\nKontakt: Kristel Kirismäe\, kristel.kirsimae@emu.ee \n\n\n\nEesti doktorikooli loodusteadused ja põllumajandusteadused haru.
URL:https://www.doktorikool.ee/en/uritused/dr-bjorn-andersson-loeng/
END:VEVENT
BEGIN:VEVENT
DTSTART;TZID=Europe/Tallinn:20250226T000000
DTEND;TZID=Europe/Tallinn:20250228T235959
DTSTAMP:20260422T044845
CREATED:20250128T073723Z
LAST-MODIFIED:20250128T073723Z
UID:2101-1740528000-1740787199@www.doktorikool.ee
SUMMARY:Kirjutamislaager
DESCRIPTION:Pühajärve SPA ja Puhkekeskuses \n\n\n\nEesti doktorikooli sotsiaalteaduste haru kutsub doktorante kirjutamislaagrisse. Kirjutamislaagri eesmärk on pakkuda doktorantidele rahulikku ja keskendumist võimaldavat keskkonda\, et keskenduda oma doktoritöö või teadusartikli kirjutamisele\, saada oma tööle tagasisidet ning suhelda teiste doktorantidega. \n\n\n\nKirjutamislaagrisse võetakse vastu maksimaalselt 20 doktoranti\, eelisjärjekorras võetakse vastu sotsiaalteaduste valdkonna doktorandid\, doktorandid\, kes pole sel aastal veel kirjutamislaagris osalenud\, ja doktorandid\, kes saavad üritusel osaleda terve kirjutamislaagri vältel. \n\n\n\nOsalejatele on doktorikooli poolt majutus kaheks ööks ühekohalistes tubades\, toitlustus ja vajadusel transport Tartust või Tallinnast Pühajärvele ja tagasi. Transport toimub tellitud bussiga\, ühistranspordipileteid või autosõitu isikliku autoga ei kompenseerita. \n\n\n\nOsalemiseks täida sooviavaldus\, mis sisaldab ka lühikest motivatsioonikirja (umbes 200 sõna)\, miks soovid kirjutamislaagris osaleda ning kuidas aitab see kaasa Sinu doktoritöö valmimisele (eesmärgid ja tööplaan laagri ajaks). Kandideerida saab 7. veebruari keskööni. \n\n\n\nLisainfo: Helena Saare\, helena.saare@ut.ee \n\n\n\nKirjutamislaagrit korraldab Eesti doktorikooli sotsiaalteaduste harupartner Tartu Ülikool.
URL:https://www.doktorikool.ee/en/uritused/kirjutamislaager-5/
END:VEVENT
BEGIN:VEVENT
DTSTART;TZID=Europe/Tallinn:20250227T093000
DTEND;TZID=Europe/Tallinn:20250227T120000
DTSTAMP:20260422T044845
CREATED:20241202T084419Z
LAST-MODIFIED:20241202T084419Z
UID:1848-1740648600-1740657600@www.doktorikool.ee
SUMMARY:Grupitreening doktorantidele teadustöös soorituse ja heaolu arendamiseks
DESCRIPTION:Treeningsessioonid toimuvad veebis Zoomi kaudu ingliskeelsena. \n\n\n\nEesti doktorikooli Sotsiaalteaduste haru korraldab doktorantidele grupitreeningud soorituse ja heaolu arendamiseks teadustööd. \n\n\n\nProtsess sisaldab 3 live grupitreeningut\, 1-2 rühmatreeningut ja lühikesi isiklikke katseid sessioonide vahel. Soovitame tungivalt osaleda kõigis 3 sessioonis. \n\n\n\nLive grupitreeningud (veebis\, esialgsed kuupäevad): \n\n\n\n\n23. jaanuar\, 9:30 – 12:00\n\n\n\n13. veebruar\, 9:30 – 12:00\n\n\n\n27. veebruar\, 9:30 – 12:00\n\n\n\n\nOsalejate maksimaalne arv: 12Osalejate minimaalne arv: 6 \n\n\n\nGrupitreeningu protsess keskendub teie sooritusele ja heaolule doktorantidena ning tugevdab teie vastupidavust teadustöös. See aitab välja töötada tõhusaid toimetulekustrateegiaid intensiivsete töökoormuste\, ebakindluse\, võimusuhete ja isoleerituse tunnetega toimetulekuks. Parandate oma võimet tulla toime tagasilöökidega ja suurendada oma taastumisvõimet raskustest. Grupitreeningu tulemusena olete paremini ette valmistatud oma töö keerukate perioodide käsitlemiseks. \n\n\n\nMis on grupitreening? \n\n\n\nGrupitreening on koostööpõhine protsess\, kus coach töötab väikese doktorantide rühmaga\, et aidata neil seada ja saavutada eesmärke\, uurida nende väljakutseid ja arendada uusi oskusi. Sessioonide vahel rakendavad osalejad õpikogemusi\, kohtuvad oma rühmaga ja peegeldavad oma edusamme. \n\n\n\nRohkem informatsiooni link: https://mariannnagatsu1.wixsite.com/phds \n\n\n\nRegistreeri siin\, registreerimise tähtaeg on 13. jaanuar. \n\n\n\nKontakt küsimuste korral: Mariann Nagatsu\, mariann.nagatsu@gmail.com \n\n\n\nCoaches (treenerid): \n\n\n\nMariann Nagatsu\, psühholoogia magistrikraad\, sertifitseeritud lahenduspõhise coaching’u treener\, EMCC Senior Practitioner akrediteering. Treener juhtidele\, meeskondadele\, doktorantidele ja eraettevõtjatele. \n\n\n\nDr. Manuela Tischler\, sertifitseeritud lahenduspõhise organisatsioonilise coaching’u treener\, EMCC Senior Practitioner akrediteering. Treener doktorantidele\, postdoktorantidele ja professoritele Müncheni Rakendusteaduste Ülikoolis. \n\n\n\nAdministratiivküsimuste korral pöörduge: Tiina Hagen\, tiina.hagen@taltech.ee \n\n\n\nEesti doktorikooli Sotsiaalteaduste haru
URL:https://www.doktorikool.ee/en/uritused/grupitreening-doktorantidele-teadustoos-soorituse-ja-heaolu-arendamiseks/
END:VEVENT
END:VCALENDAR