BEGIN:VCALENDAR
VERSION:2.0
PRODID:-//Eesti doktorikool - ECPv6.15.20//NONSGML v1.0//EN
CALSCALE:GREGORIAN
METHOD:PUBLISH
X-ORIGINAL-URL:https://www.doktorikool.ee/en
X-WR-CALDESC:Events for Eesti doktorikool
REFRESH-INTERVAL;VALUE=DURATION:PT1H
X-Robots-Tag:noindex
X-PUBLISHED-TTL:PT1H
BEGIN:VTIMEZONE
TZID:Europe/Tallinn
BEGIN:DAYLIGHT
TZOFFSETFROM:+0200
TZOFFSETTO:+0300
TZNAME:EEST
DTSTART:20250330T010000
END:DAYLIGHT
BEGIN:STANDARD
TZOFFSETFROM:+0300
TZOFFSETTO:+0200
TZNAME:EET
DTSTART:20251026T010000
END:STANDARD
BEGIN:DAYLIGHT
TZOFFSETFROM:+0200
TZOFFSETTO:+0300
TZNAME:EEST
DTSTART:20260329T010000
END:DAYLIGHT
BEGIN:STANDARD
TZOFFSETFROM:+0300
TZOFFSETTO:+0200
TZNAME:EET
DTSTART:20261025T010000
END:STANDARD
BEGIN:DAYLIGHT
TZOFFSETFROM:+0200
TZOFFSETTO:+0300
TZNAME:EEST
DTSTART:20270328T010000
END:DAYLIGHT
BEGIN:STANDARD
TZOFFSETFROM:+0300
TZOFFSETTO:+0200
TZNAME:EET
DTSTART:20271031T010000
END:STANDARD
END:VTIMEZONE
BEGIN:VEVENT
DTSTART;TZID=Europe/Tallinn:20260601T100000
DTEND;TZID=Europe/Tallinn:20260605T140000
DTSTAMP:20260420T142746
CREATED:20260209T143901Z
LAST-MODIFIED:20260219T082600Z
UID:4524-1780308000-1780668000@www.doktorikool.ee
SUMMARY:Kursus "Statistilised meetodid epidemioloogias R tarkvara abil"
DESCRIPTION:📍 Tartu ülikool\, Delta õppehoone\, Narva mnt 18\, Tartu \n\n\n\nKursus toimub inglise keeles. \n\n\n\nKursusele on oodatud doktorandid ja teised teadustöötajad. Kursus on relevantne kõigile\, kes vajavad oma töös statistilist andmeanalüüsi ja soovivad selleks kasutada R tarkvara\, eelkõige biomeditsiini jt eluteaduste kontekstis. \n\n\n\nKursuse eesmärk on anda osalejatele baasteadmised ja oskused kaasaegseks statistiliseks andmeanalüüsiks epidemioloogia valdkonnas. \n\n\n\nTeemad: R keel\, keskkond ja andmestruktuurid\, koondstatistikute tabelid\, juhtkontrolluuringud ja logistiline regressioon\, jälgimisuuringud (kohortuuringud) ja Poissoni regressioon\, põhjuslike seoste analüüs\,  mudelite parametriseerimine\, tulemuste graafiline esitamine\, ajaskaalad\, standardimine (SMR)\, pesastatud ja sobitatud juhtkontrolluuringud\, elulemusandmete analüüs\, mitme staadiumi mudelid. \n\n\n\nLoe rohkem kursuse kohta siin. \n\n\n\nRegistreeri SIIN. Registreerimise tähtaeg on 1. aprill 2026. \n\n\n\nVäljastpoolt Tartut tulijatele pakutakse ka majutust. Kui osutute valituks\, siis andke majutusvajadusest teada meili teel anastassia.kolde@ut.ee. \n\n\n\nOsalejatelt eeldatakse baasteadmisi ja kogemusi statistilisest andmeanalüüsist ja uuringute kavandamisest. Eelistatud on loodusteaduste ja biomeditsiiniliste erialade doktorandid. Vastuvõtuotsuse juures arvestatakse nii vajalike eelteadmiste olemasolu kui kursuse vajalikkust osaleja teadustöös. \n\n\n\nKüsimuste korral palume pöörduda Anastassia Kolde poole\, anastassia.kolde@ut.ee. \n\n\n\nEesti doktorikooli matemaatika\, arvutiteaduse ja informaatika haru.
URL:https://www.doktorikool.ee/en/uritused/kursus-statistilised-meetodid-epidemioloogias-r-tarkvara-abil/
CATEGORIES:Teadustöö vahendite haldamine / Managing Research tools
END:VEVENT
BEGIN:VEVENT
DTSTART;TZID=Europe/Tallinn:20260601T110000
DTEND;TZID=Europe/Tallinn:20260601T120000
DTSTAMP:20260420T142746
CREATED:20260209T081225Z
LAST-MODIFIED:20260209T081226Z
UID:4479-1780311600-1780315200@www.doktorikool.ee
SUMMARY:Võrgustu. Reflekteeri. Tee ära.
DESCRIPTION:📍 Veebis (Zoom). Zoomi link saadetakse pärast registreerimist. \n\n\n\nKogukond doktorantuuri eesmärkide toetamiseks – igakuine kohtumine. \n\n\n\nKohtumine toimub iga kuu esimesel esmaspäeval kell 11.00–12.00\, alates 2. märtsist kuni detsembrini\, kokku 10 kohtumist. Kohtumistele on oodatud kõikide valdkondade doktorandid. \n\n\n\nDoktorantuuri elu võib olla isoleeriv ja intensiivne. Igapäevane laveerimine erinevate kohustuste vahel võib kergesti varjutada fookuse ja eesmärgid\, vahel aga on vaja edasi liikumiseks lihtsalt emotsionaalset tuge. Sageli piisab juba sellest\, et saad oma mõtteid kõva häälega jagada kellegagi\, kes sind mõistab ja aitab uue vaatenurga ning küsimuste kaudu edasi liikuda. \n\n\n\nIgakuine refleksioonigrupp pakub doktorantidele toetavat ja usalduslikku keskkonda\, kus hoida fookust\, jagada nippe\, leida motivatsiooni ja seada järgmisi samme. Lisaks loob grupp kogukonnatunnet\, ühendades doktorante erinevatest ülikoolidest. Programm toetab doktorante nende akadeemilisel teekonnal selguse\, järjepidevuse ja koostegutsemise kaudu. \n\n\n\nOsalejad võivad liituda regulaarselt või vastavalt vajadusele. Kohtumised on inglise keeles. \n\n\n\nLäbiviijad\nProtsessi juhivad akadeemilise maailmaga tuttavad sertifitseeritud coachid. \n\n\n\nMariann Nagatsu\, MSc psühholoogias\, sertifitseeritud lahenduskeskne organisatsioonicoach\, EMCC Senior Practitioner. Coach juhtidele ja teadlastele\, mh juhendajatele\, doktorantidele ja uurimisrühmadele. Coaching for Scientists (https://www.coachingforscientists.com) kaasasutaja. \n\n\n\nDr Manuela Tischler\, sertifitseeritud lahenduskeskne organisatsioonicoach\, EMCC Senior Practitioner. Noorteadlaste uurimisrühma juht\, Munich University of Applied Sciences. Coach teadlastele\, mh doktorantidele\, järeldoktoritele\, juhendajatele ja professoritele. Coaching for Scientists (https://www.coachingforscientists.com) kaasasutaja. \n\n\n\n\nRegistreerimine SIIN. Registreerimise tähtaeg on 20. veebruar 2026. \n\n\n\nProgrammiga võib liituda ka jooksvalt aasta jooksul. Kirjuta: mariann@coachingforscientists.com. \n\n\n\nEesti doktorikooli sotsiaalteaduste haru.
URL:https://www.doktorikool.ee/en/uritused/vorgustu-reflekteeri-tee-ara-4/
CATEGORIES:Enesejuhtimine / Self Management
END:VEVENT
BEGIN:VEVENT
DTSTART;TZID=Europe/Tallinn:20260607T000000
DTEND;TZID=Europe/Tallinn:20260610T235959
DTSTAMP:20260420T142746
CREATED:20260116T231032Z
LAST-MODIFIED:20260116T231033Z
UID:4284-1780790400-1781135999@www.doktorikool.ee
SUMMARY:Mobile Tartu doktorikursus „Liikumisandmete analüüs sotsiaal- ja keskkonnauuringutes“
DESCRIPTION:📍 Tartus \n\n\n\nÜritus toimub inglise keeles. \n\n\n\nMaht: 2 EAP \n\n\n\nKursus on integreeritud Mobile Tartu konverentsiga ning koosneb doktorantidele suunatud töötubadest ning Mobile Tartu konverentsi programmist. Kõik kursusel osalejad esinevad Mobile Tartu konverentsil kas suulise või posterettekandega. \n\n\n\nKursus keskendub liikumisandmete analüüsile sotsiaal- ja keskkonnauuringutes\, tuues kokku ruumianalüüsi\, andmeteaduse ja transpordiuuringute kaasaegsed meetodid. Kursuse raames vaadeldakse\, kuidas kujuneb inimeste liikumine ruumis ning kuidas seda mõjutavad ehitatud keskkond ja transpordivõrgud aga ka kuidas mõjutab uurimistulemusi andmete kogumise ja töötlemise viisid. Erinevate töötubade kaudu käsitletakse nii jalakäijate liikumise modelleerimist linnas\, ühistranspordi ligipääsetavuse ja tegeliku kasutuse vahekorda\, mobiilpositsioneerimise andmeid kui ka lähte-sihtkoha maatriksite teisendamist marsruudivõrkudeks ja liiklusmahtudeks. Neid teemasid ühendab läbivalt küsimus\, kuidas ruumilised struktuurid\, andmed ja meetodid koos kujundavad meie arusaama keskkonnast\, milles me liigume. Kursuse lõpuks on osalejatel nii praktilised oskused liikumisandmete töötlemiseks ja ruumianalüüsiks kui ka parem arusaam sellest\, kuidas neid meetodeid vastutustundlikult ja kriitiliselt rakendada teadustöös ja planeerimispraktikas. \n\n\n\nÕpiväljundid\nKursuse läbinud üliõpilane \n\n\n\n\ntunneb erinevaid mobiilsete suurandmete allikaid;\n\n\n\nkirjeldab ja selgitab mobiilsete suurandmete rolli liikuvusuuringutes (sh teaduses erasektoris ja linnaplaneerimises);\n\n\n\nsuudab kasutada ja rakendada mõnda mobiilsete suurandmete analüüsimeetodit;\n\n\n\non saanud rühmas töötamise kogemuse ning arendanud enda ajaplaneerimise ja koostöö oskusi;\n\n\n\non arendanud oma teadustöö tulemuste avaliku esituse oskuseid.\n\n\n\n\n\nTäpsem info kursuse kohta leiab siit. \n\n\n\nTöötubade põhijuhendajad:\n\nProf Andres Sevtsuk\, MIT\n\n\n\nProf Robin Lovelace\, University of Leeds\,\n\n\n\nProf Francisco Rowe\, University of Liverpool\n\n\n\nKaasprof Anto Aasa\, Tartu Ülikool\n\n\n\n\n\nMobile Tartu konverentsi peaesinejad:\n\nProf Kay Axhausen\n\n\n\nProf Mimi Sheller\n\n\n\nKaasprof Tiina Rinne\n\n\n\n\n\nAbstraktide esitamise tähtaeg on 31. jaanuar 2026\, lisainfot leiab kodulehelt: https://mobiletartu.ut.ee/call-for-papers/   \n\n\n\nNB! Abstrakti esitamine on kohustuslik tasuta osalemiseks Eesti doktorikooli raames. \n\n\n\nRegistreerimise tähtaeg on kursusel osalejatele 31. märts 2026. Lisainfot leiab kodulehelt\, Eesti doktorikooli liikmetele on osalus tasuta\, aga kohtade arv on piiratud: https://mobiletartu.ut.ee/registration-and-payment/ \n\n\n\nKursuse programmijuht: Anto Aasa\, anto.aasa@ut.eeMobile Tartu korraldusmeeskond: mobiletartu@ut.ee \n\n\n\nEesti doktorikooli loodusteaduste ja põllumajandusteaduste haru.
URL:https://www.doktorikool.ee/en/uritused/mobile-tartu-doktorikursus-liikumisandmete-analuus-sotsiaal-ja-keskkonnauuringutes/
CATEGORIES:Teadustöö tegemine / Doing research
END:VEVENT
BEGIN:VEVENT
DTSTART;TZID=Europe/Tallinn:20260608T000000
DTEND;TZID=Europe/Tallinn:20260610T235959
DTSTAMP:20260420T142746
CREATED:20260318T093634Z
LAST-MODIFIED:20260406T120017Z
UID:4682-1780876800-1781135999@www.doktorikool.ee
SUMMARY:Linna-maa suhete metodoloogiline käsitlus: analüüsiüksuste ümbermõtestamine
DESCRIPTION:📍 Tartu \n\n\n\nÜritus toimub inglise keeles. \n\n\n\nSee doktoriõppe seminar – mida korraldab esti doktorikooli humanitaarteaduste ja kunstide haru – keskendub metodoloogilistele ja kategoriseerimisprobleemidele\, millega seisavad silmitsi paljud doktorandid (eriti\, kuid mitte ainult\, humanitaarteadustes). Seminar käsitleb interdistsiplinaarsest vaatenurgast keelemaastiku uurimise (linguistic landscaping) ja linna tõlkimise meetodeid\, tuginedes tõlketeaduse\, sotsiolingvistika ja kultuuridevahelise kommunikatsiooni valdkondlikule pädevusele.  \n\n\n\nOsalejaid julgustatakse aktiivselt kaasa töötama ning kriitiliselt reflekteerima ruumiliste\, keeleliste ja kultuuriliste kategooriate üle\, näiteks praktilise keelemaastiku uurimise harjutuse kaudu Tartus. Seminarile on oodatud doktoritööd\, mis ei käsitle üksnes linnu või maapiirkondi\, vaid ka uurimused\, kus ruumilisi kategooriaid kasutatakse metafoorselt või analüütiliselt (nt keskuse ja perifeeria dünaamika meedias\, diskursuses või kultuuritootmises).  \n\n\n\nLäbiviijad\n\nFederico Italiano (University La Sapienza\, Rome)\n\n\n\nDiana Roig Sanz (Open University of Catalonia\, Barcelona)  \n\n\n\nLuc van Doorslaer (Translation Studies\, UT) \n\n\n\nIrmak Mertens (Translation Studies and Semiotics\, UT)  \n\n\n\nTriin Todesk (Estonian and General Linguistics\, UT)\n\n\n\nAnastassia Zabrodskaja (Baltic Film\, Media and Arts School\, TLU) \n\n\n\n\n\nRegistreeru SIIN. Registreerimise tähtaeg on 25. aprill 2026.Osalejate piirarv on 15. Oluline valikukriteerium on registreerimisvormis motivatsiooniküsimuse vastus (seminarile kandideerimise põhjus ning loodetav kasu sellest uurimisseminarist). \n\n\n\nKüsimuste korral palume pöörduda Luc van Doorslaer’i (luc.vandoorslaer@ut.ee) või Anne-Mari Abroi (anne-mari.abroi@ut.ee) poole. \n\n\n\nEesti doktorikooli humanitaarteaduste ja kunstide haru.
URL:https://www.doktorikool.ee/en/uritused/linna-maa-suhete-metodoloogiline-kasitlus-analuusiuksuste-umbermotestamine/
CATEGORIES:Teadustöö tegemine / Doing research
END:VEVENT
BEGIN:VEVENT
DTSTART;TZID=Europe/Tallinn:20260609T090000
DTEND;TZID=Europe/Tallinn:20260611T170000
DTSTAMP:20260420T142746
CREATED:20260227T144912Z
LAST-MODIFIED:20260330T134147Z
UID:4590-1780995600-1781197200@www.doktorikool.ee
SUMMARY:RUUM\, TEHNOLOOGIA JA KESKKOND – INTERDISTSIPLINAARNE DIALOOG
DESCRIPTION:📍Toosikannu Puhkekeskus \n\n\n\nKonverents toimub inglise keeles.Konverentsi formaalne osa kestab 9:00-17:00 (viimasel päeval kell 16:00) \n\n\n\nKonverents pakub platvormi uurimistööde esitlemiseks\, interdistsiplinaarse dialoogi edendamiseks\, võrgustike loomiseks ja laiemate väljakutsete aruteluks. Iga päev keskendub põhiteemale: ruum\, tehnoloogia ja keskkond\, hõlmates selliseid teemasid nagu linna- ja merealane planeerimine\, tehisintellektil põhinevad süsteemid\, säästev ehituse ja kliimatõhusus. \n\n\n\nRegistreeri SIIN. Registreerimise tähtaeg on 5. aprill 2026. \n\n\n\nTeadustööd on võimalik konverentsil esitleda kahel viisil: suuline ettekanne või posterettekanne. Abstraktide esitamise tähtaeg: 5. aprill 2026. \n\n\n\nDoktorandid valitakse konverentsile nende esitatud abstraktide põhjal vastavalt sellele\, kui hästi nende uurimisteema sobitub konverentsi teemaga. Doktorandid jaotatakse sessioonidesse vastavalt päevateemadele\, mis on toodud konverentsi veebilehel. \n\n\n\nRohkem informatsiooni on konverentsi kodulehel: https://taltech.ee/en/events/conference-space-technology-and-environment-interdisciplinary-dialogue \n\n\n\nKüsimuste korral palume pöörduda Helena Kuivjõgi (helena.kuivjogi@taltech.ee) või Tiina Hageni (tiina.hagen@taltech.ee) poole. \n\n\n\nEesti doktorikooli tehnika ja tehnoloogia haru.
URL:https://www.doktorikool.ee/en/uritused/ruum-tehnoloogia-ja-keskkond-interdistsiplinaarne-dialoog/
CATEGORIES:Teadustöö mõjukus / Making an impact
END:VEVENT
BEGIN:VEVENT
DTSTART;TZID=Europe/Tallinn:20260610T100000
DTEND;TZID=Europe/Tallinn:20260611T170000
DTSTAMP:20260420T142746
CREATED:20260227T162240Z
LAST-MODIFIED:20260227T162242Z
UID:4596-1781085600-1781197200@www.doktorikool.ee
SUMMARY:Doktorantide suvekool 2026
DESCRIPTION:📍 Meresuu Spa & Hotel\,Aia 48a\, Narva-Jõesuu 29023 \n\n\n\nSuvekool toimub inglise keeles. \n\n\n\nSuvekool pakub eelkõige majandusteaduse ja  ärijuhtimise\, aga ka riigiteaduste\, õigusteaduse ning avaliku halduse doktorantidele suurepäraseid võimalusi saada tagasisidet oma teadusprojektidele\, parandada oma esitlus- ja uurimisoskusi ning luua akadeemilisi kontakte kohalike teadlaste ja ekspertidega. Majandusteaduse ja ärijuhtimise valdkonna doktoritöödega seotud artiklid konkureerivad Eesti Majandusteaduse Seltsi poolt välja antavale Vello Venseli preemiale. \n\n\n\nDoktoriõppe suvekooli eesmärk on arendada doktorantide esinemis- ja uurimisoskusi ning tõhustada sise-\, interdistsiplinaarset ja rahvusvahelist teaduskoostööd. \n\n\n\nSuvekool pakub erinevaid töövorme: doktorantide artiklite sessioonid\, posterisessioon\, külalisloengud konkreetsetel teemadel\, töötoad jne. \n\n\n\nPeaesinejad\n\nJan Fidrmuc (Lille’i Ülikool): „Hariduse mitterahaline tulu“\n\n\n\nLaur Kanger (Tartu Ülikool\, Sussexi Ülikool): „Jätkusuutlikkuse kriis: kas peame teadust ja tehnoloogiat ümber hindama “\n\n\n\nNiina Nummela (Turu Ülikool\, Tartu Ülikool): „Segameetoditega uurimistöö“\n\n\n\n\n\nPalun registreeru ja laadi artikkel/postri kokku­võte pdf-failina) üles siin. \n\n\n\n\nTäismahus artikli või postri kokkuvõtte esitamise tähtaeg: 8. mai 2026\n\n\n\nEsitatud ettekande/posteri kokkuvõtte vastu­võtmisest teatamine: 15. mai 2026\n\n\n\nÜritusele registreerimise tähtaeg: 20. mai 2026.\n\n\n\nArtikli või postri lõpliku versiooni esitamise täht­aeg: 27. mai 2026. Palun laadi lõplik artikkel/valmis poster pdf-failina üles siia.\n\n\n\n\nKüsimuste korral palume pöörduda Jaan Masso poole\, +372 737 6395\, jaan.masso@ut.ee. \n\n\n\nEesti doktorikooli sotsiaalteaduste haru.
URL:https://www.doktorikool.ee/en/uritused/doktorantide-suvekool-2026/
CATEGORIES:Teadustöö tegemine / Doing research
END:VEVENT
BEGIN:VEVENT
DTSTART;TZID=Europe/Tallinn:20260615T090000
DTEND;TZID=Europe/Tallinn:20260619T170000
DTSTAMP:20260420T142746
CREATED:20260327T141630Z
LAST-MODIFIED:20260330T113602Z
UID:4827-1781514000-1781888400@www.doktorikool.ee
SUMMARY:SLiM töötuba - Evolutsiooniliste simulatsioonide modelleerimine
DESCRIPTION:📍Tartu Ülikooli raamatukogu (W. Struve 1\, Tartu) \n\n\n\nÜritus toimub inglise keeles. \n\n\n\nMis on SLiM? SLiM on võimas tarkvarapakett individuaalipõhiste\, geneetiliselt täpsete evolutsioonisimulatsioonide läbiviimiseks. See on paindlik\, skriptitav ja kiire\, pakkudes interaktiivset graafilist modelleerimiskeskkonda\, mis teeb sellest ideaalse tööriista väga erinevate evolutsioonistsenaariumide uurimiseks.  \n\n\n\nMilleks saan SLiM-i kasutada? SLiM võimaldab edasisuunalisi geneetilisi simulatsioone\, modelleerides üksikorganisme ja nende genoomi ajas alates algseisundist. Seda saab kasutada näiteks:  \n\n\n\n\nSpetsiifiliste (ja suvaliselt keerukate) demograafiliste stsenaariumide (nt pudelikaelad\, populatsiooni kasv\, valik) korral eeldatavate genoomsete mustrite uurimiseks. \n\n\n\nNeutraalsete simulatsioonide läbiviimiseks nullmudelite loomiseks. \n\n\n\nSimuleeritud andmete genereerimiseks masinõppe klassifikaatorite treenimiseks\, et eristada erinevaid demograafilisi stsenaariume\, kui neid rakendatakse pärisandmetele. \n\n\n\n…ja palju muud! \n\n\n\n\nTöötoa ülesehitus: See viiepäevane töötuba käsitleb peamisi teemasid SLiM-i käsiraamatust — alustades sissejuhatusest SLiM-i ja selle skriptimiskeelde Eidosse ning liikudes edasi keerukamate teemadeni.  \n\n\n\nPõhisisu mahub nelja päeva sisse\, viies päev on avatud modelleerimisajaks\, kus osalejad saavad töötada oma projektidega.  \n\n\n\nTöötuba viib läbi Ben Haller\, PhD (Cornelli Ülikool). Üldine töötoa info: https://benhaller.com/workshops/workshops_attendees.htmlTöötoa sisu: https://benhaller.com/workshops/workshops_overview.html \n\n\n\nRegistreeru SIIN.Maksimum osalejate arv on 30. Osalejad valitakse registreerumise järjekorra alusel. \n\n\n\nOrganisers\n\nJ. Rodrigo Flores E. – rodrigo.flores@ut.ee\n\n\n\nSigni Ereline – signe.ereline@ut.ee\n\n\n\nAjai K. Pathak – ajai.kumar.pathak@ut.ee\n\n\n\nMait Metspalu – mait.metspalu@ut.ee\n\n\n\nBen Haller – bhaller@mac.com\n\n\n\n\n\nKüsimuste korral palume pöörduda Jose Rodrigo Flores (rodrigo.flores@ut.ee) poole. \n\n\n\nEesti doktorikooli loodusteaduste ja põllumajandusteaduste haru.
URL:https://www.doktorikool.ee/en/uritused/slim-evolutsiooniliste-simulatsioonide-raamistik/
CATEGORIES:Teadustöö vahendite haldamine / Managing Research tools
END:VEVENT
END:VCALENDAR