BEGIN:VCALENDAR
VERSION:2.0
PRODID:-//Eesti doktorikool - ECPv6.15.20//NONSGML v1.0//EN
CALSCALE:GREGORIAN
METHOD:PUBLISH
X-WR-CALNAME:Eesti doktorikool
X-ORIGINAL-URL:https://www.doktorikool.ee/en
X-WR-CALDESC:Events for Eesti doktorikool
REFRESH-INTERVAL;VALUE=DURATION:PT1H
X-Robots-Tag:noindex
X-PUBLISHED-TTL:PT1H
BEGIN:VTIMEZONE
TZID:Europe/Tallinn
BEGIN:DAYLIGHT
TZOFFSETFROM:+0200
TZOFFSETTO:+0300
TZNAME:EEST
DTSTART:20250330T010000
END:DAYLIGHT
BEGIN:STANDARD
TZOFFSETFROM:+0300
TZOFFSETTO:+0200
TZNAME:EET
DTSTART:20251026T010000
END:STANDARD
BEGIN:DAYLIGHT
TZOFFSETFROM:+0200
TZOFFSETTO:+0300
TZNAME:EEST
DTSTART:20260329T010000
END:DAYLIGHT
BEGIN:STANDARD
TZOFFSETFROM:+0300
TZOFFSETTO:+0200
TZNAME:EET
DTSTART:20261025T010000
END:STANDARD
BEGIN:DAYLIGHT
TZOFFSETFROM:+0200
TZOFFSETTO:+0300
TZNAME:EEST
DTSTART:20270328T010000
END:DAYLIGHT
BEGIN:STANDARD
TZOFFSETFROM:+0300
TZOFFSETTO:+0200
TZNAME:EET
DTSTART:20271031T010000
END:STANDARD
END:VTIMEZONE
BEGIN:VEVENT
DTSTART;TZID=Europe/Tallinn:20260803T110000
DTEND;TZID=Europe/Tallinn:20260803T120000
DTSTAMP:20260420T173916
CREATED:20260209T081659Z
LAST-MODIFIED:20260209T081700Z
UID:4483-1785754800-1785758400@www.doktorikool.ee
SUMMARY:Võrgustu. Reflekteeri. Tee ära.
DESCRIPTION:📍 Veebis (Zoom). Zoomi link saadetakse pärast registreerimist. \n\n\n\nKogukond doktorantuuri eesmärkide toetamiseks – igakuine kohtumine. \n\n\n\nKohtumine toimub iga kuu esimesel esmaspäeval kell 11.00–12.00\, alates 2. märtsist kuni detsembrini\, kokku 10 kohtumist. Kohtumistele on oodatud kõikide valdkondade doktorandid. \n\n\n\nDoktorantuuri elu võib olla isoleeriv ja intensiivne. Igapäevane laveerimine erinevate kohustuste vahel võib kergesti varjutada fookuse ja eesmärgid\, vahel aga on vaja edasi liikumiseks lihtsalt emotsionaalset tuge. Sageli piisab juba sellest\, et saad oma mõtteid kõva häälega jagada kellegagi\, kes sind mõistab ja aitab uue vaatenurga ning küsimuste kaudu edasi liikuda. \n\n\n\nIgakuine refleksioonigrupp pakub doktorantidele toetavat ja usalduslikku keskkonda\, kus hoida fookust\, jagada nippe\, leida motivatsiooni ja seada järgmisi samme. Lisaks loob grupp kogukonnatunnet\, ühendades doktorante erinevatest ülikoolidest. Programm toetab doktorante nende akadeemilisel teekonnal selguse\, järjepidevuse ja koostegutsemise kaudu. \n\n\n\nOsalejad võivad liituda regulaarselt või vastavalt vajadusele. Kohtumised on inglise keeles. \n\n\n\nLäbiviijad\nProtsessi juhivad akadeemilise maailmaga tuttavad sertifitseeritud coachid. \n\n\n\nMariann Nagatsu\, MSc psühholoogias\, sertifitseeritud lahenduskeskne organisatsioonicoach\, EMCC Senior Practitioner. Coach juhtidele ja teadlastele\, mh juhendajatele\, doktorantidele ja uurimisrühmadele. Coaching for Scientists (https://www.coachingforscientists.com) kaasasutaja. \n\n\n\nDr Manuela Tischler\, sertifitseeritud lahenduskeskne organisatsioonicoach\, EMCC Senior Practitioner. Noorteadlaste uurimisrühma juht\, Munich University of Applied Sciences. Coach teadlastele\, mh doktorantidele\, järeldoktoritele\, juhendajatele ja professoritele. Coaching for Scientists (https://www.coachingforscientists.com) kaasasutaja. \n\n\n\n\nRegistreerimine SIIN. Registreerimise tähtaeg on 20. veebruar 2026. \n\n\n\nProgrammiga võib liituda ka jooksvalt aasta jooksul. Kirjuta: mariann@coachingforscientists.com. \n\n\n\nEesti doktorikooli sotsiaalteaduste haru.
URL:https://www.doktorikool.ee/en/uritused/vorgustu-reflekteeri-tee-ara-6/
CATEGORIES:Enesejuhtimine / Self Management
END:VEVENT
BEGIN:VEVENT
DTSTART;TZID=Europe/Tallinn:20260826T000000
DTEND;TZID=Europe/Tallinn:20260828T235959
DTSTAMP:20260420T173916
CREATED:20260326T083820Z
LAST-MODIFIED:20260414T115054Z
UID:4766-1787702400-1787961599@www.doktorikool.ee
SUMMARY:Teine Põhjamaade suvekool arvutusliku mikrobioomika valdkonnas
DESCRIPTION:📍Tartu Ülikool\, Genoomika instituut \n\n\n\nSuvekool toimub inglise keeles. \n\n\n\nRahvusvaheline Suvekool keskendub mikrobiomi teaduse arvutuslikele lähenemisviisidele\, sealhulgas funktsionaalsele profileerimisele\, longitudinaalsele modelleerimisele\, ökoloogilistele mudelitele ja populatsioonimudelitele. Kolme päeva jooksul toimuvad erinevad loengud ning arutelud. \n\n\n\nSuvekooli sihtgrupiks on doktorandid ning juhendajad\, kelle teadustegevus on seotud  mirkobioomi uuringutega. Eeldame\, et osalejatel on mikrobioomi andmeanalüüsis baasteadmised. Tegemist on kesktaseme/edasijõudnute koolitusega teadlastele ja õppuritele\, kellel on vähemalt mõningane varasem kogemus arvutusliku mikrobioomi uurimise valdkonnas. \n\n\n\nRegistreeri SIIN. Registreerimise tähtaeg on 15. aprill 2026. Maksimaalne osalejate arv on 30. \n\n\n\nOsavõtjad valitakse välja lühikese motivatsiooniavalduse ning abstrakti põhjal. Eesti ülikooli doktorantidele on üritus tasuta. \n\n\n\nEsinejad\n• Rob Knight (UC San Diego)• Jeroen Raes (KU Leuven)• Jingyuan Fu (University of Groningen)• Harri Lähdesmäki (Aalto University)• Ilze Elbere (Latvian Biomedical Research and Study Centre)• Tom Hitch (Chinese University of Hong Kong) \n\n\n\n\nKüsimuste korral palume pöörduda Elin Orgi (Elin.org@ut.ee) poole või kirjutada microbiome-school@utu.fi. \n\n\n\nEesti doktorikooli loodusteaduste ja põllumajandusteaduste haru
URL:https://www.doktorikool.ee/en/uritused/teine-pohjamaade-suvekool-arvutusliku-mikrobioomika-valdkonnas/
CATEGORIES:Teadustöö tegemine / Doing research
END:VEVENT
END:VCALENDAR