BEGIN:VCALENDAR
VERSION:2.0
PRODID:-//Eesti doktorikool - ECPv6.15.20//NONSGML v1.0//EN
CALSCALE:GREGORIAN
METHOD:PUBLISH
X-WR-CALNAME:Eesti doktorikool
X-ORIGINAL-URL:https://www.doktorikool.ee/en
X-WR-CALDESC:Events for Eesti doktorikool
REFRESH-INTERVAL;VALUE=DURATION:PT1H
X-Robots-Tag:noindex
X-PUBLISHED-TTL:PT1H
BEGIN:VTIMEZONE
TZID:Europe/Tallinn
BEGIN:DAYLIGHT
TZOFFSETFROM:+0200
TZOFFSETTO:+0300
TZNAME:EEST
DTSTART:20250330T010000
END:DAYLIGHT
BEGIN:STANDARD
TZOFFSETFROM:+0300
TZOFFSETTO:+0200
TZNAME:EET
DTSTART:20251026T010000
END:STANDARD
BEGIN:DAYLIGHT
TZOFFSETFROM:+0200
TZOFFSETTO:+0300
TZNAME:EEST
DTSTART:20260329T010000
END:DAYLIGHT
BEGIN:STANDARD
TZOFFSETFROM:+0300
TZOFFSETTO:+0200
TZNAME:EET
DTSTART:20261025T010000
END:STANDARD
BEGIN:DAYLIGHT
TZOFFSETFROM:+0200
TZOFFSETTO:+0300
TZNAME:EEST
DTSTART:20270328T010000
END:DAYLIGHT
BEGIN:STANDARD
TZOFFSETFROM:+0300
TZOFFSETTO:+0200
TZNAME:EET
DTSTART:20271031T010000
END:STANDARD
END:VTIMEZONE
BEGIN:VEVENT
DTSTART;TZID=Europe/Tallinn:20260420T000000
DTEND;TZID=Europe/Tallinn:20260422T235959
DTSTAMP:20260420T112022
CREATED:20260318T114741Z
LAST-MODIFIED:20260318T114743Z
UID:4688-1776643200-1776902399@www.doktorikool.ee
SUMMARY:Kirjutamislaager
DESCRIPTION:📍 Voore Puhkekeskus \n\n\n\nDoktorantidele ja nooremteaduritele suunatud kirjutamislaager\, mille eesmärk on artikli käsikirja või doktoritöö osa kirjutamine.  \n\n\n\nRegistreeru SIIN. Registreerimise tähtaeg on 1. aprill 2026.Osalejate piirarv on 20. Registreerumine toimub “kes ees\, see mees” põhimõttel\, kuid osalejate valimisel võtame arvesse:   \n\n\n\n\nerinevate valdkondade esindatust;  \n\n\n\ndoktorante\, kes saavad osaleda laagris kogu ürituse perioodi; \n\n\n\ndoktorandid\, kellel on selge ja läbimõeldud tööplaan. \n\n\n\n\nKüsimuste korral palume pöörduda Moonika Teppo poole\, moonika.teppo@ut.ee. \n\n\n\nEesti doktorikooli loodusteaduste ja põllumajandusteaduste haru.
URL:https://www.doktorikool.ee/en/uritused/kirjutamislaager-25/
CATEGORIES:Teadustöö tegemine / Doing research
END:VEVENT
BEGIN:VEVENT
DTSTART;TZID=Europe/Tallinn:20260422T090000
DTEND;TZID=Europe/Tallinn:20260422T160000
DTSTAMP:20260420T112022
CREATED:20260331T090241Z
LAST-MODIFIED:20260414T114923Z
UID:4861-1776848400-1776873600@www.doktorikool.ee
SUMMARY:Ajajuhtimise praktiline koolitus
DESCRIPTION:📍Kreutzwaldi 62 A117\, Tartu \n\n\n\nKoolitus on inglise keeles.Praktiline ajajuhtimise koolitus toimub kahel päeval \n\n\n\n\n22. aprillil 2026 toimub 6-tunnine kohapealne õppepäev kell 09.00–16.00\n\n\n\n27. mail 2026 toimub 2-tunnine veebisessioon\, mille täpne kellaaeg selgub esimesel õppepäeval.\n\n\n\n\nKoolituse läbiviija on Ardo Reinsalu\, kes on ajajuhtimise ekspert ja konsultant. Ta on kahe ajajuhtimist käsitleva raamatu autor ning haldab Facebooki lehte www.facebook.com/ajajuhtimine. \n\n\n\nPraktilise ajajuhtimise koolituse raames jagab Ardo soovitusi aja tõhusaks korraldamiseks. Vastuse saavad küsimused: \n\n\n\n\nKuidas tulla toime igapäevase ajakavaga?\n\n\n\nKuidas oma päeva planeerida?\n\n\n\n\nOsalejad arutavad ühiselt levinud ajaraiskajaid ning jagavad praktilisi nippe ja enesejuhtimise tehnikaid. \n\n\n\nKoolituse läbimise järel oskavad osalejad hinnata oma ajajuhtimise tugevusi ja nõrkusi\, tulla toime väsimusega ning leida koostöös lahendusi igapäevastele probleemidele. \n\n\n\nKoolitusel on oodatud osalema kõikide harude doktorandid ja juhendajad. \n\n\n\nRegistreerimiseks või küsimuste korral palume pöörduda Julia Jeremejava (julia.jeremejeva@emu.ee) poole. Registreerimise tähtaeg on 15. aprill 2026.Osalejate piirarv on 25. Palume registreeruda aegsasti\, kui soovite kindlasti osaleda. Enne registreerimist veenduge\, et saate osaleda pakutud kuupäevadel. \n\n\n\nEesti doktorikooli arsti- ja terviseteadused\, veterinaaria haru
URL:https://www.doktorikool.ee/en/uritused/ajajuhtimise-praktiline-koolitus/
CATEGORIES:Enesejuhtimine / Self Management
END:VEVENT
BEGIN:VEVENT
DTSTART;TZID=Europe/Tallinn:20260422T140000
DTEND;TZID=Europe/Tallinn:20260422T163000
DTSTAMP:20260420T112022
CREATED:20260302T153234Z
LAST-MODIFIED:20260415T075013Z
UID:4612-1776866400-1776875400@www.doktorikool.ee
SUMMARY:Paradoksiteooria meistriklass Prof. Wendy K. Smith-iga
DESCRIPTION:📍 Tallinna Tehnikaülikool (TalTech)\, ruum SOC-209 (Akadeemia tee 3) \n\n\n\nMeistriklass toimub inglise keeles. \n\n\n\n2\,5 h tunnine interaktiivne meistriklass annab doktorantidele ja juhendajatele ülevaate paradoksiteooriast ja praktilised tööriistad paradokside uurimiseks erinevaid meetodeid kasutades. Meistriklassi lõpus arutatakse ka Both/And Thinking-mõtlemist (kui üldkompetentsi) ehk oskust ühendada vastandlikke väärtusi: siduda innovatsioon tõhususega\, empaatia vastutusega ning lühiajaline tulemus pikaajalise eesmärgiga\, et luua püsiv mõju läbi teadlasekarjääri. \n\n\n\nWendy K. Smith\, PhD. on Delaware’i Ülikooli juhtimise professor ja üks maailma tunnustatumaid strateegiliste ja juhtimisparadokside uurijaid\, keda sageli nimetatakse ka paradokside emaks. Tema töö keskendub sellele\, kuidas juhid ja organisatsioonid saavad tasakaalustada vastandlikke ootusi – näiteks stabiilsust ja muutust\, mõistust ja emotsiooni\, tulemuslikkust ja eesmärgipärasust – ilma ühegi poole arvelt loobumata. \n\n\n\nTema rahvusvaheline menuraamat Both/And Thinking (Harvard Business Review Press\, 2022) pakub teaduspõhist ja praktilist raamistikku\, kuidas liikuda „kas-või“ mõtlemiselt „nii-üht-kui-teist“ lähenemise poole. \n\n\n\nProfessor Smithi meistriklass annab doktorantidele ja juhendajatele võimaluse kohtuda ühe tänapäeva juhtimismõtte mõjukaima eksperdiga. \n\n\n\nRegistreeri SIIN. Registreerimise tähtaeg on 10. aprill 2026. \n\n\n\nKüsimustega töötoa kohta pöörduge palun Mari-Klara Stein poole\, mari-klara.stein@taltech.ee. \n\n\n\nEesti doktorikooli sotsiaalteaduste haru\, TalTech\, Majandusteaduskond\, koostöös PARE-ga (Eesti Personalijuhtide Ühing).
URL:https://www.doktorikool.ee/en/uritused/paradoksiteooria-meistriklass-prof-wendy-k-smith-iga/
CATEGORIES:Enesejuhtimine / Self Management
END:VEVENT
BEGIN:VEVENT
DTSTART;TZID=Europe/Tallinn:20260423T000000
DTEND;TZID=Europe/Tallinn:20260424T235959
DTSTAMP:20260420T112022
CREATED:20260203T103312Z
LAST-MODIFIED:20260203T113530Z
UID:4425-1776902400-1777075199@www.doktorikool.ee
SUMMARY:Töötuba "Huumor loeb: naer ja demokraatia"
DESCRIPTION:📍 Tallinn\, Tallinna Ülikool \n\n\n\nTöötuba toimub inglise keeles. \n\n\n\nMaht: 3 EAP \n\n\n\nHuumor loeb: naer ja demokraatia on rahvusvaheline ja interdistsiplinaarne töötuba\, mis toob kokku doktorandid\, et uurida huumorit nii demokraatliku ressursi kui ka konfliktide tekkepaigana. Huumor võib võimaldada kriitikat\, solidaarsust ja vastupanu\, kuid samal ajal võib see soodustada ka tõrjutust\, polariseerumist ja kahjuteket. \n\n\n\nTöötuba käsitleb neid pingeid huumoriteooria\, õigusalaste vaatenurkade\, poliitilise satiiri\, platvormide valitsemise ning kodanikuhariduse kaudu. Selle keskne eesmärk on tuvastada peamised uurimisküsimused huumori ja demokraatia kokkupuutepunktis ning varustada doktorante kontseptuaalsete tööriistade ja metodoloogiliste lähenemisviisidega\, mis on asjakohased tulevaste uurimisprojektide jaoks. \n\n\n\nProgramm ühendab juhtivate rahvusvaheliste teadlaste loenguid\, praktilisi töötubasid (näiteks poliitiliste karikatuuride joonistamine)\, paneeldiskussioone suurte rahvusvaheliste uurimisprojektidega ning võrgustumisüritusi. \n\n\n\nOotame soojalt osalema doktorante\, kes tegelevad huumori\, demokraatia\, meedia\, õiguse\, poliitilise kommunikatsiooni\, kultuuriuuringute\, hariduse või nendega seotud valdkondadega. Töötubade programmis täies mahus osalenud saavad 3 EAP ainepunkti. \n\n\n\nEsinejad\n\nAriadna Matamoros Fernandez\, Dublini ülikooli kolledž;\n\n\n\nTjeerd Royaards\, Cartoon Movement\, Amsterdam\n\n\n\nAnastasiya Fiadotava\, Eesti Kirjandusmuuseum\n\n\n\nGuillem Castañar Rubio\, Tallinna Ülikool\n\n\n\nCarmen Maíz Arevalo\, Madridi Complutense’i ülikool\n\n\n\nDennis Meyhoff Brink\, Kopenhaageni Ülikool\n\n\n\nAndrew Bricker\, Genti ülikool\n\n\n\nAlberto Godioli\, Groningeni ülikool\n\n\n\n\n\nRegistreeri SIIN. Registreerimise tähtaeg on 22. veebruar 2026.Osalejate piirarv on 20. Osalejad valitakse registreerimise järjekorra alusel. \n\n\n\nKüsimuste korral palume pöörduda Lii Langi poole\, lii.lang@ut.ee. \n\n\n\nEesti doktorikooli humanitaarteaduste ja kunstide haru.
URL:https://www.doktorikool.ee/en/uritused/tootuba-huumor-loeb-naer-ja-demokraatia/
CATEGORIES:Kognitiivsed võimed / Cognitive Abilities
END:VEVENT
BEGIN:VEVENT
DTSTART;TZID=Europe/Tallinn:20260424T000000
DTEND;TZID=Europe/Tallinn:20260426T235959
DTSTAMP:20260420T112022
CREATED:20260407T081624Z
LAST-MODIFIED:20260407T132553Z
UID:4889-1776988800-1777247999@www.doktorikool.ee
SUMMARY:52. teoreetilise bioloogia kevadkool "Pool-looduslik"
DESCRIPTION:📍Viidumäe bioloogiajaam\, Saaremaa \n\n\n\nKevadkool toimub eesti keeles. Oodatud on nii doktorandid kui ka juhendajad. \n\n\n\nNii nagu eelmistel aastatelgi\, saab kevadkoolis osaleja lisaks uutele ja põnevatele teadmistele kosutada oma vaimu looduses või õhtusel koosviibimisel saunaga! Tartust viib kevadkooli reede lõunal buss ja toob ka pühapäeval Tartusse tagasi. \n\n\n\nTeoreetilise bioloogia kevadkool on teadlaste ja tudengite arutelupaik\, kus seekord arutletakse selle üle\, kuidas vastanduvad või põimuvad inimese ja looduse süsteemid\, ning kas nende kokkupuutel sünnib midagi uut ja väärtuslikku. Ajal\, kus inimese loodud kemikaale võib leida kõige isoleeritumates kohtades maakeral\, arutleme\, kas enam on üldse midagi päriselt looduslikku ja mis on selle tähendus geoloogilises ajaskaalas. \n\n\n\nLisaks sellele saab iga osaleja mahuka Schola Biotheoretica kogumiku\, kus leidub nii algupäraseid tekste kui ka tõlkeid pool-looduslikkuse teemadel. Teoreetilise bioloogia kevadkooli on oodatud elussüsteemide teooriaga tegelevad teadlased ja tudengid. \n\n\n\nKevadkooli korraldab Eesti Looduseuurijate Seltsi teoreetilise bioloogia sektsioon koos Tartu Ülikooli ja Eesti Maaülikooliga. \n\n\n\nRegistreeri SIIN. Registreerimise tähtaeg on 17. aprill 2026. \n\n\n\nTulenevalt ruumide suurusest on maksimaalne osalejate arv 52. Eelistatud on tudengid ja noorteadlased. \n\n\n\nKüsimuste korral palume pöörduda Hans Vellama (hans.vellama@ut.ee) poole. \n\n\n\nEesti doktorikooli Loodusteaduste ja põllumajandusteaduste haru.
URL:https://www.doktorikool.ee/en/uritused/52-teoreetilise-bioloogia-kevadkool-pool-looduslik/
CATEGORIES:Koostöö / Working with others
END:VEVENT
BEGIN:VEVENT
DTSTART;TZID=Europe/Tallinn:20260424T100000
DTEND;TZID=Europe/Tallinn:20260424T113000
DTSTAMP:20260420T112022
CREATED:20260407T112037Z
LAST-MODIFIED:20260416T081850Z
UID:4880-1777024800-1777030200@www.doktorikool.ee
SUMMARY:Akadeemilise kirjutamise sari: Digivahendite kasutamine teaduskommunikatsiooni toetamiseks
DESCRIPTION:Veebis (Teams)Veebiseminar toimub inglise keeles.  \n\n\n\nKas tunned end vahel ülekoormatuna teadustööks mõeldud digivahendite rohkusest? \n\n\n\nSee praktiline töötuba tutvustab mitmesuguseid digitaalseid tööriistu\, mis toetavad kaasaegseid teadustöö protsesse\, sealhulgas kirjanduse otsingut\, viidete haldamist\, märkmete tegemist\, kirjutamist ja koostööd. Osalejad saavad ülevaate\, kuidas need lahendused aitavad teadmisi paremini struktureerida\, teadustöö protsesse tõhustada ning kujundada isiklikku ja toimivat digitaalse teadustöö tööriistakomplekti. \n\n\n\nSoovitame võtta kõrvale mõne poolelioleva kirjutamisprojekti või -idee\, et saaksid veebiseminaril paralleelselt katsetada digivahendeid oma uurimistöö kontekstis. \n\n\n\nLäbiviijad: \n\n\n\n➤ Darja Aksjonova – Läti Ülikooli majandus- ja sotsiaalteaduskonna doktorant\, kelle teadustöö keskendub teaduskommunikatsiooni praktikatele. Tal on üle kümne aasta kogemust ajakirjanikuna ning ta juhib ka EURAXESS Smart Talks taskuhäälingut\, mis käsitleb teadlaste karjääriteid ja professionaalse arengu võimalusi. \n\n\n\nDoktoriõpingute kõrval kasutab ta aktiivselt erinevaid digivahendeid akadeemilise kirjutamise ja teadustöö protsesside toetamiseks\, arendades seda valdkonda järjepidevalt ka oma doktoriõppe raames. \n\n\n\n➤ Roger Yallop – Tartu Ülikooli akadeemilise kirjutamise teadur\, kes toetab üliõpilasi akadeemilise kirjutamise oskuste arendamisel kursuste\, töötubade ja uurimisprojektidega. \n\n\n\nRegistreeri SIIN. Registreerimise tähtaeg on 22. aprill 2026.Küsimuste korral palume pöörduda Hele-Riin Urmet\, hele-riin.urmet@ut.ee\, poole\,  \n\n\n\nEesti doktorikooli ühisüritus. Koolitus on suunatud kõikide valdkondade doktorantidele. 
URL:https://www.doktorikool.ee/en/uritused/akadeemilise-kirjutamise-sari-digivahendite-kasutamine-teaduskommunikatsiooni-toetamiseks/
CATEGORIES:Teadustöö vahendite haldamine / Managing Research tools
END:VEVENT
BEGIN:VEVENT
DTSTART;TZID=Europe/Tallinn:20260424T101500
DTEND;TZID=Europe/Tallinn:20260424T124500
DTSTAMP:20260420T112022
CREATED:20260410T161527Z
LAST-MODIFIED:20260410T161528Z
UID:4934-1777025700-1777034700@www.doktorikool.ee
SUMMARY:Avalik loeng „Väikeste arutelukogudega demokraatia ohtude vastu? Võimalused ja potentsiaalsed lõksud“  
DESCRIPTION:📍 Lossi 36-305  \n\n\n\nLoeng toimub inglise keeles. \n\n\n\nOsalema on oodatud kõik huvilised kõikidest valdkondadest.  \n\n\n\nÜha enam levib arusaam\, et demokraatia on nii väliste kui sisemiste ohtude all. Väikesi arutelukogusid (deliberative mini-publics\, tuntud ka kui kodanikukogud või kodanike vandekohtud)\, kus juhuvaliku alusel kokku kutsutud rühm kodanikke arutab poliitikaküsimuste üle\, peetakse üha enam paljulubavaks vahendiks\, mis võiks toetada faktipõhiseid poliitilisi debatte\, pakkuda uuenduslikke poliitikalahendusi ning elavdada toetust demokraatiale. Valitsused üle maailma kasutavad üha sagedamini väikesi arutelukogusid teemadel nagu abordiõigus\, kliimamuutused või sooline võrdõiguslikkus\, andes alust rääkida nn „arutelulainest“.  \n\n\n\nSiiski ei mõista me veel täielikult väikeste arutelukogude võimalikke eeliseid ega seda\, kuidas neid siduda olemasolevate demokraatlike institutsioonidega. Selles loengus annan lühikese ülevaate argumentidest väikeste arutelukogude kasuks ning tutvustan oma hiljutist uurimistööd\, mis käsitleb üht nende olulisemat võimalikku kasu: nende võimet parandada arusaamu demokraatlikust legitiimsusest. Kooskõlas varasemate uurimustega leian\, et väikeste arutelukogude korraldamine võib suurendada tajutavat demokraatlikku legitiimsust. Samas leian ka\, et demokraatliku legitiimsuse paranemine sõltub teatud tingimustest\, sealhulgas sellest\, kas arutelukogude poliitikasoovitusi võetakse tõsiselt ja viiakse ellu ning kas need kogud esindavad laiemat elanikkonda. Arutlen\, miks nii soovituste rakendamine kui statistilise esinduslikkuse saavutamine võib praktikas keeruliseks osutuda ning visandan edasise uurimistöö suunad.   \n\n\n\nLoengut peab Micha Germann\, Suurbritannia Bathi Ülikooli politoloovanemlektor (kaasprofessor). Ta on spetsialiseernud konfliktide ja poliitilise käitumise uurimisele\, keskendudes eeskätt etnilistele konfliktidele\, demokraatlikele uuendustele ja kvantitatiivsetele meetoditele. Väikeste arutelukogude teemal huvitab teda iseäranis see\, kuidas laiem avalikkus neid tajub\, millised on nende komplekteerimisega seotud väljakutsed ning arutelukogude potentsiaal etniliselt lõhestunud ühiskondades. \n\n\n\nAvalikku loengut modereerib professor Eva Piirimäe (poliitikateooria professor\, Johan Skytte poliitikauuringute instituut). \n\n\n\nKüsimuste korral palume pöörduda Kristel Vits (kristel.vits@ut.ee)\, Johan Skytte poliitikauuringute instituut. \n\n\n\nEesti doktorikooli sotsiaalteaduste haru.
URL:https://www.doktorikool.ee/en/uritused/avalik-loeng-vaikeste-arutelukogudega-demokraatia-ohtude-vastu-voimalused-ja-potentsiaalsed-loksud/
CATEGORIES:Teadustöö tegemine / Doing research
END:VEVENT
BEGIN:VEVENT
DTSTART;TZID=Europe/Tallinn:20260427T000000
DTEND;TZID=Europe/Tallinn:20260428T235959
DTSTAMP:20260420T112022
CREATED:20260316T092605Z
LAST-MODIFIED:20260316T161147Z
UID:4650-1777248000-1777420799@www.doktorikool.ee
SUMMARY:Doktorantide kevadkool "Planeerime tulevikku - julgem olek akadeemias" 
DESCRIPTION:📍 Pesa hotell\, Põlva \n\n\n\nKevadkool toimub eesti keeles.  \n\n\n\nKevadkoolis arutletakse nooremteadurite ning erinevate ekspertidega\, kuidas planeerida reformijärgses doktorisüsteemis akadeemilist karjääri ning kuidas teha koostööd erasektoriga.   \n\n\n\nAjakava\nEsmaspäev\, 27. aprill\n\nSõit Tallinnast ja Tartust Põlvasse Ühine liikumine Pesa hotelli \n\n\n\nLõuna Pesa hotellis \n\n\n\nKülalisesinejad Tartu Ülikoolist jagavad kogemusi järeldoktorantuurist (Margit Kõiv-Vainik ja Uku Vainik) \n\n\n\nCheck-in hotelli \n\n\n\n“Teed pärast doktorantuuri akadeemias” (Siiri Kolka\, ETAG) \n\n\n\nAktiivne ja lõbus tegevus vabas õhus \n\n\n\nÕhtusöök \n\n\n\nÕhtumõnu ja võrgustumine \n\n\n\n\n\nTeisipäev\, 28. aprill\n\nHommikusöök ja pakkimine \n\n\n\n“Teed pärast doktorantuuri ettevõtluses”\, praktiline töötuba (Eveli Kuuse\, TÜ)\n\n\n\nLõuna \n\n\n\nKevadkooli kokkuvõte \n\n\n\nJalutuskäik  \n\n\n\nAmps Tillu Kodukohvikus \n\n\n\nTagasisõit Tartusse ja Tallinnasse \n\n\n\n\n\nÜksikasjalikum programm avaldatakse märtsi lõpuks.  \n\n\n\n\nKevadkool on mõeldud eelkõige doktorantidele/nooremteaduritele loodusteaduste ja põllumajandusteaduste valdkonnas. Registreerida võivad siiski kõigi erialade doktorandid/nooremteadurid – kuni kohti jätkub\, on kõik teretulnud. \n\n\n\nRegistreerimine toimub SIIN. Registreerumise tähtaeg on 17. aprill 2026.Kohtade arv: 20. \n\n\n\nKüsimuste korral palume pöörduda Marie Johanna Univer\, marie.johanna.univer@ut.ee / doktorantideselts@gmail.com\, või Veeda Kala\, veeda.kala@eamt.ee\, poole. \n\n\n\nEesti doktorikooli loodusteaduste ja põllumajandusteaduste haru. koostöös Tartu Ülikooli ökoloogia ja maateaduste instituudi\, geograafia osakonna ja Doktorantide Seltsiga.
URL:https://www.doktorikool.ee/en/uritused/doktorantide-kevadkool-planeerime-tulevikku-julgem-olek-akadeemias/
CATEGORIES:Koostöö / Working with others
END:VEVENT
BEGIN:VEVENT
DTSTART;TZID=Europe/Tallinn:20260429T100000
DTEND;TZID=Europe/Tallinn:20260430T160000
DTSTAMP:20260420T112022
CREATED:20260306T210026Z
LAST-MODIFIED:20260410T155419Z
UID:4630-1777456800-1777564800@www.doktorikool.ee
SUMMARY:Haridusteaduste doktoriõppe kevadkool
DESCRIPTION:📍 Tartu Ülikooli haridusteaduste instituut (Jakobi 5\, Tartu) \n\n\n\nKevadkooli töökeel on eesti keel\, võõrkeelsetele doktorantidele võimaldatakse osaline sosintõlge. \n\n\n\nKahe päeva jooksul tutvustavad haridusteaduste doktorandid oma töid ettekannetega ja ümarlaudades. \n\n\n\nKevadkooli avab mõttevahetus teemal “Õppimine ja õpetamine tehisaru\, kriiside ja innovatsiooni ajastul”. Teisel päeval toimuvad ka paralleelsed töötoad\, kus arutleme järgmistel olulistel teemadel: “Tehisaru tõhus ja eetiline kasutamine teadustöös” ning “Psühholoogiline vastupidavus ja kohanemine”. \n\n\n\nAjakava\nKolmapäev\, 29. aprill  09.30–10.00 Kogunemine\, tervituskohv  10.00–11.00 Paneeldiskussioon „Õppimine ja õpetamine tehisaru ja kriiside ajastul“Panelistid Triin Lauri (TLÜ)\, Andero Uusberg (TÜ)\, Marit Puusepp (TÜ)\, Margus Pedaste (TÜ); modereerib Äli Leijen (TÜ) 11.05–12.30 Suulised ettekanded  12.30–13.30 Lõuna  13.30–15.00 Arutelud ümarlaudades 15.00–15.30  Kohvi- ja liikumispaus  15.30–17.00 Arutelud ümarlaudades 17.30–18.30 Õhtusöök  18.30–23.00 Meelelahutusprogramm ja vaba suhtlus \n\n\n\n\n\n\n\nNeljapäev\, 30. aprill  09.00–9.30 Kogunemine\, tervituskohv  9.30–11.00 Arutelud ümarlaudades 11.05–12.45 Suulised ettekanded  12.30–13.30 Lõuna  13.30–15.00 Töötoad  1. „Tehisaru tõhus ja eetiline kasutamine teadustöös“ Koolitaja Eda-Riin Tuuling2. „Psühholoogiline vastupidavus ja kohanemine“ Koolitaja Ethel Rosenfeldt 15.00–15.30 Kohvi- ja liikumispaus  15.30–15.45 Lõpetamine \n\n\n\n\nEttekannete tegijate registreerimine on suletud!Registreeri SIIN. Registreerimise tähtaeg on 30. märts 2026. \n\n\n\nKuulajad saavad registreerida SIIN. Registreerimise tähtaeg on 20. aprill 2026. Osalejate piirarv on 50 inimest. \n\n\n\nKüsimuste korral palume pöörduda: Maarja Vaikmaa\, maarja.vaikmaa@ut.ee \n\n\n\nEesti doktorikooli sotsiaalteaduste haru.
URL:https://www.doktorikool.ee/en/uritused/haridusteaduste-doktorioppe-kevadkool/
LOCATION:TÜ haridusteaduste instituut (Jakobi 5\, Tartu)
CATEGORIES:Koostöö / Working with others
END:VEVENT
END:VCALENDAR