BEGIN:VCALENDAR
VERSION:2.0
PRODID:-//Eesti doktorikool - ECPv6.15.20//NONSGML v1.0//EN
CALSCALE:GREGORIAN
METHOD:PUBLISH
X-WR-CALNAME:Eesti doktorikool
X-ORIGINAL-URL:https://www.doktorikool.ee/et
X-WR-CALDESC:Events for Eesti doktorikool
REFRESH-INTERVAL;VALUE=DURATION:PT1H
X-Robots-Tag:noindex
X-PUBLISHED-TTL:PT1H
BEGIN:VTIMEZONE
TZID:Europe/Tallinn
BEGIN:DAYLIGHT
TZOFFSETFROM:+0200
TZOFFSETTO:+0300
TZNAME:EEST
DTSTART:20230326T010000
END:DAYLIGHT
BEGIN:STANDARD
TZOFFSETFROM:+0300
TZOFFSETTO:+0200
TZNAME:EET
DTSTART:20231029T010000
END:STANDARD
BEGIN:DAYLIGHT
TZOFFSETFROM:+0200
TZOFFSETTO:+0300
TZNAME:EEST
DTSTART:20240331T010000
END:DAYLIGHT
BEGIN:STANDARD
TZOFFSETFROM:+0300
TZOFFSETTO:+0200
TZNAME:EET
DTSTART:20241027T010000
END:STANDARD
BEGIN:DAYLIGHT
TZOFFSETFROM:+0200
TZOFFSETTO:+0300
TZNAME:EEST
DTSTART:20250330T010000
END:DAYLIGHT
BEGIN:STANDARD
TZOFFSETFROM:+0300
TZOFFSETTO:+0200
TZNAME:EET
DTSTART:20251026T010000
END:STANDARD
END:VTIMEZONE
BEGIN:VEVENT
DTSTART;TZID=Europe/Tallinn:20240625T000000
DTEND;TZID=Europe/Tallinn:20240629T235959
DTSTAMP:20260421T151423
CREATED:20240515T093749Z
LAST-MODIFIED:20241029T144956Z
UID:518-1719273600-1719705599@www.doktorikool.ee
SUMMARY:LiWeFoR Wetland Forest Research Summer School
DESCRIPTION:The LiWeFoR Wetland Forest Research Summer School invites Estonian doctoral students to study\, learn and share stories on carbon and nutrient fluxes in swamp and bog forests across the globe! The lineup includes academics\, professors and experienced researchers from the Universities of Tartu\, Helsinki\, Aarhus\, East Anglia\, the Peruvian Amazon\, Sarawak and Congo\, as well as Karlsruhe Institute of Technology. The programme is balanced between theoretical lectures\, field demonstrations and conversations on eddy covariance and chamber measurements\, microbiome and isotopic methods at different layers of wetland forests. \nThe Summer Shcool lectures will be held at the Pühajärve Spa Hotel followed by an excursion and field demonstrations at study sites across South Estonia during 25–29 June 2024. \nDeadline for registration is 24 May 2024. Register here \nThere are 25 places for doctoral students – first come first served. All participation costs (travel from Tartu to Pühajärve\, accommodation\, meals\, field excursion) are covered by organisers. \nTentative program \n\n25 June – arrival to Pühajärve and ice-breaker\n26 June – lectures\n27 June – lectures\n28 June – departure from Pühajärve;\n\nexcursion and field demonstrations at the study sites (Järvselja\, Soontaga\, Ess-soo);\nfinal dinner in Pühaste\n\n\n29 June – departure from Tartu\n\nLecturers \n\nProf. Ülo Mander (University of Tartu)\nProf. Klaus Butterbach-Bahl (KIT\, Aarhus University)\nProf. Mari Pihlatie (University of Helsinki)\nProf. Ivan Mammarela (University of Helsinki)\nDr. Anuliina Putkinen (University of Helsinki)\nDr. Lukas Kohl (University of Helsinki)\nDr. Salla Tenhovirta (University of Helsinki)\nDr. Laura Lehtovirta-Morley (University of East Anglia)\nDr. Mikk Espenberg (Univeristy of Tartu)\nIng. Lizardo Fachín (IIAP\, UNAP\, Peru)\nDr. Faustina Sangok (TROPI\, Malaysia)\nProf. Joël Loumeto (Universite Marien Ngouabi\, Congo)\nDr. Ulrich Gaël Bouka (Universite Marien Ngouabi\, Congo)\n\nContact: liwefor@ut.ee \n\nLiWeFoR Soometsade Suvekool kutsub Eesti kõrgkoolide doktorante õppima tundma maakera eri piirkondade soostunud\, madalsoo- ja raba-metsi ning jagama nende lugusid. Esinejate nimekiri sisaldab Tartu\, Helsingi\, Aarhusi\, East Anglia\, Peruu Amasoonia\, Sarawaki ja Kongo ning Karlsruhe Tehnoloogiainstituudi akadeemikuid\, professoreid ja teadureid. Programmis on gaasivoogude mõõtmiste (turbulentse voo ning erinevatel kõrgustel kambermeetodid)\, mikrobioomi ja isotoopmeetodite alased loengud\, välidemonstratsioonid ning vaba vestlus. \nSuvekool toimub 25.–29. juunil. Loengud leiavad aset Pühajärve Spa & Puhkekeskuses\, millele järgneb ekskursioon ja välidemonstratsioonid uurimisaladel üle Lõuna-Eesti. \nRegistreerimise tähtaeg on 24. mai 2024. Registreeru siin \nDoktorantidele on 25 kohta. Registreerumine toimub põhimõttel “kes ees\, see mees” kuni kohad täituvad. Kõik osavõtukulud (reis Tartust Pühajärvele\, majutus\, toitlustus\, väliekskursioon) katavad korraldajad. \nSuvekooli korraldab Tartu Ülikool Euroopa Liidu rahastatud projekti „LiWeFoR: Living labs for Wetland Forest research” raames koostöös Eesti doktorikooliga. Projekti „Ülikoolide koostöö doktoriõppe edendamisel“ (2021-2027.4.04.24-0003) kaasrahastab Euroopa Liit. \nEsialgne programm \n\n25. juuni saabumine Pühajärvele ja avapidu\n26. juuni loengud\n27. juuni loengud\n28. juuni väljasõit Pühajärvelt;\n\nekskursioon ja demonstratsioonid uurimisaladel (Järvselja\, Soontaga\, Ess-soo);\npidulik õhtusöök Pühastes\n\n\n29. juuni lahkumine Tartust\n\nEsinejad \n\nProf. Ülo Mander (Tartu Ülikool).\nProf. Klaus Butterbach-Bahl (KIT\, Aarhusi Ülikool)\nProf. Mari Pihlatie (Helsingi Ülikool)\nProf. Ivan Mammarela (Helsingi Ülikool)\nDr. Anuliina Putkinen (Helsingi Ülikool)\nDr. Lukas Kohl (Helsingi Ülikool)\nDr. Salla Tenhovirta (Helsingi Ülikool)\nDr Laura Lehtovirta-Morley (East Anglia Ülikool)\nDr Mikk Espenberg (Tartu Ülikool)\nIng. Lizardo Fachín (IIAP\, UNAP\, Peruu)\nDr. Faustina Sangok (TROPI\, Malaisia)\nProf. Joël Loumeto (Marien Ngouabi Ülikool\, Kongo)\nDr. Ulrich Gaël Bouka (Marien Ngouabi Ülikool\, Kongo)\n\nKontakt: liwefor@ut.ee
URL:https://www.doktorikool.ee/et/uritused/liwefor-wetland-forest-research-summer-school/
END:VEVENT
BEGIN:VEVENT
DTSTART;TZID=Europe/Tallinn:20240626T100000
DTEND;TZID=Europe/Tallinn:20240626T170000
DTSTAMP:20260421T151423
CREATED:20240515T092731Z
LAST-MODIFIED:20240515T092731Z
UID:514-1719396000-1719421200@www.doktorikool.ee
SUMMARY:PhD Summer 1-day Workshop
DESCRIPTION:June 26\, 10-17\nEstonian Business School\, Lauteri 3 \nThe event will take place on June 26 in Tallinn due to the succeeding 6th Baltic Economic Association Conference\, June 27-28 on the premises of Estonian Business School\, Lauteri 3.  \nThe event offers excellent opportunities for local doctoral students in economics\, political sciences\, law\, government and politics\, and public administration and management to get feedback on their research projects\, improve presentation and research skills\, and establish academic contacts with well-known international researchers as well as local academics and experts. Furthermore\, papers related to the PhD dissertations in the area of economics and business administration will compete for the 2024 Vello Vensel Doctoral Research Prize awarded by the Estonian Economic Association. \nKeynote speakers: \n\nJaanika Meriküll (University of Tartu\, Eesti Pank) „Women in the labour market: Now and then”.\nKarsten Staehr (Taltech\, Eesti Pank) „Economic growth and convergence in the Baltic states. What can macroeconomics teach us?“.\n\nThe deadline for submitting either a non-published paper related to the PhD dissertation or a poster abstract that introduces the research ideas and/or preliminary results is May 17 2024.  \nPlease submit your paper or poster abstract using the submission form. You will find guidelines for papers and posters and practical tips at the bottom of this invitation. Papers and poster abstracts will be pre-reviewed\, and decisions will be announced by May 27 2024. \nCosts to be covered are as follows: meals\, materials and accommodation (if not from Tallinn). \n\nMore information on the event: Summer Workshop. \nImportant deadlines: \n\nSubmission deadline for a full paper or a poster abstract: May 17 2024\nNotification of acceptance of the submitted paper/poster abstract: May 27 2024\nAfter that you can register (registration to the event): June 5 2024 (see link in the webpage: Summer Workshop)\nDeadline for submitting the final version of the paper or poster: June 21 2024\n\nShould you have questions about the event: Sigrid Lainevee sigrid.lainevee@ebs.ee \nEstonian Doctoral School for Social Sciences
URL:https://www.doktorikool.ee/et/uritused/phd-summer-1-day-workshop/
END:VEVENT
END:VCALENDAR