BEGIN:VCALENDAR
VERSION:2.0
PRODID:-//Eesti doktorikool - ECPv6.15.20//NONSGML v1.0//EN
CALSCALE:GREGORIAN
METHOD:PUBLISH
X-ORIGINAL-URL:https://www.doktorikool.ee/et
X-WR-CALDESC:Events for Eesti doktorikool
REFRESH-INTERVAL;VALUE=DURATION:PT1H
X-Robots-Tag:noindex
X-PUBLISHED-TTL:PT1H
BEGIN:VTIMEZONE
TZID:Europe/Tallinn
BEGIN:DAYLIGHT
TZOFFSETFROM:+0200
TZOFFSETTO:+0300
TZNAME:EEST
DTSTART:20230326T010000
END:DAYLIGHT
BEGIN:STANDARD
TZOFFSETFROM:+0300
TZOFFSETTO:+0200
TZNAME:EET
DTSTART:20231029T010000
END:STANDARD
BEGIN:DAYLIGHT
TZOFFSETFROM:+0200
TZOFFSETTO:+0300
TZNAME:EEST
DTSTART:20240331T010000
END:DAYLIGHT
BEGIN:STANDARD
TZOFFSETFROM:+0300
TZOFFSETTO:+0200
TZNAME:EET
DTSTART:20241027T010000
END:STANDARD
BEGIN:DAYLIGHT
TZOFFSETFROM:+0200
TZOFFSETTO:+0300
TZNAME:EEST
DTSTART:20250330T010000
END:DAYLIGHT
BEGIN:STANDARD
TZOFFSETFROM:+0300
TZOFFSETTO:+0200
TZNAME:EET
DTSTART:20251026T010000
END:STANDARD
END:VTIMEZONE
BEGIN:VEVENT
DTSTART;VALUE=DATE:20240904
DTEND;VALUE=DATE:20240906
DTSTAMP:20260421T195854
CREATED:20240828T115903Z
LAST-MODIFIED:20250106T125247Z
UID:707-1725408000-1725580799@www.doktorikool.ee
SUMMARY:Kirjutamislaager // Writing Retreat
DESCRIPTION:04.09.-05.09.2024Käärikul  \nEesti doktorikooli loodusteaduste ja põllumajandusteaduste haru korraldab doktorantidele kirjutamislaagri\, kus on võimalik keskenduda oma doktoritöö või teadusartikli kirjutamisele. \nTransport: buss väljub Chemicumi (Ravila 14a eest Käärikule ja toob järgmisel päeval tagasi\, kasutada võib ka isiklikku transporti).Majutus: Kääriku Hotell\, majutus kahestes tubades \nLaagrisse võetakse vastu kuni 25 osalejat.Registreerimine on avatud\, kuni kohti jätkub. Registreeru siin. \nLisainfo: Liis Siinor\, liis.siinor@ut.ee \n\n04.09.-05.09.2024Kääriku Village \nEstonian Doctoral School for Natural and Agricultural Sciences is organizing a writing seminar  for PhD students in Kääriku Sports Center. In the writing camp\, you can focus on writing your doctoral thesis or research article. For this purpose\, the participants have the use of the seminar room. \nTransport: the bus departs from Chemicum (from Ravila 14a to Kääriku and bring back the next day\, you can also use personal transport).Accommodation: Kääriku Hotel\, accommodation in two rooms \nThe camp accepts up to 25 participants.Registration is opened untiol there are available places. Registration here. \nAdditional information: Liis Siinor\, liis.siinor@ut.ee
URL:https://www.doktorikool.ee/et/uritused/kirjutamislaager-writing-retreat-7/
END:VEVENT
BEGIN:VEVENT
DTSTART;TZID=Europe/Tallinn:20240905T000000
DTEND;TZID=Europe/Tallinn:20240906T235959
DTSTAMP:20260421T195854
CREATED:20240708T103132Z
LAST-MODIFIED:20240903T073225Z
UID:621-1725494400-1725667199@www.doktorikool.ee
SUMMARY:Intensive seminar: Reading with the New Frankfurt School
DESCRIPTION:5–6 September 2024\nTallinn University\, Uus-Sadama 5\, room M-135 \nGuest lecturer: Professor Rita Felski\, University of Virginia\nRegistration deadline: 26 August 2024\, register HERE \nCredits: 1 ECTS\nReading the required seminar texts is the prerequisite for participating in the course. All texts will be provided electronically to registered participants. \nHosting institutions: Tallinn University; Estonian Doctoral School of Arts and Humanities \nPresentation \nCan the claims of theory and literature be brought into a more equal balance? How does literature recast or refigure perceptions of life? And how might life—our condition of worldly enmeshment—modify the claims of theory? This workshop addresses longstanding questions about the relation between literature\, theory\, and experience by engaging a body of thought that’s terra incognita in the humanities: the writings of the present-day Frankfurt School. These writings reveal some notable similarities to current debates in literary studies. First\, they reflect on the limits—as well as the value–of critique and are developing more affirmative concepts and vocabularies. And second\, they are turning to phenomenology and accounts of human experience that do not treat persons as mere shadows cast by all-determining structures. \nThe argument of my forthcoming book is organized around what I call “experience-concepts” drawn from German thought. One lecture discusses the idea of resonance while the other revisits an older idea of lifeworld. The roundtable will examine the relationship between literature\, theory\, and experience\, and the seminar will focus on the epistemological and political stakes of intellectual work. \nAbout guest lecturer:  \nRita Felski holds the John Stewart Bryan Professorship of English at the University of Virginia and is a former editor of New Literary History. She was also Niels Bohr Professor at the University of Southern Denmark (2016–2021). She was educated at Cambridge University and pursued graduate work in Australia\, earning an M.A and Ph.D at Monash University. Her current research centers on aesthetics\, method\, and interpretation\, but she also have longstanding interests in feminist theory\, modernity and postmodernity\, genre (especially tragedy)\, comparative literature\, and cultural studies. She is the author of Beyond Feminist Aesthetics (Harvard UP\, 1989)\, The Gender of Modernity (Harvard UP. 1995)\, Doing Time: Feminist Theory and Postmodern Culture (New York UP\, 2000)\, Literature After Feminism (Chicago UP\, 2003)\, Uses of Literature (Blackwell’s\, 2008)\, The Limits of Critique (Chicago UP\, 2015)\, and Hooked: Art and Attachment (Chicago UP\, 2020). \nMore information: Eva Kruuse\, eva.kruuse@tlu.ee. \nProgramme \n 
URL:https://www.doktorikool.ee/et/uritused/intensive-seminar-reading-with-the-new-frankfurt-school/
END:VEVENT
END:VCALENDAR