BEGIN:VCALENDAR
VERSION:2.0
PRODID:-//Eesti doktorikool - ECPv6.15.20//NONSGML v1.0//EN
CALSCALE:GREGORIAN
METHOD:PUBLISH
X-WR-CALNAME:Eesti doktorikool
X-ORIGINAL-URL:https://www.doktorikool.ee/et
X-WR-CALDESC:Events for Eesti doktorikool
REFRESH-INTERVAL;VALUE=DURATION:PT1H
X-Robots-Tag:noindex
X-PUBLISHED-TTL:PT1H
BEGIN:VTIMEZONE
TZID:Europe/Tallinn
BEGIN:DAYLIGHT
TZOFFSETFROM:+0200
TZOFFSETTO:+0300
TZNAME:EEST
DTSTART:20230326T010000
END:DAYLIGHT
BEGIN:STANDARD
TZOFFSETFROM:+0300
TZOFFSETTO:+0200
TZNAME:EET
DTSTART:20231029T010000
END:STANDARD
BEGIN:DAYLIGHT
TZOFFSETFROM:+0200
TZOFFSETTO:+0300
TZNAME:EEST
DTSTART:20240331T010000
END:DAYLIGHT
BEGIN:STANDARD
TZOFFSETFROM:+0300
TZOFFSETTO:+0200
TZNAME:EET
DTSTART:20241027T010000
END:STANDARD
BEGIN:DAYLIGHT
TZOFFSETFROM:+0200
TZOFFSETTO:+0300
TZNAME:EEST
DTSTART:20250330T010000
END:DAYLIGHT
BEGIN:STANDARD
TZOFFSETFROM:+0300
TZOFFSETTO:+0200
TZNAME:EET
DTSTART:20251026T010000
END:STANDARD
END:VTIMEZONE
BEGIN:VEVENT
DTSTART;TZID=Europe/Tallinn:20241021T000000
DTEND;TZID=Europe/Tallinn:20241022T235959
DTSTAMP:20260421T214200
CREATED:20240930T121422Z
LAST-MODIFIED:20241010T094950Z
UID:1015-1729468800-1729641599@www.doktorikool.ee
SUMMARY:Course “Skills to navigate your PhD: from surviving to thriving”
DESCRIPTION:Tallinna Ülikoolis\nNarva mnt 29\, ruumis A-224 (Astra hoone II korrus) \nEesti Doktorikooli matemaatika\, arvutiteaduse ja informaatika haru kutsub doktorante kursusele\, mille eesmärk on toetada õpiteekonna kujundamist\, saamaks edukalt hakkama nii käsilolevates õpingutes kui ka tulevases akadeemilises karjääris (või erialases karjääris väljaspool akadeemilisi ringkondi). Kursusel antakse ülevaade kahest tõenduspõhisest oskuste kombinatsioonist\, mis võimaldavad kujundada edukat teadus- või spetsialistikarjääri. Kursuse läbinutel on selgem arusaam oma rollist teadlase või spetsialistina\, ning rohkem enesekindlust ja oskus teha otsuseid\, mis tõstavad enesetunnet ja tagavad teadustöö kvaliteedi. Kursus on interaktiivne ning annab võimaluse nii süvenemiseks ja eneseanalüüsiks kui ka rühmaaruteludeks ja grupitöödeks. \nTäpsem info on leitav SIIT. \nKoolitajaks on Prof.i.R. Geraldine Fitzpatrick\, Austria [Retired Professor (B.Inf.Tech (Hons)\, PhD in Computer Science and Electrical Engineering; trained facilitator/coach\, underpinned by a Masters in Applied Positive Psychology and Coaching Practice]. \nKursus toimub inglise keeles. \nAjakava: \n\nEnne kursust vaadata endale sobival ajal läbi sissejuhatav video ja vastata küsimustikule.\n21 ja 22.10.2024 kell 9-17 Tallinna Ülikooli ruumis A-224.\nÜks kuu pärast kursuse kohapealset osa toimub videokohtumine arutlemiseks ja tagasiside jagamiseks.\n\nRegistreeri SIIN! Registreerimise tähtaeg on 14. oktoober. \nKontakt: Maria Saar\, maria.saar@tlu.ee \nEesti doktorikooli Matemaatika\, arvutiteaduse ja informaatika haru. \n\nAt Tallinna University\nNarva rd 29\, Room A-224 (Astra II floor) \nEstonian Doctoral School for Mathematics\, Computer Science and Informatics invites doctoral students to a course from Prof.i.R. Geraldine Fitzpatrick. The aim of the course is to help students craft their PhD lives so that they can thrive in their current studies and in their future academic career (or\, a professional career beyond academia). The course introduces students to two foundational sets of evidence-based personal skills towards thriving as an academic/researcher/professional. Students will take away an increased insight into\, and confidence about\, their own identity as an academic/researcher/professional\, as well as having a toolkit of practical strategies for making good choices towards better wellbeing and good science. \nThe format will be highly interactive\, with seeding input on the relevant research on a topic\, time for personal reflection\, group discussions and group exercises. \nMore details can be found HERE. \nFacilitator is Prof.i.R. Geraldine Fitzpatrick\, from Austria [Retired Professor (B.Inf.Tech (Hons)\, PhD in Computer Science and Electrical Engineering; trained facilitator/coach\, underpinned by a Masters in Applied Positive Psychology and Coaching Practice]. \nThe course is held in English. \nSchedule: \n\nBefore the course see an intriductory video and answer an online questionnaire\, at your own convenience.\nIntensive learning days on 21 and 22 October 2024 at 9-17 in Tallinn University room A-224.\nOne month after the intensive learning days – an online meeting for final reflections and feedback.\n\nRegistrer HERE! The deadline for the registration is October 14. \nContact person: Maria Saar\, maria.saar@tlu.ee \nEstonian Doctoral School for Mathematics\, computer science and informatics
URL:https://www.doktorikool.ee/et/uritused/course-skills-to-navigate-your-phd-from-surviving-to-thriving/
END:VEVENT
BEGIN:VEVENT
DTSTART;TZID=Europe/Tallinn:20241021T090000
DTEND;TZID=Europe/Tallinn:20241025T170000
DTSTAMP:20260421T214200
CREATED:20240916T124536Z
LAST-MODIFIED:20250106T115700Z
UID:905-1729501200-1729875600@www.doktorikool.ee
SUMMARY:Kursus „Teaduslik kirjutamine ja kommunikatsioon“
DESCRIPTION:„Teaduslik kirjutamine ja kommunikatsioon“ (PK.1716)\n21.-25.oktoober 2024\nKreutzwaldi 5-D267\, EMÜ\n \nEesti doktorikooli loodus- ja põllumajandusteaduste haru kutsub doktorantide kursusele „Teaduslik kirjutamine ja kommunikatsioon“ (PK.1716). Kursust juhendab professor Gabor Lövei Aarhusi Ülikoolist (Taani)\, kes on raamatu „Writing and Publishing Scientific Papers: A Primer for the Non-English Speaker“ autor. Raamat on vabalt kättesaadav online. \nKursus tutvustab osalejatele teadusliku kommunikatsiooni põhimõtteid ja teadusartiklite kirjutamist. Kuigi põhirõhk on teadusartiklitel\, käsitletakse ka muid teadusliku kirjutamise vorme\, nagu ülevaated\, konverentsikokkuvõtted\, suulised ja kirjalikud esitlused konverentsidel ning rahastamistaotluste kirjutamine. Osalejad õpivad\, kuidas oma uurimistulemusi erinevates meediumites tõhusalt esitada. \nKui teil on lõpetamata artikleid või olete alles kirjutamist alustamas\, on see kursus teile kindlasti kasulik. \n\nÕppekeel: Inglise keel\nVorming: Kursus sisaldab iseseisvaid tööülesandeid ja individuaalset tagasisidet igale osalejale.\nOsalemisnõuded: Osalejad peavad olema kohal vähemalt 80% loengutest (lubatud on puududa kuni kaks poolikut päeva)\, osalema aktiivselt rühmaaruteludes ja täitma neli kirjalikku ülesannet.\nAjakava: Kontaktõppepäevadel toimub õppetöö kell 9.00-17.00 (neli 90-minutilist sessiooni)\, lõuna kell 12.30-13.30\, ja kaks 30-minutilist pausi.\nToitlustamine: Lõunasöök on tagatud kontaktõppepäevadel.\nSertifikaat: Kursuse läbimise kohta väljastatakse tunnistus\, mida saab kasutada VÕTA (varasemate kogemuste arvestamise) programmis.\n\nRegistreeru siin\, registreerimistähtaeg on 14. oktoober või kuni kõik 24 kohta on täidetud. \nKorraldajad jätavad endale õiguse kursus tühistada\, kui 5. oktoobriks on registreerunud vähem kui 15 osalejat. \nLisaküsimuste korral võtke ühendust Karin Nurme’ga aadressil karin.nurme@emu.ee.
URL:https://www.doktorikool.ee/et/uritused/kursus-teaduslik-kirjutamine-ja-kommunikatsioon/
END:VEVENT
END:VCALENDAR