BEGIN:VCALENDAR
VERSION:2.0
PRODID:-//Eesti doktorikool - ECPv6.15.20//NONSGML v1.0//EN
CALSCALE:GREGORIAN
METHOD:PUBLISH
X-ORIGINAL-URL:https://www.doktorikool.ee/et
X-WR-CALDESC:Events for Eesti doktorikool
REFRESH-INTERVAL;VALUE=DURATION:PT1H
X-Robots-Tag:noindex
X-PUBLISHED-TTL:PT1H
BEGIN:VTIMEZONE
TZID:Europe/Tallinn
BEGIN:DAYLIGHT
TZOFFSETFROM:+0200
TZOFFSETTO:+0300
TZNAME:EEST
DTSTART:20230326T010000
END:DAYLIGHT
BEGIN:STANDARD
TZOFFSETFROM:+0300
TZOFFSETTO:+0200
TZNAME:EET
DTSTART:20231029T010000
END:STANDARD
BEGIN:DAYLIGHT
TZOFFSETFROM:+0200
TZOFFSETTO:+0300
TZNAME:EEST
DTSTART:20240331T010000
END:DAYLIGHT
BEGIN:STANDARD
TZOFFSETFROM:+0300
TZOFFSETTO:+0200
TZNAME:EET
DTSTART:20241027T010000
END:STANDARD
BEGIN:DAYLIGHT
TZOFFSETFROM:+0200
TZOFFSETTO:+0300
TZNAME:EEST
DTSTART:20250330T010000
END:DAYLIGHT
BEGIN:STANDARD
TZOFFSETFROM:+0300
TZOFFSETTO:+0200
TZNAME:EET
DTSTART:20251026T010000
END:STANDARD
END:VTIMEZONE
BEGIN:VEVENT
DTSTART;TZID=Europe/Tallinn:20241028T000000
DTEND;TZID=Europe/Tallinn:20241030T235959
DTSTAMP:20260421T215520
CREATED:20241002T055619Z
LAST-MODIFIED:20250106T130346Z
UID:1043-1730073600-1730332799@www.doktorikool.ee
SUMMARY:Kirjutamislaager // Writing Retreat
DESCRIPTION:/English below/ \nKirjutamislaager arsti- ja terviseteadused\, veterinaaria haru doktorantidele28.10–30.10.2024Laulasmaal (LaSpa) \nKirjutamislaagris on võimalus paari päeva jooksul keskenduda oma doktoritöö või teadusartikli kirjutamisele\, saada ja jagada tagasisidet. Osalemiseks palun täitke registreerimisvorm\, kus on vajalik esitada ka lühike motivatsioonikiri koos kirjutamislaagri jaoks püstitatud  eesmärkide ja tööplaaniga\, hiljemalt 7. oktoobril. \nKirjutamislaagris osalemiseks doktorandina täida registreerimisvorm SIIN.Juhendajatele mõeldud registreerimisvormi leiate SIIT. \nOsalejate valikul on eelistatud doktorandid\, kes: \n\nkuuluvad arsti- ja terviseteadused\, veterinaaria harusse;\npole 2024 aasta jooksul veel kirjutamislaagris osalenud;\nkes saavad osaleda kirjutamislaagris terve selle toimumise vältel.\n\nLaagrisse oodatakse osalema kuni 11 doktoranti ja juhendajat. Osalejatele on Doktorikooli poolt majutus kaheks ööks ühekohalistes tubades ja toitlustus. Transpordi kirjutamislaagrisse ja tagasi peab osaleja ise tagama. \nLisainfo: Greete Horn (greete.horn@tlu.ee) \nKirjutamislaagrit korraldab Eesti doktorikooli arsti- ja terviseteadused\, veterinaaria haru partner Tallinna Ülikool\, Loodus- ja terviseteaduste instituut. \n\nWriting Retreat for doctoral students in Medical and Health sciences\, Veterinary medicine28.–30.10.2024Laulasmaa (LaSpa) \nThe writing retreat offers an opportunity to focus on writing your doctoral thesis or scientific article for a few days\, receive and provide feedback. In order to apply\, please fill out the application form that includes a short motivational letter (goals and a working plan for the retreat)\, by 7th October at the latest. \nTo participate in the writing camp as a doctoral student\, fill out the registration form HERE.Registration form for supervisors is HERE. \nPreference in participant selection will be given to doctoral students who: \n\nwho study in the field of medical and health sciences\, veterinary medicine;\nhave not yet participated in the writing retreats of the Estonian Doctoral School in 2024;\nwho can participate in the retreat during the whole duration of the event.\n\nUp to 11 doctoral students and supervisors will be accepted for participation in the camp. Accommodation for two nights in single rooms and meals will be provided by the Doctoral School. Participants must arrange their own transportation to and from the writing camp. \nAdditional information: Greete Horn (greete.horn@tlu.ee) \nThe writing retreat is organised by Tallinn University\, a partner of the Estonian Doctoral School for medical and health sciences\, veterinary medicine.
URL:https://www.doktorikool.ee/et/uritused/kirjutamisalaager-writing-retreat/
END:VEVENT
END:VCALENDAR