BEGIN:VCALENDAR
VERSION:2.0
PRODID:-//Eesti doktorikool - ECPv6.15.20//NONSGML v1.0//EN
CALSCALE:GREGORIAN
METHOD:PUBLISH
X-ORIGINAL-URL:https://www.doktorikool.ee/et
X-WR-CALDESC:Events for Eesti doktorikool
REFRESH-INTERVAL;VALUE=DURATION:PT1H
X-Robots-Tag:noindex
X-PUBLISHED-TTL:PT1H
BEGIN:VTIMEZONE
TZID:Europe/Tallinn
BEGIN:DAYLIGHT
TZOFFSETFROM:+0200
TZOFFSETTO:+0300
TZNAME:EEST
DTSTART:20230326T010000
END:DAYLIGHT
BEGIN:STANDARD
TZOFFSETFROM:+0300
TZOFFSETTO:+0200
TZNAME:EET
DTSTART:20231029T010000
END:STANDARD
BEGIN:DAYLIGHT
TZOFFSETFROM:+0200
TZOFFSETTO:+0300
TZNAME:EEST
DTSTART:20240331T010000
END:DAYLIGHT
BEGIN:STANDARD
TZOFFSETFROM:+0300
TZOFFSETTO:+0200
TZNAME:EET
DTSTART:20241027T010000
END:STANDARD
BEGIN:DAYLIGHT
TZOFFSETFROM:+0200
TZOFFSETTO:+0300
TZNAME:EEST
DTSTART:20250330T010000
END:DAYLIGHT
BEGIN:STANDARD
TZOFFSETFROM:+0300
TZOFFSETTO:+0200
TZNAME:EET
DTSTART:20251026T010000
END:STANDARD
END:VTIMEZONE
BEGIN:VEVENT
DTSTART;TZID=Europe/Tallinn:20241103T000000
DTEND;TZID=Europe/Tallinn:20241105T235959
DTSTAMP:20260421T215532
CREATED:20241015T075819Z
LAST-MODIFIED:20250106T120226Z
UID:1468-1730592000-1730851199@www.doktorikool.ee
SUMMARY:Seminar „Opera as Imagination and Realisation 5. The Composer’s View“
DESCRIPTION:3.–5.11.2024Eesti Muusika- ja Teatriakadeemias (Tatari 13\, Tallinn) \nEesti doktorikooli humanitaarteaduste ja kunstide haru kutsub doktorante ja magistrante vaatama esietendusi ja osalema ooperiteemalistel seminaridel! \nSeminaride töökeeleks on inglise keel. \nProgramm:3.11. kell 18.00–20.00 EMTA audiovisuaalse loomingu õppejõu Einike Leppiku ja heliloomingu doktorant Fabrizio Nastari lavateoste esietendused ja järgnev vastuvõtt.Toimumiskoht: black box (2. korrusel)Registreerumine (kuni 30.10.) \n4.11. kell 10.00–20.00 ja 5.11. kell 10.00–12.00 välisekspertide ettekanded ja vestlusringid\, milles käsitletakse uute teoste loomist muusikateatris helilooja\, dramaturgi\, lavastaja ja muusikute vaatest. Seminar toimub inglise keeles.Toimumiskoht: A207Registreerumine (kuni 30.10.) \nTäpne päevakava vt SIIT\, rohkem infot EMTA kodulehel.Kontakt: Kristel Karu-Kletter\, kristel.karu-kletter@eamt.ee
URL:https://www.doktorikool.ee/et/uritused/seminar-opera-as-imagination-and-realisation-5-the-composers-view/
END:VEVENT
END:VCALENDAR