BEGIN:VCALENDAR
VERSION:2.0
PRODID:-//Eesti doktorikool - ECPv6.15.20//NONSGML v1.0//EN
CALSCALE:GREGORIAN
METHOD:PUBLISH
X-WR-CALNAME:Eesti doktorikool
X-ORIGINAL-URL:https://www.doktorikool.ee/et
X-WR-CALDESC:Events for Eesti doktorikool
REFRESH-INTERVAL;VALUE=DURATION:PT1H
X-Robots-Tag:noindex
X-PUBLISHED-TTL:PT1H
BEGIN:VTIMEZONE
TZID:Europe/Tallinn
BEGIN:DAYLIGHT
TZOFFSETFROM:+0200
TZOFFSETTO:+0300
TZNAME:EEST
DTSTART:20230326T010000
END:DAYLIGHT
BEGIN:STANDARD
TZOFFSETFROM:+0300
TZOFFSETTO:+0200
TZNAME:EET
DTSTART:20231029T010000
END:STANDARD
BEGIN:DAYLIGHT
TZOFFSETFROM:+0200
TZOFFSETTO:+0300
TZNAME:EEST
DTSTART:20240331T010000
END:DAYLIGHT
BEGIN:STANDARD
TZOFFSETFROM:+0300
TZOFFSETTO:+0200
TZNAME:EET
DTSTART:20241027T010000
END:STANDARD
BEGIN:DAYLIGHT
TZOFFSETFROM:+0200
TZOFFSETTO:+0300
TZNAME:EEST
DTSTART:20250330T010000
END:DAYLIGHT
BEGIN:STANDARD
TZOFFSETFROM:+0300
TZOFFSETTO:+0200
TZNAME:EET
DTSTART:20251026T010000
END:STANDARD
END:VTIMEZONE
BEGIN:VEVENT
DTSTART;TZID=Europe/Tallinn:20241119T000000
DTEND;TZID=Europe/Tallinn:20241121T235959
DTSTAMP:20260421T233213
CREATED:20241010T091055Z
LAST-MODIFIED:20250106T121522Z
UID:1450-1731974400-1732233599@www.doktorikool.ee
SUMMARY:Paulsoni loengud religiooniuuringutes
DESCRIPTION:19.11-21.11.2024Tartu (Lossi 3-117)  \nLoengud toimuvad inglise keeles. \nPaulsoni loenguid religiooniuuringutes korraldab Eesti Akadeemiline Usundiloo Selts koostöös Eesti doktorikooli humanitaarteaduste ja kunstide haru ning Tartu Ülikooli usuteaduskonnaga. Paulsoni loengud toimuvad kolmel järjestikusel päeval\, 19. novembrist kuni 21. novembrini. Lektoriks on religiooniuurija Catharina Raudvere\, kes on saavutanud rahvusvahelise tuntuse varasemate uurimustega Vana-Skandinaavia religioonist ja mütoloogiast kui ka uuema aja uurimustega naiste praktikatest ja sellega seonduvalt sufi traditsioonide ja praktikate rollist islamimaailmas \nRohkem informatsiooni leiab siit. \nKontaktisik: Indrek Peedu\, indrek.peedu@ut.ee \nEesti doktorikooli humanitaarteaduste ja kunstide haru.
URL:https://www.doktorikool.ee/et/uritused/paulsoni-loengud-religiooniuuringutes/
END:VEVENT
BEGIN:VEVENT
DTSTART;TZID=Europe/Tallinn:20241121T000000
DTEND;TZID=Europe/Tallinn:20241122T235959
DTSTAMP:20260421T233213
CREATED:20240930T080622Z
LAST-MODIFIED:20241203T073356Z
UID:1023-1732147200-1732319999@www.doktorikool.ee
SUMMARY:Doktorantide juhendajate koolitus: juhendajate toetamine ja arendamine // Doctoral Supervision: Research Supervisor Support & Development Programme
DESCRIPTION:Ravila 19\, Tartu (ruum 0088)kell 10.00-15.30 \nTartu Ülikooli meditsiiniteaduste valdkonna doktoriõppe keskus kutsub teid osalema kahepäevasel interaktiivsel koolitusel „Doktorantide juhendajad: juhendajate toetamine ja arendamine“\, mille eesmärk on täiustada teadustöö juhendamise praktikaid. Koolitust viib läbi dr. Janet Carton\, rahvusvaheliselt tunnustatud ekspert doktoritöö juhendamise alal ja Dublini Ülikooli Kolledži (UCD) kraadiõppe ja teadusstrateegia juht. Programm on mõeldud nii uutele kui ka kogenud doktoritöö juhendajatele meditsiini\, tervishoiu\, neuroteaduste\, farmaatsia\, spordi- ja liikumisteaduste valdkondades. \nRohkem informatsiooni koolituse kohta leiad siit. \nPalun registreeruge siin\, tähtaeg 12.11.2024. \nEesti doktorikooli arsti- ja terviseteaduste\, veterinaaria haru \n\nRavila 19\, Tartu (Room 0088)10:00-15:30 \nTartu University’s Centre for Doctoral Studies in Medicine and Sport is offering a compact two-day interactive programme „Doctoral Supervision: Research Supervisor Support & Development Programme“ designed to enhance research supervisory practices. The programme will be led by Dr. Janet Carton\, a leading expert in doctoral supervision training\, currently Head of Graduate Studies & Research Strategy at University College Dublin (UCD). This programme is suitable for both new and experienced doctoral supervisors in the fields of medicine\, health\, neurosciences\, pharmacy\, exercise\, and sport sciences. \nYou can find more information about the training here. \nPlease register here\, deadline 12 November 2024 \nEstonian Doctoral School for Medical and Health Sciences\, Veterinary Medicine
URL:https://www.doktorikool.ee/et/uritused/doktorantide-juhendajate-koolitus-juhendajate-toetamine-ja-arendamine-doctoral-supervision-research-supervisor-support-development-programme/
END:VEVENT
END:VCALENDAR