BEGIN:VCALENDAR
VERSION:2.0
PRODID:-//Eesti doktorikool - ECPv6.15.20//NONSGML v1.0//EN
CALSCALE:GREGORIAN
METHOD:PUBLISH
X-ORIGINAL-URL:https://www.doktorikool.ee/et
X-WR-CALDESC:Events for Eesti doktorikool
REFRESH-INTERVAL;VALUE=DURATION:PT1H
X-Robots-Tag:noindex
X-PUBLISHED-TTL:PT1H
BEGIN:VTIMEZONE
TZID:Europe/Tallinn
BEGIN:DAYLIGHT
TZOFFSETFROM:+0200
TZOFFSETTO:+0300
TZNAME:EEST
DTSTART:20230326T010000
END:DAYLIGHT
BEGIN:STANDARD
TZOFFSETFROM:+0300
TZOFFSETTO:+0200
TZNAME:EET
DTSTART:20231029T010000
END:STANDARD
BEGIN:DAYLIGHT
TZOFFSETFROM:+0200
TZOFFSETTO:+0300
TZNAME:EEST
DTSTART:20240331T010000
END:DAYLIGHT
BEGIN:STANDARD
TZOFFSETFROM:+0300
TZOFFSETTO:+0200
TZNAME:EET
DTSTART:20241027T010000
END:STANDARD
BEGIN:DAYLIGHT
TZOFFSETFROM:+0200
TZOFFSETTO:+0300
TZNAME:EEST
DTSTART:20250330T010000
END:DAYLIGHT
BEGIN:STANDARD
TZOFFSETFROM:+0300
TZOFFSETTO:+0200
TZNAME:EET
DTSTART:20251026T010000
END:STANDARD
END:VTIMEZONE
BEGIN:VEVENT
DTSTART;TZID=Europe/Tallinn:20241209T000000
DTEND;TZID=Europe/Tallinn:20241213T235959
DTSTAMP:20260422T030830
CREATED:20241029T090458Z
LAST-MODIFIED:20241205T124338Z
UID:1548-1733702400-1734134399@www.doktorikool.ee
SUMMARY:Kirjutamislaager
DESCRIPTION:9.-13.12.2024Tartust kuni 60km kaugusel \nArsti- ja terviseteadused\, veterinaaria haru kutsub doktorante osalema kirjutamislaagris.Kirjutamislaagris saab keskenduda oma artikli või doktoritöö kirjutamisele. Laager kestab 5 tööpäeva\, pakkudes ideaalset keskkonda eemal igapäevarutiinist ja segavatest faktoritest. Ööbimine toimub täispansions rahulikus keskkonnas  (ühesed toad\, 3-4 söögikorda päevas ja WiFi). \nKirjutamislaagri juhendajaks on professor David Arney. \nRegistreerumine: julia.jeremejeva@emu.eeOsalejate arv on piiratud! \nKüsimuste korral kirjutage julia.jeremejeva@emu.ee. \nKirjutamislaagrit korraldab Eesti doktorikooli arsti- ja terviseteadused\, veterinaaria haru partner Eesti Maaülikool.
URL:https://www.doktorikool.ee/et/uritused/kirjutamislaager-3/
END:VEVENT
END:VCALENDAR