BEGIN:VCALENDAR
VERSION:2.0
PRODID:-//Eesti doktorikool - ECPv6.15.20//NONSGML v1.0//EN
CALSCALE:GREGORIAN
METHOD:PUBLISH
X-WR-CALNAME:Eesti doktorikool
X-ORIGINAL-URL:https://www.doktorikool.ee/et
X-WR-CALDESC:Events for Eesti doktorikool
REFRESH-INTERVAL;VALUE=DURATION:PT1H
X-Robots-Tag:noindex
X-PUBLISHED-TTL:PT1H
BEGIN:VTIMEZONE
TZID:Europe/Tallinn
BEGIN:DAYLIGHT
TZOFFSETFROM:+0200
TZOFFSETTO:+0300
TZNAME:EEST
DTSTART:20240331T010000
END:DAYLIGHT
BEGIN:STANDARD
TZOFFSETFROM:+0300
TZOFFSETTO:+0200
TZNAME:EET
DTSTART:20241027T010000
END:STANDARD
BEGIN:DAYLIGHT
TZOFFSETFROM:+0200
TZOFFSETTO:+0300
TZNAME:EEST
DTSTART:20250330T010000
END:DAYLIGHT
BEGIN:STANDARD
TZOFFSETFROM:+0300
TZOFFSETTO:+0200
TZNAME:EET
DTSTART:20251026T010000
END:STANDARD
BEGIN:DAYLIGHT
TZOFFSETFROM:+0200
TZOFFSETTO:+0300
TZNAME:EEST
DTSTART:20260329T010000
END:DAYLIGHT
BEGIN:STANDARD
TZOFFSETFROM:+0300
TZOFFSETTO:+0200
TZNAME:EET
DTSTART:20261025T010000
END:STANDARD
END:VTIMEZONE
BEGIN:VEVENT
DTSTART;TZID=Europe/Tallinn:20250206T090000
DTEND;TZID=Europe/Tallinn:20250207T170000
DTSTAMP:20260422T080339
CREATED:20250127T131205Z
LAST-MODIFIED:20250127T131206Z
UID:2098-1738832400-1738947600@www.doktorikool.ee
SUMMARY:Töötuba „Akadeemiliste publikatsioonide disain: edukate ajakirjaartiklite kirjutamine“
DESCRIPTION:Tallinna Tehnikaülikooli Majandusteaduskonnas (Akadeemia tee 3\, ruum SOC-322) \n\n\n\nTöötuba pakub praktilisi tööriistu teadusartiklite kirjutamisprotsessi ja teadusartiklite enda arendamiseks\, parendamiseks. Enamus teadlasi õpib katsetades ja oma vigadest\, käesolev koolitus kiirendab seda õppimisprotsessi. Eesmärk on omandada teadusartiklite eduka kirjutamise oskusi\, hinnates ja täiustades kirjutamisoskusi läbi enda teksti analüüsi (sh selle seoste kirjanduse ning struktuuriga). Arutame publitseeritavate teadusprojektide osade üle\, analüüsime toimivat teadusartikli struktuuri\, õpime tundma sissejuhatuse\, kirjanduse ülevaate ja teadusartikli põhiliste osade edukat kirjutamist. Kogu õppeprotsessi eelduseks ja aluseks on iga osaleja enda teadusartikli mustandtekst. \n\n\n\nKoolitaja Dr Eelko Hizingh jagab oma rikkalikku publitseerimiskogemust innustaval viisil. Ta on teadusartikleid aktiivselt publitseerinud ligi 40 aastat ning on kõrgetasemeline teadlane. Kokku on ta avaldanud üle 500 publikatsiooni\, sh mitmeid teadusartikleid akadeemilistes tippajakirjades. Ta töötab osakoormusega tunnustatud Groningeni Ülikoolis (Hollandis)\, to on olnud ISPIM (Professionaalse Innovatsioonijuhtimise Rahvusvahelise Assotsiatsiooni) teadusvaldkonna asepresident. Täpsem info: “www.hacademic.com” \n\n\n\nTöötuba on suunatud doktorantidele-nooremteaduritele\, kes soovivad kirjutada läbiviidud uuringu põhjal teadusartikli ja kellel on sellest olemas vähemalt mustandversioon. Sellega töötame töötoa käigus. Palume osalejatel koolitusele kaasa võtta oma sülearvuti. \n\n\n\nTöötuba toimub inglise keeles. Vajalik on täiendav iseseisev töö enda akadeemilise publikatsiooni / selle mustandiga\, mida kasutatakse töötoa vältel. Mõlemal koolituspäeval pakume 2 kerget kohvi-teepausi (kell 10.00 ja kella 15 paiku). Lõuna (kella 12 paiku) organiseerib iga osaleja ise oma kuludega (SOC hoones ja mujal kampuses leidub mitmeid söögikohti). \n\n\n\nRegistreerimine toimub SIIN. Registreerimistähtaeg on 30.01.2025. \n\n\n\nMaksimaalne osalejate arv on 14. Ülejäänud registreerunud jäävad ootenimekirja ja neid informeeritakse niipea\, kui koolituskohti vabaneb. \n\n\n\nLisainfo: \n\n\n\nSisulised küsimused: Professor Mari-Klara Stein mari-klara.stein@taltech.eeKorralduslikud küsimused: Koidu Saia koidu.saia@taltech.ee \n\n\n\nEesti doktorikooli Sotsiaalteaduste haru\, Tallinna Tehnikaülikool
URL:https://www.doktorikool.ee/et/uritused/tootuba-akadeemiliste-publikatsioonide-disain-edukate-ajakirjaartiklite-kirjutamine/
END:VEVENT
BEGIN:VEVENT
DTSTART;TZID=Europe/Tallinn:20250206T130000
DTEND;TZID=Europe/Tallinn:20250207T140000
DTSTAMP:20260422T080339
CREATED:20250110T123156Z
LAST-MODIFIED:20250110T123157Z
UID:2020-1738846800-1738936800@www.doktorikool.ee
SUMMARY:Projektijuhtimise koolitus humanitaarteaduste doktorantidele ja alustavatele teadlastele
DESCRIPTION:06.02.2025 Ülikooli 18-13907.02.2025 Jakobi 2-438 \n\n\n\nMEDAL-i (Methodological Excellence in Data-Driven Approaches to Linguistics) konsortsium koos Eesti doktorikooli humanitaarteaduste ja kunstide haruga korraldab humanitaarteaduste doktorantidele ja alustavatele teadlastele suunatud projektijuhtimise koolituse. Koolitajad on Gea Kammer ja Taavi Tamberg Tartu Ülikooli Pärnu kolledžist. \n\n\n\nKoolitusel saab teadmisi projektijuhtimise põhialustest – vastutuse ja rollide jaotamine\, projekti juhtimine\, meeskonnatöö\, konfliktide lahendamine ning töökultuur ja väärtused. Erilist rõhku pannakse ka mitmekesiste ja hajusmeeskondade koostööle ning töövahenditele\, mis teevad projektijuhtimise sujuvamaks. \n\n\n\nÜrituse töökeel on eesti keel ja üritus toimub Tartus. \n\n\n\n\nAjakava\nNeljapäev\, 6. veebruar \n\n\n\nToimumiskoht: Ülikooli 18-139 \n\n\n\n13:00 – 13:15    Kogunemine \n\n\n\n13:15 – 15:00    Põhialused: protsessid\, etapid\, meetodid \n\n\n\n15:00 – 15:15    Kohvipaus \n\n\n\n15:15 – 16:45    Vastutus\, rollid\, tulemuslikkus \n\n\n\n17:00                   Lõpetamine \n\n\n\nReede\, 7. veebruar \n\n\n\nToimumiskoht: Jakobi 2-438 \n\n\n\n9:00 – 9:15         Kogunemine \n\n\n\n9:15-11:00          Hajusmeeskonnad\, koostöö ja töövahendid  \n\n\n\n11:00-11:15        Kohvipaus \n\n\n\n11:15-13:45        Töökultuur\, väärtused\, konfliktide lahendamine \n\n\n\n14:00                   Lõpetamine \n\n\n\n\n\n \n\n\n\nRegistreeru koolitusele siin! \n\n\n\nKoolitusel saab osaleda kuni 40 osalejat vastavalt registreerimise järjekorrale. \n\n\n\nKontaktisik: Taavi Vanaveski\, taavi.vanaveski@ut.ee \n\n\n\nEesti doktorikooli humanitaarteaduste ja kunstide haru 
URL:https://www.doktorikool.ee/et/uritused/projektijuhtimise-koolitus-humanitaarteaduste-doktorantidele-ja-alustavatele-teadlastele/
END:VEVENT
BEGIN:VEVENT
DTSTART;TZID=Europe/Tallinn:20250207T100000
DTEND;TZID=Europe/Tallinn:20250207T113000
DTSTAMP:20260422T080339
CREATED:20250113T085050Z
LAST-MODIFIED:20250113T095248Z
UID:2025-1738922400-1738927800@www.doktorikool.ee
SUMMARY:Juhendajate kohvihommik
DESCRIPTION:Loovuurimusest ja selle juhendamisest \n\n\n\n7. veebruar 10-11.30Veebis (Teams) \n\n\n\nThis event is held in Estonian.  \n\n\n\nJuhendajate kohvihommikul tutvustavad loovuurimuslike doktoritööde ülesehitust ja eripärasid oma kogemustele tuginedes EMTA muusikaajaloo professor ja doktoriõppe keskuse juhataja Kristel Pappel ning EKA kunsti ja disaini eriala doktoriõppekava juht\, teadur Jaana Päeva. \n\n\n\nEesti Muusika- ja Teatriakadeemias ning Eesti Kunstiakadeemias on üle veerandsaja aasta tegeldud loovuurimusega (ingl k artistic research\, practice-based research\, practice-led research jne)\, mõnda aega tagasi lõpetasid esimesed doktorikraadiga loovuurijad ka Tallinna Ülikooli Balti filmi\, meedia ja kunstide instituudi. \n\n\n\nVeerandsajandi jooksul on arusaam loovuurimusest muutunud ja täienenud\, järjest rohkem Euroopa kunstiõppeasutusi on välja töötanud loovuurimuslikud doktoriõppekavad. Neid ühendavad teatud üldpõhimõtted\, mis aga võimaldavad eri vorme ja lähenemisi. Sellest tekkis loovuurimust viljevates Eesti ülikoolides vajadus ühtlustada loovuurimuse mõistet  ning 2021. aastal valmis EKA\, EMTA ja TLÜ BFM-i ühistöös Eesti loovuurimuse raamlepe. Vt https://eamt.ee/wp-content/uploads/2021/06/Eesti-loovuurimuse-raamlepe-1.pdf. \n\n\n\nKa loovuurimuslike doktoritööde juhendamise tavad võivad ülikooliti mõningal määral erineda\, kuid peamised nõuded ja tegevused on sarnased. \n\n\n\nRegistreerimine SIIN. Palume juhendajate kohvihommikule registreeruda hiljemalt 05. veebruariks 2025. \n\n\n\nRegistreerunutele saadetakse Teams’i link meilile. \n\n\n\nKontakt: Kristel Pappel\, kristel.pappel@eamt.ee \n\n\n\nEesti doktorikooli ühisüritus
URL:https://www.doktorikool.ee/et/uritused/juhendajate-kohvihommik-3/
END:VEVENT
END:VCALENDAR