BEGIN:VCALENDAR
VERSION:2.0
PRODID:-//Eesti doktorikool - ECPv6.15.20//NONSGML v1.0//EN
CALSCALE:GREGORIAN
METHOD:PUBLISH
X-WR-CALNAME:Eesti doktorikool
X-ORIGINAL-URL:https://www.doktorikool.ee/et
X-WR-CALDESC:Events for Eesti doktorikool
REFRESH-INTERVAL;VALUE=DURATION:PT1H
X-Robots-Tag:noindex
X-PUBLISHED-TTL:PT1H
BEGIN:VTIMEZONE
TZID:Europe/Tallinn
BEGIN:DAYLIGHT
TZOFFSETFROM:+0200
TZOFFSETTO:+0300
TZNAME:EEST
DTSTART:20240331T010000
END:DAYLIGHT
BEGIN:STANDARD
TZOFFSETFROM:+0300
TZOFFSETTO:+0200
TZNAME:EET
DTSTART:20241027T010000
END:STANDARD
BEGIN:DAYLIGHT
TZOFFSETFROM:+0200
TZOFFSETTO:+0300
TZNAME:EEST
DTSTART:20250330T010000
END:DAYLIGHT
BEGIN:STANDARD
TZOFFSETFROM:+0300
TZOFFSETTO:+0200
TZNAME:EET
DTSTART:20251026T010000
END:STANDARD
BEGIN:DAYLIGHT
TZOFFSETFROM:+0200
TZOFFSETTO:+0300
TZNAME:EEST
DTSTART:20260329T010000
END:DAYLIGHT
BEGIN:STANDARD
TZOFFSETFROM:+0300
TZOFFSETTO:+0200
TZNAME:EET
DTSTART:20261025T010000
END:STANDARD
END:VTIMEZONE
BEGIN:VEVENT
DTSTART;TZID=Europe/Tallinn:20250210T090000
DTEND;TZID=Europe/Tallinn:20250210T160000
DTSTAMP:20260422T080403
CREATED:20250123T090950Z
LAST-MODIFIED:20250123T091008Z
UID:2079-1739178000-1739203200@www.doktorikool.ee
SUMMARY:Koolitus „Kuidas anda teleintervjuud?“
DESCRIPTION:This workshop is held in Estonian.10.02.2025Tartu (Jakobi 2-114) \n\n\n\nOma teadustöö tutvustamisel tuleb aegajalt ikka ette olukordi\, mil tuleb seista kaamera ees. Mida ootab kõnelejalt ajakirjanik ja kuidas intervjuuks valmistuda? Kuidas saavutada soovitud mõju ja vaataja jaoks köitev lõpptulemus? Oskus kaamera ees hästi rääkida tuleb kasuks meediakanalitele kommentaare andes\, intervjuusaadetes rääkides või teadust populariseerivates videotes esinedes. Lisaks sellele aga teeb see lihtsamaks ka näiteks oma kursustele videoloengute ette valmistamise või konverentsidel ja nende paneeldiskussioonides esinemise. \n\n\n\nEesti doktorikooli humanitaarteaduste ja kunstide haru ootab juhendajaid ja doktorante 10. veebruaril 2025 kell 9-16 põhjalikule koolituspäevale „Kuidas anda teleintervjuud?“ (Jakobi 2-114\, Tartu)\, kus õpime läbi praktiliste harjutuste intervjuudeks ette valmistuma ja hästi kaamera ees esinema. Koolituse viib läbi teleajakirjanduse õppejõud Brit Laak\, kes igapäevaselt õpetab kaamera ees intervjueerima tulevasi ajakirjanikke. Koolitus eeldab osalemist kogu päeva jooksul. Koolitusel toimub õppe-eesmärgil harjutuste salvestamine\, ent salvestused kustutatakse pärast koolituse lõppu. \n\n\n\nGruppi mahub kuni 10 inimest\, võimalust pakutakse registreerumise järjekorras. \n\n\n\nRegistreeri end koolitusele SIIN. \n\n\n\nKontakt: Eva-Kaia Vabamäe\, eva-kaia.vabamae@ut.ee \n\n\n\nEesti doktorikooli humanitaarteaduste ja kunstide haru.
URL:https://www.doktorikool.ee/et/uritused/koolitus-kuidas-anda-teleintervjuud-2/
END:VEVENT
BEGIN:VEVENT
DTSTART;TZID=Europe/Tallinn:20250210T101500
DTEND;TZID=Europe/Tallinn:20250210T114500
DTSTAMP:20260422T080403
CREATED:20250129T115855Z
LAST-MODIFIED:20250129T122101Z
UID:2104-1739182500-1739187900@www.doktorikool.ee
SUMMARY:Dr.Jozef Johannes Maria van der Steen loeng
DESCRIPTION:Kreutzwaldi 5-D239\, Tartu\, EMÜ \n\n\n\nDr. Jozef Johannes Maria van der Steen peab loengu biomonitooringust\, keskendudes mesilasperede abil tehtavale biomonitooringule. Loeng on avalik ja suunata kõikide harude doktorantidele. \n\n\n\nDr. Jozef Johannes Maria van der Steen \n\n\n\nDr. Jozef Johannes Maria van der SteenLaadi alla\n\n\n\nKontakt: Kristel Kirsimäe\, kristel.kirsimae@emu.ee \n\n\n\nEesti doktorikooli loodusteaduste ja põllumajandusteaduste haru.
URL:https://www.doktorikool.ee/et/uritused/dr-jozef-johannes-maria-van-der-steen-loeng/
END:VEVENT
END:VCALENDAR