BEGIN:VCALENDAR
VERSION:2.0
PRODID:-//Eesti doktorikool - ECPv6.15.20//NONSGML v1.0//EN
CALSCALE:GREGORIAN
METHOD:PUBLISH
X-ORIGINAL-URL:https://www.doktorikool.ee/et
X-WR-CALDESC:Events for Eesti doktorikool
REFRESH-INTERVAL;VALUE=DURATION:PT1H
X-Robots-Tag:noindex
X-PUBLISHED-TTL:PT1H
BEGIN:VTIMEZONE
TZID:Europe/Tallinn
BEGIN:DAYLIGHT
TZOFFSETFROM:+0200
TZOFFSETTO:+0300
TZNAME:EEST
DTSTART:20240331T010000
END:DAYLIGHT
BEGIN:STANDARD
TZOFFSETFROM:+0300
TZOFFSETTO:+0200
TZNAME:EET
DTSTART:20241027T010000
END:STANDARD
BEGIN:DAYLIGHT
TZOFFSETFROM:+0200
TZOFFSETTO:+0300
TZNAME:EEST
DTSTART:20250330T010000
END:DAYLIGHT
BEGIN:STANDARD
TZOFFSETFROM:+0300
TZOFFSETTO:+0200
TZNAME:EET
DTSTART:20251026T010000
END:STANDARD
BEGIN:DAYLIGHT
TZOFFSETFROM:+0200
TZOFFSETTO:+0300
TZNAME:EEST
DTSTART:20260329T010000
END:DAYLIGHT
BEGIN:STANDARD
TZOFFSETFROM:+0300
TZOFFSETTO:+0200
TZNAME:EET
DTSTART:20261025T010000
END:STANDARD
END:VTIMEZONE
BEGIN:VEVENT
DTSTART;TZID=Europe/Tallinn:20250313T000000
DTEND;TZID=Europe/Tallinn:20250316T235959
DTSTAMP:20260422T130232
CREATED:20250225T183517Z
LAST-MODIFIED:20250225T183518Z
UID:2282-1741824000-1742169599@www.doktorikool.ee
SUMMARY:Kirjutamislaager
DESCRIPTION:Võrus\, Kubija hotell ja loodusspaas \n\n\n\nEesti doktorikooli humanitaarteaduste ja kunstide haru kutsub doktorantide ja nende juhendajaid kirjutamislaagrisse. \n\n\n\nKirjutamislaagris on võimalik keskenduda oma doktoritöö või teadusartikli kirjutamisele. Selle eesmärgil on osalejate kasutada seminariruumid. Lisavõimalusena erinevad kirjutamist toetavad töötoad ja (individuaal)konsultatsioonid. \n\n\n\nRegistreerimine SIIN. Registreerimise tähtaeg on 02. märts 2025. \n\n\n\nKirjutamislaagrisse võetakse vastu 23 osalejat. \n\n\n\nOsalejate valikul on eelistatud: \n\n\n\n\nhumanitaarteaduste ja kunstide valdkonna doktorandid;\n\n\n\ndoktorandid kes saavad osaleda laagris kogu ürituse perioodi ning ei ole viimase aasta jooksul kirjutamislaagris osalenud;\n\n\n\ndoktorandid\, kellel on selge ja läbimõeldud tööplaan.\n\n\n\n\nKontakt: Lii Lang\, lii.lang@ut.ee \n\n\n\nEesti doktorikooli humanitaarteaduste ja kunstide haru.
URL:https://www.doktorikool.ee/et/uritused/kirjutamislaager-8/
END:VEVENT
BEGIN:VEVENT
DTSTART;TZID=Europe/Tallinn:20250314T110000
DTEND;TZID=Europe/Tallinn:20250314T130000
DTSTAMP:20260422T130232
CREATED:20250305T105313Z
LAST-MODIFIED:20250305T105314Z
UID:2454-1741950000-1741957200@www.doktorikool.ee
SUMMARY:Doktoriõppe teekond terviseteadustes: karjääri kujundamine
DESCRIPTION:Puusepa 1A\, ruum 3067 ja veebis \n\n\n\nOodatud on doktoriõppe üliõpilased terviseteadustes (õendus\, füsioteraapia jne.) \n\n\n\nLoengus räägitakse doktorantuuri ajal ja pärast doktorikraadi kaitsmist toimuvast karjääriteekonnast\, arutlev loeng arstiteaduskonna perearstiteaduse ja rahvatervishoiu instituudi doktorantidega. \n\n\n\nLoengut viib läbi Sanna Salanterä\, Turu Ülikool\, Soome. \n\n\n\nKontakt: Mari Kangasniemi\, Peremeditsiini ja rahvatervishoiu instituut\, mari.kangasniemi@ut.ee \n\n\n\nVeebis osalejatele  \nLiitu Zoomi koosolekugahttps://ut-ee.zoom.us/j/97433834312?pwd=bMAlq5ajJD74IkiTsf8MomgQsV4JNe.1 \n\n\n\nMeeting ID: 974 3383 4312Passcode: 986641 \n\n\n\n\nEesti doktorikooli arsti- ja tervisteaduste\, veterinaaria haru.
URL:https://www.doktorikool.ee/et/uritused/doktorioppe-teekond-terviseteadustes-karjaari-kujundamine/
END:VEVENT
END:VCALENDAR