BEGIN:VCALENDAR
VERSION:2.0
PRODID:-//Eesti doktorikool - ECPv6.15.20//NONSGML v1.0//EN
CALSCALE:GREGORIAN
METHOD:PUBLISH
X-WR-CALNAME:Eesti doktorikool
X-ORIGINAL-URL:https://www.doktorikool.ee/et
X-WR-CALDESC:Events for Eesti doktorikool
REFRESH-INTERVAL;VALUE=DURATION:PT1H
X-Robots-Tag:noindex
X-PUBLISHED-TTL:PT1H
BEGIN:VTIMEZONE
TZID:Europe/Tallinn
BEGIN:DAYLIGHT
TZOFFSETFROM:+0200
TZOFFSETTO:+0300
TZNAME:EEST
DTSTART:20240331T010000
END:DAYLIGHT
BEGIN:STANDARD
TZOFFSETFROM:+0300
TZOFFSETTO:+0200
TZNAME:EET
DTSTART:20241027T010000
END:STANDARD
BEGIN:DAYLIGHT
TZOFFSETFROM:+0200
TZOFFSETTO:+0300
TZNAME:EEST
DTSTART:20250330T010000
END:DAYLIGHT
BEGIN:STANDARD
TZOFFSETFROM:+0300
TZOFFSETTO:+0200
TZNAME:EET
DTSTART:20251026T010000
END:STANDARD
BEGIN:DAYLIGHT
TZOFFSETFROM:+0200
TZOFFSETTO:+0300
TZNAME:EEST
DTSTART:20260329T010000
END:DAYLIGHT
BEGIN:STANDARD
TZOFFSETFROM:+0300
TZOFFSETTO:+0200
TZNAME:EET
DTSTART:20261025T010000
END:STANDARD
END:VTIMEZONE
BEGIN:VEVENT
DTSTART;TZID=Europe/Tallinn:20250421T000000
DTEND;TZID=Europe/Tallinn:20250424T235959
DTSTAMP:20260422T182403
CREATED:20250401T112245Z
LAST-MODIFIED:20250401T112248Z
UID:2749-1745193600-1745539199@www.doktorikool.ee
SUMMARY:Kirjutamislaager
DESCRIPTION:Ruunawere Hotellis \n\n\n\nKirjutamislaagris on võimalus paari päeva jooksul keskenduda oma doktoritöö või teadusartikli kirjutamisele\, saada ja jagada tagasisidet ning juhendamist. Kirjutamislaagri juhendajad on Eve Kikas ja Kristjan Kask Tallinna Ülikooli Loodusteaduste instituudist. \n\n\n\nOsalemiseks palun täitke sooviavaldus siin ning saatke motivatsioonikiri koos juhendajaga kooskõlastatud kirjutamislaagri tööplaaniga aadressile eva.valdna@tlu.ee hiljemalt 10. aprilliks. \n\n\n\nMotivatsioonikirja ja tööplaani juures hinnatakse \n\n\n\n\nplaani läbimõeldust ja teostatavust (40%)\n\n\n\neeldatavat mõju doktoritöö valmimisele (40%)\n\n\n\nmotiveeritust just selles kirjutamislaagris osaleda (20%).\n\n\n\n\nLaagrisse võetakse osalema kuni 13 doktoranti.  \n\n\n\nOsalejatele on doktorikooli poolt majutus ühekohalistes tubades ja toitlustus. Transpordi kirjutamislaagrisse ja tagasi peab osaleja ise tagama. \n\n\n\nKontakt: Eva Valdna\, eva.valdna@tlu.ee. \n\n\n\nEesti doktorikooli sotsiaalteaduste haru.
URL:https://www.doktorikool.ee/et/uritused/kirjutamislaager-10/
END:VEVENT
BEGIN:VEVENT
DTSTART;TZID=Europe/Tallinn:20250423T100000
DTEND;TZID=Europe/Tallinn:20250423T140000
DTSTAMP:20260422T182403
CREATED:20250314T103435Z
LAST-MODIFIED:20250314T103436Z
UID:2628-1745402400-1745416800@www.doktorikool.ee
SUMMARY:Noore teadlase targad valikud teaduses: indikaatorid\, nähtavus ja eristumine
DESCRIPTION:This training is held in Estonian. \n\n\n\nTartu Ülikoolis\, Ülikooli 18-140\, Tartu \n\n\n\nKoolitus on mõeldud kõikide valdkondade doktorantidele. \n\n\n\nKoolitus keskendub teadusallikate kriitilisele hindamisele\, bibliomeetriliste indikaatorite kasutamisele ja teadustöö nähtavuse suurendamisele akadeemilises keskkonnas. \n\n\n\nEsimeses osas käsitleme teadusmeetriat ja bibliomeetriat\, tutvustame peamisi indikaatoreid ning andmebaase (ETIS\, ORCID\, Web of Science\, Scopus\, Google Scholar). Arutleme\, mis on nn predatory journal ja kuidas neid vältida ning vaatleme\, kuidas teadustööd vormistada\, et maksimeerida selle nähtavust. \n\n\n\nTeine osa on praktiline ning keskendub teadustöö positsioneerimisele ja eristumisele akadeemilises keskkonnas. Uurime\, kuidas andmebaasid omavahel seotud on ja kuidas ennetada andmeprobleeme. Samuti harjutame kõrgetasemeliste ajakirjade leidmist ja teadustöö avaldamiseks sobiva väljaande valimist. \n\n\n\nKoolitust viib läbi Kalmer Lauk. Kalmer on Tartu Ülikooli grandikeskuse teadus-arendustegevuse analüütik. Ta tegeleb teadus- ja arendustegevuse statistika kogumise\, analüüsi ja esitlemisega ning administreerib teadusrahastuse andmebaasi Pivot-RP. Kalmer on avaldanud mitmeid kirjutisi Tartu Ülikooli teadlaste publitseerimisesest maailma tippajakirjades ja ka nende edukusest teadusrahastuse maailmas. \n\n\n\nRegistreeri SIIN. Registreerimise tähtaeg on 21. aprill 2025. \n\n\n\nOsalejate piirarv on 40. Kui registreerujaid on piirarvust enam\, hindavad korraldajad ülikoolide esindatust. \n\n\n\nKontakt: Jekaterina Bossenko\, jekaterina.bossenko@ut.ee \n\n\n\nEesti doktorikooli ühisüritus.
URL:https://www.doktorikool.ee/et/uritused/noore-teadlase-targad-valikud-teaduses-indikaatorid-nahtavus-ja-eristumine/
END:VEVENT
END:VCALENDAR