BEGIN:VCALENDAR
VERSION:2.0
PRODID:-//Eesti doktorikool - ECPv6.15.20//NONSGML v1.0//EN
CALSCALE:GREGORIAN
METHOD:PUBLISH
X-WR-CALNAME:Eesti doktorikool
X-ORIGINAL-URL:https://www.doktorikool.ee/et
X-WR-CALDESC:Events for Eesti doktorikool
REFRESH-INTERVAL;VALUE=DURATION:PT1H
X-Robots-Tag:noindex
X-PUBLISHED-TTL:PT1H
BEGIN:VTIMEZONE
TZID:Europe/Tallinn
BEGIN:DAYLIGHT
TZOFFSETFROM:+0200
TZOFFSETTO:+0300
TZNAME:EEST
DTSTART:20240331T010000
END:DAYLIGHT
BEGIN:STANDARD
TZOFFSETFROM:+0300
TZOFFSETTO:+0200
TZNAME:EET
DTSTART:20241027T010000
END:STANDARD
BEGIN:DAYLIGHT
TZOFFSETFROM:+0200
TZOFFSETTO:+0300
TZNAME:EEST
DTSTART:20250330T010000
END:DAYLIGHT
BEGIN:STANDARD
TZOFFSETFROM:+0300
TZOFFSETTO:+0200
TZNAME:EET
DTSTART:20251026T010000
END:STANDARD
BEGIN:DAYLIGHT
TZOFFSETFROM:+0200
TZOFFSETTO:+0300
TZNAME:EEST
DTSTART:20260329T010000
END:DAYLIGHT
BEGIN:STANDARD
TZOFFSETFROM:+0300
TZOFFSETTO:+0200
TZNAME:EET
DTSTART:20261025T010000
END:STANDARD
END:VTIMEZONE
BEGIN:VEVENT
DTSTART;TZID=Europe/Tallinn:20250609T000000
DTEND;TZID=Europe/Tallinn:20250610T235959
DTSTAMP:20260422T220515
CREATED:20250429T094304Z
LAST-MODIFIED:20250506T083335Z
UID:3026-1749427200-1749599999@www.doktorikool.ee
SUMMARY:Konverents "Ribosoomid ja antibiootikumid"
DESCRIPTION:Tartu\, V-Spa konverentsikeskus \n\n\n\nTartu Ülikooli tehnoloogiainstituudi poolt korraldatav konverents\, millest võtavad osa Tartu Ülikooli\, Tallinna Tehnikaülikooli ja Eesti Maaülikooli doktorandid ja teadurid. \n\n\n\nKonverents koondab kokku oma ala tippspetsialiste ülemaailmselt nii erasektorist kui ka akadeemilisest sfäärist ribosoomide ja antibiootikumide alal\, ühendades seeläbi teadust ning selle ärilist rakendust. Osalemine võimaldab Eesti doktorantidel kuulata ekspertide ettekandeid ning end seeläbi erialaselt täiendada. \n\n\n\n📌 Esinejad \n›› Daniel Wilson\, Hamburg University\, Germany›› Nora-Vazques-Laslop\, University of Illinois at Chicago\, USA›› Nassos Typas\, European Molecular Biology Laboratory›› Yury Polikanov\, University of Illinois at Chicago\, USA›› Stefano Pagliara\, University of Exeter\, UK›› Alexander Mankin\, University of Illinois at Chicago\, USA›› Susanne Häussler\, Helmholtz Centre for Infection Research\, Germany and \, Copenhagen University Hospital\, Denmark›› Vasili Hauryliuk\, Lund University\, Sweden›› Abel Garcia-Pino\, Université Libre de Bruxelles\, Belgium›› Stefano Donadio\, NAICONS SRL\, Italy›› Dirk Bumann\, Basel University\, Switzerland›› Marcin Nowotny\, International Institute of Molecular and Cell Biology in Warsaw\, Poland›› Suparna Sanyal\, Uppsala University\, Sweden›› Maria Selmer\, Uppsala University\, Sweden›› Daniel Larsson\, Uppsala University\, Sweden›› Hedvig Tamman\, University of Tartu›› Jaanus Remme\, University of Tartu›› Tanel Tenson\, University of Tartu  \n\n\n\nPS! Esinejate teemad koos ajakavaga avalikustatakse mai alguses. \n\n\n\n\nAjakavaLaadi alla\n\n\n\n📌 Info registreerimisest: \n\n\n\nKonverentsil osalemine on tasuta ning hõlmab endas järgnevaid võimalusi: \n\n\n\n\nKõigi ettekannete kuulamine.\n\n\n\nKohvipausid.\n\n\n\nSeltskondlik üritus koos transpordiga asukohta-\n\n\n\n\nPS! Majutus\, transport Tartusse ja teised toidukorrad on osalejate enda kanda. \n\n\n\nRegistreeri konverentsile SIIN. Registreerimise tähtaeg on 27. mai 2025\, kell 23.59. \n\n\n\nLäbiviija on Tartu Ülikooli tehnoloogiainstituut\, milles läbiviidav teadustöö koondub järgmiste põhivaldkondade alla: biomeditsiinitehnoloogia\, keskkonnatehnoloogia\, materjaliteadus ja robootika\, masinnägemine ja tehisintellekt ning materjalid ekstreemsetes keskkonnatingimustes. \n\n\n\nKontakt: Kristiina Vind\, ravimiarenduse teadur (kristiina.vind@ut.ee) \n\n\n\nEesti doktorikooli tehnika ja tehnoloogia haru.
URL:https://www.doktorikool.ee/et/uritused/ribosoomid-ja-antibiootikumid/
END:VEVENT
BEGIN:VEVENT
DTSTART;TZID=Europe/Tallinn:20250610T100000
DTEND;TZID=Europe/Tallinn:20250610T104500
DTSTAMP:20260422T220515
CREATED:20250522T121032Z
LAST-MODIFIED:20250609T063821Z
UID:3105-1749549600-1749552300@www.doktorikool.ee
SUMMARY:Professor Tomi Rantamäki külalisseminar: „Naerugaas kui vahend kiirete antidepressantsete mõjude uurimiseks“
DESCRIPTION:Tartu Ülikooli Biomeedikumis (Ravila 19\, Tartu)\, ruum 0088 \n\n\n\nSeminar toimub inglise keeles \n\n\n\nSeminar keskendub kiiretoimeliste antidepressantide neurobioloogilistele mehhanismidele ning ENCORE-D hüpoteesile\, mis seob ajukoore erutust\, unelaadseid seisundeid ja TrkB signalisatsiooni. Seminar käsitleb ka mitokondrite ja metaboolsete häirete valdkonda ning ravimiarendust. \n\n\n\nKõnelejaks on Professor Tomi Rantamäki\, PhD\, Principal Investigator\, Laboratory of Neurotherapeutics\, Drug Research Program\, Division of Pharmacology and Pharmacotherapy\, Faculty of Pharmacy and sleepWell Research Program\, Faculty of Medicine\, University of Helsinki\, Finland \n\n\n\nKokkuvõte \nDr. Rantamäki and his team investigates neurobiological mechanisms of rapid-acting antidepressants. Latest results from his lab suggest that rapid-acting antidepressant drugs\, such as ketamine and nitrous oxide\, share the ability to acutely excite cortical networks. This “pharmacological challenge” evokes homeostatic emergence of slow EEG activity (SWA) and other characteristic features of deep sleep such as reduced brain energy expenditure and drop in the body temperature. Importantly\, key molecular signaling mechanisms\, most notably activation of TrkB neurotrophin receptors\, become specifically regulated in the cortex after the acute pharmacological effects of the drugs dissipate and body temperature drops. Remarkably\, maintaining normothermia abolishes drug-induced TrkB activation and ameliorates antidepressant-like behavior responses in rodents. Dr. Rantamäki will present his recently formulated hypothesis called ENCORE-D (encoding\, consolidation and renormalization in depression) that explains rapid and sustained antidepressant drug effects beyond the principles of conventional receptor pharmacology. Neurobiology of sleep is at the very center of this hypothesis. \n\n\n\n\nEesti doktorikooli arsti- ja terviseteaduste\, veterinaaria haru.
URL:https://www.doktorikool.ee/et/uritused/professor-tomi-rantamagi-kulalisseminar-naerugaas-kui-vahend-kiirete-antidepressantsete-mojude-uurimiseks/
END:VEVENT
END:VCALENDAR