BEGIN:VCALENDAR
VERSION:2.0
PRODID:-//Eesti doktorikool - ECPv6.15.20//NONSGML v1.0//EN
CALSCALE:GREGORIAN
METHOD:PUBLISH
X-ORIGINAL-URL:https://www.doktorikool.ee/et
X-WR-CALDESC:Events for Eesti doktorikool
REFRESH-INTERVAL;VALUE=DURATION:PT1H
X-Robots-Tag:noindex
X-PUBLISHED-TTL:PT1H
BEGIN:VTIMEZONE
TZID:Europe/Tallinn
BEGIN:DAYLIGHT
TZOFFSETFROM:+0200
TZOFFSETTO:+0300
TZNAME:EEST
DTSTART:20240331T010000
END:DAYLIGHT
BEGIN:STANDARD
TZOFFSETFROM:+0300
TZOFFSETTO:+0200
TZNAME:EET
DTSTART:20241027T010000
END:STANDARD
BEGIN:DAYLIGHT
TZOFFSETFROM:+0200
TZOFFSETTO:+0300
TZNAME:EEST
DTSTART:20250330T010000
END:DAYLIGHT
BEGIN:STANDARD
TZOFFSETFROM:+0300
TZOFFSETTO:+0200
TZNAME:EET
DTSTART:20251026T010000
END:STANDARD
BEGIN:DAYLIGHT
TZOFFSETFROM:+0200
TZOFFSETTO:+0300
TZNAME:EEST
DTSTART:20260329T010000
END:DAYLIGHT
BEGIN:STANDARD
TZOFFSETFROM:+0300
TZOFFSETTO:+0200
TZNAME:EET
DTSTART:20261025T010000
END:STANDARD
END:VTIMEZONE
BEGIN:VEVENT
DTSTART;TZID=Europe/Tallinn:20250826T100000
DTEND;TZID=Europe/Tallinn:20250826T120000
DTSTAMP:20260422T224050
CREATED:20250822T075150Z
LAST-MODIFIED:20250822T075151Z
UID:3317-1756202400-1756209600@www.doktorikool.ee
SUMMARY:„Future insights in patient safety: Text-mining and artificial intelligence for analysing medication administration errors“
DESCRIPTION:@ Puusepa 1a-3054\, and online \n\n\n\nFuture Insights in Patient Safety: Text-Mining and Artificial Intelligence for Analysing Medication Administration Errors is a hybrid event (held both physically and online) aimed at PhD students in health sciences\, including nursing science\, physiotherapy\, and related fields. The session will explore how artificial intelligence and text-mining techniques can be used to identify and analyse medication administration errors\, offering innovative approaches to improving patient safety. The event will be conducted in English. \n\n\n\nThe facilitator is Marja Härkänen (PhD)\, Faculty of Health Sciences\, University of Eastern Finland (UEF). \n\n\n\nJoin the online meeting here. \n\n\n\nIn case of questions\, please turn to Mari Kangasniemi\, mari.kangasniemi@ut.ee\, Institute of Family Medicine and Public Health. \n\n\n\nEstonian Doctoral School for Medical and Health Sciences\, Veterinary Medicine.
URL:https://www.doktorikool.ee/et/uritused/future-insights-in-patient-safety-text-mining-and-artificial-intelligence-for-analysing-medication-administration-errors/
END:VEVENT
BEGIN:VEVENT
DTSTART;TZID=Europe/Tallinn:20250826T120000
DTEND;TZID=Europe/Tallinn:20250826T130000
DTSTAMP:20260422T224050
CREATED:20250819T123053Z
LAST-MODIFIED:20250819T123054Z
UID:3312-1756209600-1756213200@www.doktorikool.ee
SUMMARY:Mitokondriaalsete haiguste keerukuse dekodeerimine multi-omika ja tehisintellekti abil
DESCRIPTION:@ Ruum 1024 (Ravila 19\, Biomeedikum\, Tartu) \n\n\n\nLoeng on avatud kõikide valdkonna doktorantidele. \n\n\n\nProfessor Silvia Bottini avalik loeng teemal\, kuidas multi-omics andmete ja tehisintellekti integreerimine aitab analüüsida mitokondriaalsete haiguste keerukust. Loeng on inglise keeles. \n\n\n\nSilvia Bottini (PhD)\, National Research Institute for Agriculture\, Food and the Environment\, Prantsusmaa \n\n\n\nKüsimuste korral pöörduda Priit Paluoja poole\, priit.paluoja@ut.ee. \n\n\n\nEesti doktorikooli arsti- ja terviseteaduste\, veterinaaria haru
URL:https://www.doktorikool.ee/et/uritused/mitokondriaalsete-haiguste-keerukuse-dekodeerimine-multi-omika-ja-tehisintellekti-abil/
END:VEVENT
END:VCALENDAR